BEGIN:VCALENDAR
VERSION:2.0
PRODID:-//HDP User Group - ECPv6.10.1.1//NONSGML v1.0//EN
CALSCALE:GREGORIAN
METHOD:PUBLISH
X-ORIGINAL-URL:https://hdpusergroup.org
X-WR-CALDESC:Events for HDP User Group
REFRESH-INTERVAL;VALUE=DURATION:PT1H
X-Robots-Tag:noindex
X-PUBLISHED-TTL:PT1H
BEGIN:VTIMEZONE
TZID:America/Chicago
BEGIN:DAYLIGHT
TZOFFSETFROM:-0600
TZOFFSETTO:-0500
TZNAME:CDT
DTSTART:20200308T080000
END:DAYLIGHT
BEGIN:STANDARD
TZOFFSETFROM:-0500
TZOFFSETTO:-0600
TZNAME:CST
DTSTART:20201101T070000
END:STANDARD
END:VTIMEZONE
BEGIN:VEVENT
DTSTART:20200323T150000Z
DTEND:20200323T160000Z
DTSTAMP:20260424T111539
CREATED:20200302T162348Z
LAST-MODIFIED:20200302T162348Z
UID:15881-1584957600-1584961200@hdpusergroup.org
SUMMARY:Better CAF Eq
DESCRIPTION:Next update from Hubert\, Eric and Nik. 
URL:https://hdpusergroup.org/event/better-caf-eq-4/
CATEGORIES:Better CAF Acceleration Equation
ORGANIZER;CN=HDP:mailto:webmaster@hdpug.org
END:VEVENT
BEGIN:VEVENT
DTSTART:20200325T010000Z
DTEND:20200325T020000Z
DTSTAMP:20260424T111539
CREATED:20200311T064220Z
LAST-MODIFIED:20200311T064220Z
UID:15972-1585080000-1585083600@hdpusergroup.org
SUMMARY:High Speed Hybrid PWB Project Call
DESCRIPTION:High Speed Hybrid PWB Project Call 
URL:https://hdpusergroup.org/event/high-speed-hybrid-pwb-project-call-16/
CATEGORIES:High Speed Hybrid PWB
ORGANIZER;CN=HDP:mailto:webmaster@hdpug.org
END:VEVENT
BEGIN:VEVENT
DTSTART:20200325T140000Z
DTEND:20200325T150000Z
DTSTAMP:20260424T111539
CREATED:20200304T154711Z
LAST-MODIFIED:20200304T154711Z
UID:15893-1585126800-1585130400@hdpusergroup.org
SUMMARY:PFH Technology Project Call
DESCRIPTION:PFH Technology Project Call 
URL:https://hdpusergroup.org/event/pfh-technology-project-call-14/
CATEGORIES:PFH Technology
ORGANIZER;CN=HDP:mailto:webmaster@hdpug.org
END:VEVENT
BEGIN:VEVENT
DTSTART:20200325T150000Z
DTEND:20200325T160000Z
DTSTAMP:20260424T111539
CREATED:20200312T155914Z
LAST-MODIFIED:20200312T155914Z
UID:15979-1585130400-1585134000@hdpusergroup.org
SUMMARY:Backdrill under BGA telecom
DESCRIPTION:Backdrill under BGA telecom 
URL:https://hdpusergroup.org/event/backdrill-under-bga-telecom-3/
CATEGORIES:Backdrill Under BGA
ORGANIZER;CN=HDP:mailto:webmaster@hdpug.org
END:VEVENT
BEGIN:VEVENT
DTSTART:20200325T160000Z
DTEND:20200325T170000Z
DTSTAMP:20260424T111539
CREATED:20200325T135642Z
LAST-MODIFIED:20200325T135642Z
UID:16293-1585134000-1585137600@hdpusergroup.org
SUMMARY:Logo Call
DESCRIPTION:Martin\, Smitty\, Kim logo call 
URL:https://hdpusergroup.org/event/logo-call-3/
CATEGORIES:Staff Calendar
ORGANIZER;CN=HDP:mailto:webmaster@hdpug.org
END:VEVENT
BEGIN:VEVENT
DTSTART:20200325T180000Z
DTEND:20200325T190000Z
DTSTAMP:20260424T111539
CREATED:20200313T235222Z
LAST-MODIFIED:20200313T235222Z
UID:15984-1585141200-1585144800@hdpusergroup.org
SUMMARY:Board Thickness II
DESCRIPTION:Review status on progress\, if any\, on board design\, board build and componnt choice and cost. 
URL:https://hdpusergroup.org/event/board-thickness-ii-7/
CATEGORIES:Board Thickness Effect on ATC Reliability II
ORGANIZER;CN=HDP:mailto:webmaster@hdpug.org
END:VEVENT
BEGIN:VEVENT
DTSTART:20200325T200000Z
DTEND:20200325T210000Z
DTSTAMP:20260424T111539
CREATED:20200317T164736Z
LAST-MODIFIED:20200317T164736Z
UID:15998-1585148400-1585152000@hdpusergroup.org
SUMMARY:Photonic Soldering
DESCRIPTION:Talk about laminate\, board build\, component BoM\, DOE\, who is doing what\, scheduling. 
URL:https://hdpusergroup.org/event/photonic-soldering-4/
CATEGORIES:Photonic Soldering
ORGANIZER;CN=HDP:mailto:webmaster@hdpug.org
END:VEVENT
BEGIN:VEVENT
DTSTART:20200326T150000Z
DTEND:20200326T160000Z
DTSTAMP:20260424T111539
CREATED:20200312T152025Z
LAST-MODIFIED:20200312T152025Z
UID:15978-1585216800-1585220400@hdpusergroup.org
SUMMARY:ECM2 Project Call
DESCRIPTION:Project Meeting \n  
URL:https://hdpusergroup.org/event/ecm2-project-call-5/
CATEGORIES:Electro-Chemical Migration 2
ORGANIZER;CN=HDP:mailto:webmaster@hdpug.org
END:VEVENT
BEGIN:VEVENT
DTSTART:20200327T150000Z
DTEND:20200327T160000Z
DTSTAMP:20260424T111539
CREATED:20200317T143549Z
LAST-MODIFIED:20200317T143549Z
UID:15990-1585303200-1585306800@hdpusergroup.org
SUMMARY:Ultra Low Dk Glass
DESCRIPTION:Ultra Low Dk Glass 
URL:https://hdpusergroup.org/event/ultra-low-dk-glass-4/
CATEGORIES:Glass Weave
ORGANIZER;CN=HDP:mailto:webmaster@hdpug.org
END:VEVENT
END:VCALENDAR