BEGIN:VCALENDAR
VERSION:2.0
PRODID:-//HDP User Group - ECPv6.10.1.1//NONSGML v1.0//EN
CALSCALE:GREGORIAN
METHOD:PUBLISH
X-ORIGINAL-URL:https://hdpusergroup.org
X-WR-CALDESC:Events for HDP User Group
REFRESH-INTERVAL;VALUE=DURATION:PT1H
X-Robots-Tag:noindex
X-PUBLISHED-TTL:PT1H
BEGIN:VTIMEZONE
TZID:America/Chicago
BEGIN:DAYLIGHT
TZOFFSETFROM:-0600
TZOFFSETTO:-0500
TZNAME:CDT
DTSTART:20240310T080000
END:DAYLIGHT
BEGIN:STANDARD
TZOFFSETFROM:-0500
TZOFFSETTO:-0600
TZNAME:CST
DTSTART:20241103T070000
END:STANDARD
END:VTIMEZONE
BEGIN:VEVENT
DTSTART:20240103T160000Z
DTEND:20240103T170000Z
DTSTAMP:20260420T092423
CREATED:20231130T162228Z
LAST-MODIFIED:20231130T162228Z
UID:25018-1704276000-1704279600@hdpusergroup.org
SUMMARY:Materials #7 meeting
DESCRIPTION:Meeting 
URL:https://hdpusergroup.org/event/materials-7-meeting-24/
CATEGORIES:Materials #7
ORGANIZER;CN=HDP:mailto:webmaster@hdpug.org
END:VEVENT
BEGIN:VEVENT
DTSTART:20240103T170000Z
DTEND:20240103T180000Z
DTSTAMP:20260420T092423
CREATED:20231129T183207Z
LAST-MODIFIED:20231129T183207Z
UID:25014-1704279600-1704283200@hdpusergroup.org
SUMMARY:Backdrill Transition Project
DESCRIPTION:Project Meeting 
URL:https://hdpusergroup.org/event/backdrill-transition-project-3/
CATEGORIES:Back drill to Primary via Transition
ORGANIZER;CN=HDP:mailto:webmaster@hdpug.org
END:VEVENT
BEGIN:VEVENT
DTSTART:20240104T160000Z
DTEND:20240104T170000Z
DTSTAMP:20260420T092423
CREATED:20231207T165053Z
LAST-MODIFIED:20231207T165053Z
UID:25072-1704362400-1704366000@hdpusergroup.org
SUMMARY:Single Surface Finish 2 meeting
DESCRIPTION:Meeting 
URL:https://hdpusergroup.org/event/single-surface-finish-2-meeting-3/
CATEGORIES:Single PCB Surface Finish for Soldered & Compression Contact Pads – 2
ORGANIZER;CN=HDP:mailto:webmaster@hdpug.org
END:VEVENT
BEGIN:VEVENT
DTSTART:20240104T160000Z
DTEND:20240104T170000Z
DTSTAMP:20260420T092423
CREATED:20240102T204918Z
LAST-MODIFIED:20240102T204918Z
UID:25114-1704362400-1704366000@hdpusergroup.org
SUMMARY:IPC discussion
DESCRIPTION:Project plan review 
URL:https://hdpusergroup.org/event/ipc-discussion/
CATEGORIES:Staff Calendar
ORGANIZER;CN=HDP:mailto:webmaster@hdpug.org
END:VEVENT
BEGIN:VEVENT
DTSTART:20240108T160000Z
DTEND:20240108T170000Z
DTSTAMP:20260420T092423
CREATED:20231214T220323Z
LAST-MODIFIED:20231214T220323Z
UID:25000-1704708000-1704711600@hdpusergroup.org
SUMMARY:Final Finish Layer Deposits for High Frequency
DESCRIPTION:Final Finish Layer Deposits for High Frequency (Date was changed due to Richard's sudden circumstances) 
URL:https://hdpusergroup.org/event/final-finish-layer-deposits-for-high-frequency-38/
CATEGORIES:Final Finish Layer Deposits for High Frequency
ORGANIZER;CN=HDP:mailto:webmaster@hdpug.org
END:VEVENT
BEGIN:VEVENT
DTSTART:20240109T060000Z
DTEND:20240109T063000Z
DTSTAMP:20260420T092423
CREATED:20240109T045506Z
LAST-MODIFIED:20240109T045506Z
UID:25123-1704758400-1704760200@hdpusergroup.org
SUMMARY:WebEx new functions
DESCRIPTION:New fuctions check 
URL:https://hdpusergroup.org/event/webex-new-functions/
CATEGORIES:Staff Calendar
ORGANIZER;CN=HDP:mailto:webmaster@hdpug.org
END:VEVENT
BEGIN:VEVENT
DTSTART:20240109T170000Z
DTEND:20240109T180000Z
DTSTAMP:20260420T092423
CREATED:20231206T210945Z
LAST-MODIFIED:20231206T210945Z
UID:25069-1704798000-1704801600@hdpusergroup.org
SUMMARY:Copper Surface Roughness Model
DESCRIPTION:Project to model SI as relatrd to surface roughness of the copper 
URL:https://hdpusergroup.org/event/copper-surface-roughness-model-10/
CATEGORIES:Cu Surface Rougness Model
ORGANIZER;CN=HDP:mailto:webmaster@hdpug.org
END:VEVENT
BEGIN:VEVENT
DTSTART:20240109T180000Z
DTEND:20240109T190000Z
DTSTAMP:20260420T092423
CREATED:20231213T210331Z
LAST-MODIFIED:20231213T210331Z
UID:25095-1704801600-1704805200@hdpusergroup.org
SUMMARY:HDP Harsh Use Environment Salder Evaluations
DESCRIPTION:Periodic Project Review 
URL:https://hdpusergroup.org/event/hdp-harsh-use-environment-salder-evaluations/
CATEGORIES:Harsh Use Alloy Evaluation 2
ORGANIZER;CN=HDP:mailto:webmaster@hdpug.org
END:VEVENT
BEGIN:VEVENT
DTSTART:20240109T230000Z
DTEND:20240110T000000Z
DTSTAMP:20260420T092423
CREATED:20231226T152123Z
LAST-MODIFIED:20231226T152123Z
UID:25107-1704819600-1704823200@hdpusergroup.org
SUMMARY:Porosity
DESCRIPTION:Which porosity tests do we pursue? \nWhat are the pass/fail criteria? \nWhich finshes do we test? 
URL:https://hdpusergroup.org/event/porosity/
CATEGORIES:Porosity Testing
ORGANIZER;CN=HDP:mailto:webmaster@hdpug.org
END:VEVENT
BEGIN:VEVENT
DTSTART:20240110T160000Z
DTEND:20240110T170000Z
DTSTAMP:20260420T092423
CREATED:20231206T170512Z
LAST-MODIFIED:20231206T170512Z
UID:25068-1704880800-1704884400@hdpusergroup.org
SUMMARY:Sequential Lamination
DESCRIPTION:Meeting 
URL:https://hdpusergroup.org/event/sequential-lamination-12/
CATEGORIES:Sequential Lamination
ORGANIZER;CN=HDP:mailto:webmaster@hdpug.org
END:VEVENT
BEGIN:VEVENT
DTSTART:20240110T170000Z
DTEND:20240110T180000Z
DTSTAMP:20260420T092423
CREATED:20231208T202622Z
LAST-MODIFIED:20231208T202622Z
UID:25083-1704884400-1704888000@hdpusergroup.org
SUMMARY:Glass Type Comparisom
DESCRIPTION:Comparing tensile strength of two glass styles and three different plys under thermal conditions 
URL:https://hdpusergroup.org/event/glass-type-comparisom/
CATEGORIES:Glass Type Composition
ORGANIZER;CN=HDP:mailto:webmaster@hdpug.org
END:VEVENT
BEGIN:VEVENT
DTSTART:20240110T210000Z
DTEND:20240110T220000Z
DTSTAMP:20260420T092423
CREATED:20231212T211344Z
LAST-MODIFIED:20231212T211344Z
UID:25089-1704898800-1704902400@hdpusergroup.org
SUMMARY:Photonic Soldering II
DESCRIPTION:Update from Julie on drop testing and situation in Colorado 
URL:https://hdpusergroup.org/event/photonic-soldering-ii-23/
CATEGORIES:Photonic Soldering 2
ORGANIZER;CN=HDP:mailto:webmaster@hdpug.org
END:VEVENT
BEGIN:VEVENT
DTSTART:20240111T010000Z
DTEND:20240111T020000Z
DTSTAMP:20260420T092423
CREATED:20240109T150701Z
LAST-MODIFIED:20240109T150701Z
UID:25127-1704913200-1704916800@hdpusergroup.org
SUMMARY:CoTech HDP Discussion on May 2024 Member Meeting
DESCRIPTION:CoTech and HDP Discussion on May 2024 Member Meeting 
URL:https://hdpusergroup.org/event/cotech-hdp-discussion-on-may-2024-member-meeting/
CATEGORIES:Staff Calendar
ORGANIZER;CN=HDP:mailto:webmaster@hdpug.org
END:VEVENT
BEGIN:VEVENT
DTSTART:20240111T140000Z
DTEND:20240111T150000Z
DTSTAMP:20260420T092423
CREATED:20231130T143628Z
LAST-MODIFIED:20231130T143628Z
UID:25017-1704960000-1704963600@hdpusergroup.org
SUMMARY:Better CAF Eq
DESCRIPTION:Updates from Jason and Hubert 
URL:https://hdpusergroup.org/event/better-caf-eq-34/
CATEGORIES:Better CAF Acceleration Equation
ORGANIZER;CN=HDP:mailto:webmaster@hdpug.org
END:VEVENT
BEGIN:VEVENT
DTSTART:20240111T150000Z
DTEND:20240111T160000Z
DTSTAMP:20260420T092423
CREATED:20231213T154723Z
LAST-MODIFIED:20231213T154723Z
UID:25091-1704963600-1704967200@hdpusergroup.org
SUMMARY:ECM-3 Meeting
DESCRIPTION:Meeting 
URL:https://hdpusergroup.org/event/ecm-3-meeting-18/
CATEGORIES:ECM 3
ORGANIZER;CN=HDP:mailto:webmaster@hdpug.org
END:VEVENT
BEGIN:VEVENT
DTSTART:20240111T180000Z
DTEND:20240111T190000Z
DTSTAMP:20260420T092423
CREATED:20240108T143633Z
LAST-MODIFIED:20240108T143633Z
UID:25121-1704974400-1704978000@hdpusergroup.org
SUMMARY:IPC Discussion
DESCRIPTION:Idea collaboration project proposal 
URL:https://hdpusergroup.org/event/ipc-discussion-2/
CATEGORIES:Staff Calendar
ORGANIZER;CN=HDP:mailto:webmaster@hdpug.org
END:VEVENT
BEGIN:VEVENT
DTSTART:20240111T190000Z
DTEND:20240111T200000Z
DTSTAMP:20260420T092423
CREATED:20231214T185410Z
LAST-MODIFIED:20231214T185410Z
UID:25103-1704978000-1704981600@hdpusergroup.org
SUMMARY:Non-glass Microvia Buildups
DESCRIPTION:Getting closer to the build 
URL:https://hdpusergroup.org/event/non-glass-microvia-buildups-8/
CATEGORIES:Non-Glass Microvia Build-ups
ORGANIZER;CN=HDP:mailto:webmaster@hdpug.org
END:VEVENT
BEGIN:VEVENT
DTSTART:20240111T200000Z
DTEND:20240111T210000Z
DTSTAMP:20260420T092423
CREATED:20231130T201630Z
LAST-MODIFIED:20231130T201630Z
UID:25025-1704981600-1704985200@hdpusergroup.org
SUMMARY:Microvia Rel
DESCRIPTION:Updates from the chemical suppliers. \nWork on presentation for Members' Meeting 
URL:https://hdpusergroup.org/event/microvia-rel-41/
CATEGORIES:Microvia Reliability
ORGANIZER;CN=HDP:mailto:webmaster@hdpug.org
END:VEVENT
BEGIN:VEVENT
DTSTART:20240112T150000Z
DTEND:20240112T160000Z
DTSTAMP:20260420T092423
CREATED:20231201T151133Z
LAST-MODIFIED:20231201T151133Z
UID:25040-1705050000-1705053600@hdpusergroup.org
SUMMARY:Effects of Plating Thickness on CTF at IST Phase 2 Project Call
DESCRIPTION:Effects of Plating Thickness on CTF at IST Phase 2 Project Call 
URL:https://hdpusergroup.org/event/effects-of-plating-thickness-on-ctf-at-ist-phase-2-project-call-6/
CATEGORIES:Effects of Plating Thickness on CTF at IST Phase 2
ORGANIZER;CN=HDP:mailto:webmaster@hdpug.org
END:VEVENT
BEGIN:VEVENT
DTSTART:20240117T150000Z
DTEND:20240117T160000Z
DTSTAMP:20260420T092423
CREATED:20231213T162228Z
LAST-MODIFIED:20231213T162228Z
UID:25092-1705482000-1705485600@hdpusergroup.org
SUMMARY:Reflow Cycle Via Reliability Impact Project Call
DESCRIPTION:Reflow Cycle Via Reliability Impact Project Call 
URL:https://hdpusergroup.org/event/reflow-cycle-via-reliability-impact-project-call-4/
CATEGORIES:Reflow Cycle Via Reliability Impact
ORGANIZER;CN=HDP:mailto:webmaster@hdpug.org
END:VEVENT
BEGIN:VEVENT
DTSTART:20240117T160000Z
DTEND:20240117T170000Z
DTSTAMP:20260420T092423
CREATED:20231214T164514Z
LAST-MODIFIED:20231214T164514Z
UID:25100-1705485600-1705489200@hdpusergroup.org
SUMMARY:SIR Testing meeting
DESCRIPTION:Meeting 
URL:https://hdpusergroup.org/event/sir-testing-meeting-16/
CATEGORIES:Surface Insulation Resistance (SIR) Testing the Next Evolution
ORGANIZER;CN=HDP:mailto:webmaster@hdpug.org
END:VEVENT
BEGIN:VEVENT
DTSTART:20240117T203000Z
DTEND:20240117T210000Z
DTSTAMP:20260420T092423
CREATED:20240116T184339Z
LAST-MODIFIED:20240116T184339Z
UID:25252-1705501800-1705503600@hdpusergroup.org
SUMMARY:Op Plan Tech Section – Short call
DESCRIPTION:Call to discuss Tech Section –  
URL:https://hdpusergroup.org/event/op-plan-tech-section-short-call/
CATEGORIES:Staff Calendar
ORGANIZER;CN=HDP:mailto:webmaster@hdpug.org
END:VEVENT
BEGIN:VEVENT
DTSTART:20240118T160000Z
DTEND:20240118T170000Z
DTSTAMP:20260420T092423
CREATED:20240104T170256Z
LAST-MODIFIED:20240104T170256Z
UID:25119-1705572000-1705575600@hdpusergroup.org
SUMMARY:Single Surface Finish 2 meeting
DESCRIPTION:Meeting 
URL:https://hdpusergroup.org/event/single-surface-finish-2-meeting-4/
CATEGORIES:Single PCB Surface Finish for Soldered & Compression Contact Pads – 2
ORGANIZER;CN=HDP:mailto:webmaster@hdpug.org
END:VEVENT
BEGIN:VEVENT
DTSTART:20240118T180000Z
DTEND:20240118T190000Z
DTSTAMP:20260420T092423
CREATED:20240111T210536Z
LAST-MODIFIED:20240111T210536Z
UID:25202-1705579200-1705582800@hdpusergroup.org
SUMMARY:IPC Discussion
DESCRIPTION:Discuss IPC collaboration 
URL:https://hdpusergroup.org/event/ipc-discussion-3/
CATEGORIES:Staff Calendar
ORGANIZER;CN=HDP:mailto:webmaster@hdpug.org
END:VEVENT
BEGIN:VEVENT
DTSTART:20240119T170000Z
DTEND:20240119T180000Z
DTSTAMP:20260420T092423
CREATED:20240109T135006Z
LAST-MODIFIED:20240109T135006Z
UID:25124-1705662000-1705665600@hdpusergroup.org
SUMMARY:Permittivity of Cooling Liquids
DESCRIPTION:Cooling fluid effectiveness-evaluate non-PFAS fluids 
URL:https://hdpusergroup.org/event/permittivity-of-cooling-liquids-8/
CATEGORIES:Permittivity of Cooling Liquids
ORGANIZER;CN=HDP:mailto:webmaster@hdpug.org
END:VEVENT
BEGIN:VEVENT
DTSTART:20240122T160000Z
DTEND:20240122T170000Z
DTSTAMP:20260420T092423
CREATED:20240108T170326Z
LAST-MODIFIED:20240108T170326Z
UID:25122-1705917600-1705921200@hdpusergroup.org
SUMMARY:Final Finish Layer Deposits for High Frequency
DESCRIPTION:Final Finish Layer Deposits for High Frequency 
URL:https://hdpusergroup.org/event/final-finish-layer-deposits-for-high-frequency-39/
CATEGORIES:Final Finish Layer Deposits for High Frequency
ORGANIZER;CN=HDP:mailto:webmaster@hdpug.org
END:VEVENT
BEGIN:VEVENT
DTSTART:20240124T150000Z
DTEND:20240124T160000Z
DTSTAMP:20260420T092423
CREATED:20240111T152621Z
LAST-MODIFIED:20240111T152621Z
UID:25166-1706086800-1706090400@hdpusergroup.org
SUMMARY:ECM-3 Meeting
DESCRIPTION:Meeting 
URL:https://hdpusergroup.org/event/ecm-3-meeting-19/
CATEGORIES:ECM 3
ORGANIZER;CN=HDP:mailto:webmaster@hdpug.org
END:VEVENT
BEGIN:VEVENT
DTSTART:20240124T170000Z
DTEND:20240124T180000Z
DTSTAMP:20260420T092423
CREATED:20240103T162750Z
LAST-MODIFIED:20240103T162750Z
UID:25116-1706094000-1706097600@hdpusergroup.org
SUMMARY:Materials #7 meeting
DESCRIPTION:Meeting 
URL:https://hdpusergroup.org/event/materials-7-meeting-25/
CATEGORIES:Materials #7
ORGANIZER;CN=HDP:mailto:webmaster@hdpug.org
END:VEVENT
BEGIN:VEVENT
DTSTART:20240124T180000Z
DTEND:20240124T190000Z
DTSTAMP:20260420T092423
CREATED:20240110T211815Z
LAST-MODIFIED:20240110T211815Z
UID:25156-1706097600-1706101200@hdpusergroup.org
SUMMARY:Photonic Soldering 2
DESCRIPTION:Progress on drop testing \nStatus on ATC  
URL:https://hdpusergroup.org/event/photonic-soldering-2-17/
CATEGORIES:Photonic Soldering 2
ORGANIZER;CN=HDP:mailto:webmaster@hdpug.org
END:VEVENT
BEGIN:VEVENT
DTSTART:20240124T210000Z
DTEND:20240124T220000Z
DTSTAMP:20260420T092423
CREATED:20240123T152921Z
LAST-MODIFIED:20240123T152921Z
UID:25320-1706108400-1706112000@hdpusergroup.org
SUMMARY:IPC Discussion
DESCRIPTION:Call to discuss HDP project for standards data 
URL:https://hdpusergroup.org/event/ipc-discussion-4/
CATEGORIES:Staff Calendar
ORGANIZER;CN=HDP:mailto:webmaster@hdpug.org
END:VEVENT
END:VCALENDAR