BEGIN:VCALENDAR
VERSION:2.0
PRODID:-//HDP User Group - ECPv6.10.1.1//NONSGML v1.0//EN
CALSCALE:GREGORIAN
METHOD:PUBLISH
X-ORIGINAL-URL:https://hdpusergroup.org
X-WR-CALDESC:Events for HDP User Group
REFRESH-INTERVAL;VALUE=DURATION:PT1H
X-Robots-Tag:noindex
X-PUBLISHED-TTL:PT1H
BEGIN:VTIMEZONE
TZID:America/Chicago
BEGIN:DAYLIGHT
TZOFFSETFROM:-0600
TZOFFSETTO:-0500
TZNAME:CDT
DTSTART:20230312T080000
END:DAYLIGHT
BEGIN:STANDARD
TZOFFSETFROM:-0500
TZOFFSETTO:-0600
TZNAME:CST
DTSTART:20231105T070000
END:STANDARD
END:VTIMEZONE
BEGIN:VEVENT
DTSTART:20231101T140000Z
DTEND:20231101T150000Z
DTSTAMP:20260420T124926
CREATED:20231011T155104Z
LAST-MODIFIED:20231011T155104Z
UID:24863-1698829200-1698832800@hdpusergroup.org
SUMMARY:SIR Testing meeting
DESCRIPTION:Meeting 
URL:https://hdpusergroup.org/event/sir-testing-meeting-13/
CATEGORIES:Surface Insulation Resistance (SIR) Testing the Next Evolution
ORGANIZER;CN=HDP:mailto:webmaster@hdpug.org
END:VEVENT
BEGIN:VEVENT
DTSTART:20231101T150000Z
DTEND:20231101T160000Z
DTSTAMP:20260420T124926
CREATED:20231005T151713Z
LAST-MODIFIED:20231005T151713Z
UID:24818-1698832800-1698836400@hdpusergroup.org
SUMMARY:ECM-3 Meeting
DESCRIPTION:Meeting 
URL:https://hdpusergroup.org/event/ecm-3-meeting-15/
CATEGORIES:ECM 3
ORGANIZER;CN=HDP:mailto:webmaster@hdpug.org
END:VEVENT
BEGIN:VEVENT
DTSTART:20231102T020000Z
DTEND:20231102T030000Z
DTSTAMP:20260420T124926
CREATED:20231031T035825Z
LAST-MODIFIED:20231031T035825Z
UID:24932-1698872400-1698876000@hdpusergroup.org
SUMMARY:Chin Yee Chemical and HDP Introductory Meeting
DESCRIPTION:Chin Yee Chemical and HDP Introductory Meeting 
URL:https://hdpusergroup.org/event/chin-yee-chemical-and-hdp-introductory-meeting/
CATEGORIES:Staff Calendar
ORGANIZER;CN=HDP:mailto:webmaster@hdpug.org
END:VEVENT
BEGIN:VEVENT
DTSTART:20231102T160000Z
DTEND:20231102T170000Z
DTSTAMP:20260420T124926
CREATED:20230928T165043Z
LAST-MODIFIED:20230928T165043Z
UID:24802-1698922800-1698926400@hdpusergroup.org
SUMMARY:HDP Backdrill Transition Project
DESCRIPTION:Periodic Project Call 
URL:https://hdpusergroup.org/event/hdp-backdrill-transition-project-8/
CATEGORIES:Back drill to Primary via Transition
ORGANIZER;CN=HDP:mailto:webmaster@hdpug.org
END:VEVENT
BEGIN:VEVENT
DTSTART:20231102T170000Z
DTEND:20231102T180000Z
DTSTAMP:20260420T124926
CREATED:20231101T151305Z
LAST-MODIFIED:20231101T151305Z
UID:24816-1698926400-1698930000@hdpusergroup.org
SUMMARY:Microvia Rel
DESCRIPTION:Further progress 
URL:https://hdpusergroup.org/event/microvia-rel-39/
CATEGORIES:Microvia Reliability
ORGANIZER;CN=HDP:mailto:webmaster@hdpug.org
END:VEVENT
BEGIN:VEVENT
DTSTART:20231103T140000Z
DTEND:20231103T150000Z
DTSTAMP:20260420T124926
CREATED:20230927T142312Z
LAST-MODIFIED:20230927T142312Z
UID:24791-1699002000-1699005600@hdpusergroup.org
SUMMARY:Effects Of Plating Thickness on CTF at IST Phase 2 Project Call
DESCRIPTION:Effects Of Plating Thickness on CTF at IST Phase 2 Project Call 
URL:https://hdpusergroup.org/event/effects-of-plating-thickness-on-ctf-at-ist-phase-2-project-call-4/
CATEGORIES:Effects of Plating Thickness on CTF at IST Phase 2
ORGANIZER;CN=HDP:mailto:webmaster@hdpug.org
END:VEVENT
BEGIN:VEVENT
DTSTART:20231106T160000Z
DTEND:20231106T170000Z
DTSTAMP:20260420T124926
CREATED:20231016T152842Z
LAST-MODIFIED:20231016T152842Z
UID:24878-1699264800-1699268400@hdpusergroup.org
SUMMARY:Final Finish Layer Deposits for High Frequency
DESCRIPTION:Final Finish Layer Deposits for High Frequency 
URL:https://hdpusergroup.org/event/final-finish-layer-deposits-for-high-frequency-35/
CATEGORIES:Final Finish Layer Deposits for High Frequency
END:VEVENT
BEGIN:VEVENT
DTSTART:20231106T160000Z
DTEND:20231106T170000Z
DTSTAMP:20260420T124926
CREATED:20231016T153705Z
LAST-MODIFIED:20231016T153705Z
UID:24879-1699264800-1699268400@hdpusergroup.org
SUMMARY:Final Finish Layer Deposits for High Frequency
DESCRIPTION:Final Finish Layer Deposits for High Frequency 
URL:https://hdpusergroup.org/event/final-finish-layer-deposits-for-high-frequency-36/
CATEGORIES:Final Finish Layer Deposits for High Frequency
ORGANIZER;CN=HDP:mailto:webmaster@hdpug.org
END:VEVENT
BEGIN:VEVENT
DTSTART:20231107T170000Z
DTEND:20231107T180000Z
DTSTAMP:20260420T124926
CREATED:20231107T154734Z
LAST-MODIFIED:20231107T154734Z
UID:24822-1699354800-1699358400@hdpusergroup.org
SUMMARY:Copper Surface Roughness Model
DESCRIPTION:Using the Hurray Model to predict signal loss 
URL:https://hdpusergroup.org/event/copper-surface-roughness-model-8/
CATEGORIES:Cu Surface Rougness Model
ORGANIZER;CN=HDP:mailto:webmaster@hdpug.org
END:VEVENT
BEGIN:VEVENT
DTSTART:20231108T160000Z
DTEND:20231108T170000Z
DTSTAMP:20260420T124926
CREATED:20231004T160224Z
LAST-MODIFIED:20231004T160224Z
UID:24817-1699437600-1699441200@hdpusergroup.org
SUMMARY:Sequential Lamination
DESCRIPTION:Meeting 
URL:https://hdpusergroup.org/event/sequential-lamination-9/
CATEGORIES:Sequential Lamination
ORGANIZER;CN=HDP:mailto:webmaster@hdpug.org
END:VEVENT
BEGIN:VEVENT
DTSTART:20231108T170000Z
DTEND:20231108T180000Z
DTSTAMP:20260420T124926
CREATED:20230927T175902Z
LAST-MODIFIED:20230927T175902Z
UID:24796-1699441200-1699444800@hdpusergroup.org
SUMMARY:Glass TYpe Comparison
DESCRIPTION:Glass type comparison reliability 
URL:https://hdpusergroup.org/event/glass-type-comparison-7/
CATEGORIES:Glass Type Composition
ORGANIZER;CN=HDP:mailto:webmaster@hdpug.org
END:VEVENT
BEGIN:VEVENT
DTSTART:20231109T150000Z
DTEND:20231109T160000Z
DTSTAMP:20260420T124926
CREATED:20230928T144428Z
LAST-MODIFIED:20230928T144428Z
UID:24800-1699520400-1699524000@hdpusergroup.org
SUMMARY:Better CAF Eq
DESCRIPTION:Updates from Jason and Hubert. \nDisucss possiblity of additional testing 
URL:https://hdpusergroup.org/event/better-caf-eq-32/
CATEGORIES:Better CAF Acceleration Equation
ORGANIZER;CN=HDP:mailto:webmaster@hdpug.org
END:VEVENT
BEGIN:VEVENT
DTSTART:20231110T030000Z
DTEND:20231110T040000Z
DTSTAMP:20260420T124926
CREATED:20231107T085148Z
LAST-MODIFIED:20231107T085148Z
UID:24951-1699563600-1699567200@hdpusergroup.org
SUMMARY:SCC and HDP Introductory Meeting
DESCRIPTION:SCC and HDP Introductory Meeting 
URL:https://hdpusergroup.org/event/scc-and-hdp-introductory-meeting/
CATEGORIES:Staff Calendar
ORGANIZER;CN=HDP:mailto:webmaster@hdpug.org
END:VEVENT
BEGIN:VEVENT
DTSTART:20231113T200000Z
DTEND:20231113T210000Z
DTSTAMP:20260420T124926
CREATED:20231025T195408Z
LAST-MODIFIED:20231025T195408Z
UID:24904-1699884000-1699887600@hdpusergroup.org
SUMMARY:Non-glass Microvia Buildups
DESCRIPTION:Coupon and panel discussion. \nMoving closer to Implementation 
URL:https://hdpusergroup.org/event/non-glass-microvia-buildups-6/
CATEGORIES:Non-Glass Microvia Build-ups
ORGANIZER;CN=HDP:mailto:webmaster@hdpug.org
END:VEVENT
BEGIN:VEVENT
DTSTART:20231114T180000Z
DTEND:20231114T190000Z
DTSTAMP:20260420T124926
CREATED:20230926T152638Z
LAST-MODIFIED:20230926T152638Z
UID:24783-1699963200-1699966800@hdpusergroup.org
SUMMARY:HDP Harsh Use Alloy Evaluations Project Call
DESCRIPTION:Periodic project call 
URL:https://hdpusergroup.org/event/hdp-harsh-use-alloy-evaluations-project-call-4/
CATEGORIES:Harsh Use Alloy Evaluation 2
ORGANIZER;CN=HDP:mailto:webmaster@hdpug.org
END:VEVENT
BEGIN:VEVENT
DTSTART:20231114T200000Z
DTEND:20231114T210000Z
DTSTAMP:20260420T124926
CREATED:20231031T200218Z
LAST-MODIFIED:20231031T200218Z
UID:24933-1699970400-1699974000@hdpusergroup.org
SUMMARY:Photonic Soldering 2
DESCRIPTION:Drop progress \nRework possibility(ies) 
URL:https://hdpusergroup.org/event/photonic-soldering-2-14/
CATEGORIES:Photonic Soldering 2
ORGANIZER;CN=HDP:mailto:webmaster@hdpug.org
END:VEVENT
BEGIN:VEVENT
DTSTART:20231116T150000Z
DTEND:20231116T160000Z
DTSTAMP:20260420T124926
CREATED:20231101T151440Z
LAST-MODIFIED:20231101T151440Z
UID:24939-1700125200-1700128800@hdpusergroup.org
SUMMARY:ECM-3 Meeting
DESCRIPTION:Meeting 
URL:https://hdpusergroup.org/event/ecm-3-meeting-16/
CATEGORIES:ECM 3
ORGANIZER;CN=HDP:mailto:webmaster@hdpug.org
END:VEVENT
BEGIN:VEVENT
DTSTART:20231117T170000Z
DTEND:20231117T180000Z
DTSTAMP:20260420T124926
CREATED:20231105T142132Z
LAST-MODIFIED:20231105T142132Z
UID:24949-1700218800-1700222400@hdpusergroup.org
SUMMARY:Permittivity of Cooling Liquids
DESCRIPTION:Measuring efficacy and cost effectiveness of different cooling fluids. 
URL:https://hdpusergroup.org/event/permittivity-of-cooling-liquids-7/
CATEGORIES:Permittivity of Cooling Liquids
ORGANIZER;CN=HDP:mailto:webmaster@hdpug.org
END:VEVENT
BEGIN:VEVENT
DTSTART:20231117T170000Z
DTEND:20231117T180000Z
DTSTAMP:20260420T124926
CREATED:20231116T020005Z
LAST-MODIFIED:20231116T020005Z
UID:24948-1700218800-1700222400@hdpusergroup.org
SUMMARY:Permittivity of Cooling Liquids
DESCRIPTION:Measuring efficacy and cost effectiveness of different cooling fluids. 
URL:https://hdpusergroup.org/event/permittivity-of-cooling-liquids-6/
CATEGORIES:Permittivity of Cooling Liquids
ORGANIZER;CN=HDP:mailto:webmaster@hdpug.org
END:VEVENT
BEGIN:VEVENT
DTSTART:20231127T160000Z
DTEND:20231127T170000Z
DTSTAMP:20260420T124926
CREATED:20231106T162153Z
LAST-MODIFIED:20231106T162153Z
UID:24950-1701079200-1701082800@hdpusergroup.org
SUMMARY:Final Finish Layer Deposits for High Frequency
DESCRIPTION:Final Finish Layer Deposits for High Frequency 
URL:https://hdpusergroup.org/event/final-finish-layer-deposits-for-high-frequency-37/
CATEGORIES:Final Finish Layer Deposits for High Frequency
ORGANIZER;CN=HDP:mailto:webmaster@hdpug.org
END:VEVENT
BEGIN:VEVENT
DTSTART:20231128T160000Z
DTEND:20231128T170000Z
DTSTAMP:20260420T124926
CREATED:20231108T170046Z
LAST-MODIFIED:20231108T170046Z
UID:24955-1701165600-1701169200@hdpusergroup.org
SUMMARY:Sequential Lamination
DESCRIPTION:Meeting 
URL:https://hdpusergroup.org/event/sequential-lamination-10/
CATEGORIES:Sequential Lamination
ORGANIZER;CN=HDP:mailto:webmaster@hdpug.org
END:VEVENT
BEGIN:VEVENT
DTSTART:20231128T200000Z
DTEND:20231128T210000Z
DTSTAMP:20260420T124926
CREATED:20231114T202719Z
LAST-MODIFIED:20231114T202719Z
UID:24968-1701180000-1701183600@hdpusergroup.org
SUMMARY:Photonic Soldering 2
DESCRIPTION:Confirm new drop test conditions \nATC update 
URL:https://hdpusergroup.org/event/photonic-soldering-2-15/
CATEGORIES:Photonic Soldering 2
ORGANIZER;CN=HDP:mailto:webmaster@hdpug.org
END:VEVENT
BEGIN:VEVENT
DTSTART:20231129T020000Z
DTEND:20231129T030000Z
DTSTAMP:20260420T124926
CREATED:20231101T022036Z
LAST-MODIFIED:20231101T022036Z
UID:24935-1701201600-1701205200@hdpusergroup.org
SUMMARY:High Speed Hybrid PWB Project Call
DESCRIPTION:High Speed Hybrid PWB Project Call 
URL:https://hdpusergroup.org/event/high-speed-hybrid-pwb-project-call-51/
CATEGORIES:High Speed Hybrid PWB
ORGANIZER;CN=HDP:mailto:webmaster@hdpug.org
END:VEVENT
BEGIN:VEVENT
DTSTART:20231129T150000Z
DTEND:20231129T160000Z
DTSTAMP:20260420T124926
CREATED:20231030T154735Z
LAST-MODIFIED:20231030T154735Z
UID:24804-1701248400-1701252000@hdpusergroup.org
SUMMARY:Reflow Cycle Via Reliability Impact Project Call
DESCRIPTION:Reflow Cycle Via Reliability Impact Project Call 
URL:https://hdpusergroup.org/event/reflow-cycle-via-reliability-impact-project-call-2/
CATEGORIES:Reflow Cycle Via Reliability Impact
ORGANIZER;CN=HDP:mailto:webmaster@hdpug.org
END:VEVENT
BEGIN:VEVENT
DTSTART:20231129T160000Z
DTEND:20231129T170000Z
DTSTAMP:20260420T124926
CREATED:20231101T142332Z
LAST-MODIFIED:20231101T142332Z
UID:24937-1701252000-1701255600@hdpusergroup.org
SUMMARY:SIR Testing meeting
DESCRIPTION:Meeting 
URL:https://hdpusergroup.org/event/sir-testing-meeting-14/
CATEGORIES:Surface Insulation Resistance (SIR) Testing the Next Evolution
ORGANIZER;CN=HDP:mailto:webmaster@hdpug.org
END:VEVENT
BEGIN:VEVENT
DTSTART:20231129T170000Z
DTEND:20231129T180000Z
DTSTAMP:20260420T124926
CREATED:20231108T042115Z
LAST-MODIFIED:20231108T042115Z
UID:24953-1701255600-1701259200@hdpusergroup.org
SUMMARY:HDP Backdrill Transition Project
DESCRIPTION:Project Meeting 
URL:https://hdpusergroup.org/event/hdp-backdrill-transition-project-9/
CATEGORIES:Staff Calendar
ORGANIZER;CN=HDP:mailto:webmaster@hdpug.org
END:VEVENT
BEGIN:VEVENT
DTSTART:20231129T223000Z
DTEND:20231129T230000Z
DTSTAMP:20260420T124926
CREATED:20231129T213333Z
LAST-MODIFIED:20231129T213333Z
UID:25015-1701275400-1701277200@hdpusergroup.org
SUMMARY:Karl training call
DESCRIPTION:Call to review meeting set. up 
URL:https://hdpusergroup.org/event/karl-training-call/
CATEGORIES:Staff Calendar
ORGANIZER;CN=HDP:mailto:webmaster@hdpug.org
END:VEVENT
BEGIN:VEVENT
DTSTART:20231130T000000Z
DTEND:20231130T010000Z
DTSTAMP:20260420T124926
CREATED:20231114T150028Z
LAST-MODIFIED:20231114T150028Z
UID:24964-1701280800-1701284400@hdpusergroup.org
SUMMARY:Possible New HDP Project
DESCRIPTION:Possible new porosity test project 
URL:https://hdpusergroup.org/event/possible-new-hdp-project/
CATEGORIES:Staff Calendar
ORGANIZER;CN=HDP:mailto:webmaster@hdpug.org
END:VEVENT
BEGIN:VEVENT
DTSTART:20231130T010000Z
DTEND:20231130T020000Z
DTSTAMP:20260420T124926
CREATED:20231012T013427Z
LAST-MODIFIED:20231012T013427Z
UID:24866-1701284400-1701288000@hdpusergroup.org
SUMMARY:Non Contact Copper Profile Project Call
DESCRIPTION:Non Contact Copper Profile Project Call 
URL:https://hdpusergroup.org/event/non-contact-copper-profile-project-call/
CATEGORIES:Non-Contact Copper Foil Profile
ORGANIZER;CN=HDP:mailto:webmaster@hdpug.org
END:VEVENT
BEGIN:VEVENT
DTSTART:20231130T140000Z
DTEND:20231130T150000Z
DTSTAMP:20260420T124926
CREATED:20231121T203607Z
LAST-MODIFIED:20231121T203607Z
UID:24985-1701331200-1701334800@hdpusergroup.org
SUMMARY:Better CAF Eq
DESCRIPTION:Updates from Hubert and Jason 
URL:https://hdpusergroup.org/event/better-caf-eq-33/
CATEGORIES:Better CAF Acceleration Equation
ORGANIZER;CN=HDP:mailto:webmaster@hdpug.org
END:VEVENT
END:VCALENDAR