BEGIN:VCALENDAR
VERSION:2.0
PRODID:-//HDP User Group - ECPv6.10.1.1//NONSGML v1.0//EN
CALSCALE:GREGORIAN
METHOD:PUBLISH
X-ORIGINAL-URL:https://hdpusergroup.org
X-WR-CALDESC:Events for HDP User Group
REFRESH-INTERVAL;VALUE=DURATION:PT1H
X-Robots-Tag:noindex
X-PUBLISHED-TTL:PT1H
BEGIN:VTIMEZONE
TZID:America/Chicago
BEGIN:DAYLIGHT
TZOFFSETFROM:-0600
TZOFFSETTO:-0500
TZNAME:CDT
DTSTART:20230312T080000
END:DAYLIGHT
BEGIN:STANDARD
TZOFFSETFROM:-0500
TZOFFSETTO:-0600
TZNAME:CST
DTSTART:20231105T070000
END:STANDARD
END:VTIMEZONE
BEGIN:VEVENT
DTSTART:20230301T180000Z
DTEND:20230301T190000Z
DTSTAMP:20260421T055949
CREATED:20230217T172530Z
LAST-MODIFIED:20230217T172530Z
UID:23784-1677672000-1677675600@hdpusergroup.org
SUMMARY:TA Method
DESCRIPTION:Update on data analysis. Ready to start on initial part of report? 
URL:https://hdpusergroup.org/event/ta-method-10/
CATEGORIES:Thermal Analysis Methodolgy Assessment
ORGANIZER;CN=HDP:mailto:webmaster@hdpug.org
END:VEVENT
BEGIN:VEVENT
DTSTART:20230301T190000Z
DTEND:20230301T200000Z
DTSTAMP:20260421T055949
CREATED:20230217T173040Z
LAST-MODIFIED:20230217T173040Z
UID:23785-1677675600-1677679200@hdpusergroup.org
SUMMARY:PCB Feature Min
DESCRIPTION:Work on final report. \nTalk about possible phase 2. 
URL:https://hdpusergroup.org/event/pcb-feature-min-33/
CATEGORIES:PCB Feature Miniaturization
ORGANIZER;CN=HDP:mailto:webmaster@hdpug.org
END:VEVENT
BEGIN:VEVENT
DTSTART:20230301T200000Z
DTEND:20230301T210000Z
DTSTAMP:20260421T055949
CREATED:20230201T211508Z
LAST-MODIFIED:20230201T211508Z
UID:23726-1677679200-1677682800@hdpusergroup.org
SUMMARY:Photo Soldering 2
DESCRIPTION:Status on reflow boards and drop testing. 
URL:https://hdpusergroup.org/event/photo-soldering-2-4/
CATEGORIES:Photonic Soldering 2
ORGANIZER;CN=HDP:mailto:webmaster@hdpug.org
END:VEVENT
BEGIN:VEVENT
DTSTART:20230302T170000Z
DTEND:20230302T180000Z
DTSTAMP:20260421T055949
CREATED:20230126T175125Z
LAST-MODIFIED:20230126T175125Z
UID:23711-1677754800-1677758400@hdpusergroup.org
SUMMARY:Backdrill Transition Project
DESCRIPTION:Periodic Project Call 
URL:https://hdpusergroup.org/event/backdrill-transition-project/
CATEGORIES:Back drill to Primary via Transition
ORGANIZER;CN=HDP:mailto:webmaster@hdpug.org
END:VEVENT
BEGIN:VEVENT
DTSTART:20230306T170000Z
DTEND:20230306T180000Z
DTSTAMP:20260421T055949
CREATED:20230227T162751Z
LAST-MODIFIED:20230227T162751Z
UID:23829-1678100400-1678104000@hdpusergroup.org
SUMMARY:Cu Surface Roughness Model
DESCRIPTION:Hurray Model to  predict signal loss 
URL:https://hdpusergroup.org/event/cu-surface-roughness-model-6/
CATEGORIES:Cu Surface Rougness Model
ORGANIZER;CN=HDP:mailto:webmaster@hdpug.org
END:VEVENT
BEGIN:VEVENT
DTSTART:20230307T010000Z
DTEND:20230307T020000Z
DTSTAMP:20260421T055949
CREATED:20230207T014448Z
LAST-MODIFIED:20230207T014448Z
UID:23744-1678129200-1678132800@hdpusergroup.org
SUMMARY:Non Contact CF Profile Project Call
DESCRIPTION:Non Contact CF Profile Project Call 
URL:https://hdpusergroup.org/event/non-contact-cf-profile-project-call-4/
CATEGORIES:Non-Contact Copper Foil Profile
ORGANIZER;CN=HDP:mailto:webmaster@hdpug.org
END:VEVENT
BEGIN:VEVENT
DTSTART:20230307T140000Z
DTEND:20230307T150000Z
DTSTAMP:20260421T055949
CREATED:20230306T215343Z
LAST-MODIFIED:20230306T215343Z
UID:23860-1678176000-1678179600@hdpusergroup.org
SUMMARY:Weekly Staff call
DESCRIPTION:Weekly Staff Call 
URL:https://hdpusergroup.org/event/weekly-staff-call-3/2023-03-07/
CATEGORIES:Staff Calendar
ORGANIZER;CN=HDP:mailto:webmaster@hdpug.org
END:VEVENT
BEGIN:VEVENT
DTSTART:20230307T180000Z
DTEND:20230307T190000Z
DTSTAMP:20260421T055949
CREATED:20230209T180906Z
LAST-MODIFIED:20230209T180906Z
UID:23755-1678190400-1678194000@hdpusergroup.org
SUMMARY:Harsh Use Alloy Evaluation Projects
DESCRIPTION:Periodic Project Call 
URL:https://hdpusergroup.org/event/harsh-use-alloy-evaluation-projects-2/
CATEGORIES:Harsh Use Alloy Evaluation 2
ORGANIZER;CN=HDP:mailto:webmaster@hdpug.org
END:VEVENT
BEGIN:VEVENT
DTSTART:20230308T150000Z
DTEND:20230308T160000Z
DTSTAMP:20260421T055949
CREATED:20230222T160938Z
LAST-MODIFIED:20230222T160938Z
UID:23801-1678266000-1678269600@hdpusergroup.org
SUMMARY:SIR Testing meeting
DESCRIPTION:Meeting 
URL:https://hdpusergroup.org/event/sir-testing-meeting-3/
CATEGORIES:Surface Insulation Resistance (SIR) Testing the Next Evolution
ORGANIZER;CN=HDP:mailto:webmaster@hdpug.org
END:VEVENT
BEGIN:VEVENT
DTSTART:20230308T160000Z
DTEND:20230308T170000Z
DTSTAMP:20260421T055949
CREATED:20230207T163106Z
LAST-MODIFIED:20230207T163106Z
UID:23749-1678269600-1678273200@hdpusergroup.org
SUMMARY:ECM-3 Meeting
DESCRIPTION:Meeting 
URL:https://hdpusergroup.org/event/ecm-3-meeting-5/
CATEGORIES:ECM 3
ORGANIZER;CN=HDP:mailto:webmaster@hdpug.org
END:VEVENT
BEGIN:VEVENT
DTSTART:20230308T170000Z
DTEND:20230308T180000Z
DTSTAMP:20260421T055949
CREATED:20230227T163256Z
LAST-MODIFIED:20230227T163256Z
UID:23830-1678273200-1678276800@hdpusergroup.org
SUMMARY:Reduced Cost CAF
DESCRIPTION:Finding lower cost method to predict CAF failures 
URL:https://hdpusergroup.org/event/reduced-cost-caf-10/
CATEGORIES:Reduced Cost CAF
ORGANIZER;CN=HDP:mailto:webmaster@hdpug.org
END:VEVENT
BEGIN:VEVENT
DTSTART:20230309T140000Z
DTEND:20230309T150000Z
DTSTAMP:20260421T055949
CREATED:20230217T171730Z
LAST-MODIFIED:20230217T171730Z
UID:23783-1678348800-1678352400@hdpusergroup.org
SUMMARY:Better CAF Eq
DESCRIPTION:Updates from Jason and Hubert. Plus do we cahange 45C to 50C? 
URL:https://hdpusergroup.org/event/better-caf-eq-27/
CATEGORIES:Better CAF Acceleration Equation
ORGANIZER;CN=HDP:mailto:webmaster@hdpug.org
END:VEVENT
BEGIN:VEVENT
DTSTART:20230309T160000Z
DTEND:20230309T170000Z
DTSTAMP:20260421T055949
CREATED:20230209T220757Z
LAST-MODIFIED:20230209T220757Z
UID:23760-1678356000-1678359600@hdpusergroup.org
SUMMARY:Materials #7 meeting
DESCRIPTION:Meeting 
URL:https://hdpusergroup.org/event/materials-7-meeting-14/
CATEGORIES:Materials #7
ORGANIZER;CN=HDP:mailto:webmaster@hdpug.org
END:VEVENT
BEGIN:VEVENT
DTSTART:20230309T210000Z
DTEND:20230309T220000Z
DTSTAMP:20260421T055949
CREATED:20230224T164245Z
LAST-MODIFIED:20230224T164245Z
UID:23828-1678374000-1678377600@hdpusergroup.org
SUMMARY:Cu Surfact Treatment vs Loss - project call
DESCRIPTION:Project call \n·       Discuss the composition of Alloy formation after lamination \n·       Interpretation of AFM results \n·       Discuss final report \n  
URL:https://hdpusergroup.org/event/cu-surfact-treatment-vs-loss-project-call/
CATEGORIES:Cu Grain Structure
ORGANIZER;CN=HDP:mailto:webmaster@hdpug.org
END:VEVENT
BEGIN:VEVENT
DTSTART:20230310T170000Z
DTEND:20230310T180000Z
DTSTAMP:20260421T055949
CREATED:20230310T010504Z
LAST-MODIFIED:20230310T010504Z
UID:23897-1678446000-1678449600@hdpusergroup.org
SUMMARY:Call with Yaw
DESCRIPTION:Discuss AFM correlation 
URL:https://hdpusergroup.org/event/call-with-yaw/
CATEGORIES:Staff Calendar
ORGANIZER;CN=HDP:mailto:webmaster@hdpug.org
END:VEVENT
BEGIN:VEVENT
DTSTART:20230313T120000Z
DTEND:20230313T130000Z
DTSTAMP:20260421T055949
CREATED:20230302T212428Z
LAST-MODIFIED:20230302T212428Z
UID:23852-1678690800-1678694400@hdpusergroup.org
SUMMARY:Information Release
DESCRIPTION:Meeting 
URL:https://hdpusergroup.org/event/information-release/
CATEGORIES:Staff Calendar
ORGANIZER;CN=HDP:mailto:webmaster@hdpug.org
END:VEVENT
BEGIN:VEVENT
DTSTART:20230313T130000Z
DTEND:20230313T140000Z
DTSTAMP:20260421T055949
CREATED:20230302T211832Z
LAST-MODIFIED:20230302T211832Z
UID:23850-1678694400-1678698000@hdpusergroup.org
SUMMARY:Meeting on releasing information
DESCRIPTION:Meeting 
URL:https://hdpusergroup.org/event/meeting-on-releasing-information/
CATEGORIES:Staff Calendar
ORGANIZER;CN=HDP:mailto:webmaster@hdpug.org
END:VEVENT
BEGIN:VEVENT
DTSTART:20230313T150000Z
DTEND:20230313T160000Z
DTSTAMP:20260421T055949
CREATED:20230227T164026Z
LAST-MODIFIED:20230227T164026Z
UID:23832-1678701600-1678705200@hdpusergroup.org
SUMMARY:Final Finish Layer Deposits for High Frequency
DESCRIPTION:Final Finish Layer Deposits for High Frequency 
URL:https://hdpusergroup.org/event/final-finish-layer-deposits-for-high-frequency-19/
CATEGORIES:Final Finish Layer Deposits for High Frequency
ORGANIZER;CN=HDP:mailto:webmaster@hdpug.org
END:VEVENT
BEGIN:VEVENT
DTSTART:20230314T160000Z
DTEND:20230314T170000Z
DTSTAMP:20260421T055949
CREATED:20230307T131559Z
LAST-MODIFIED:20230307T131559Z
UID:23879-1678791600-1678795200@hdpusergroup.org
SUMMARY:Microvia Rel
DESCRIPTION:preparing schedule 
URL:https://hdpusergroup.org/event/microvia-rel-27/
CATEGORIES:Microvia Reliability
ORGANIZER;CN=HDP:mailto:webmaster@hdpug.org
END:VEVENT
BEGIN:VEVENT
DTSTART:20230315T020000Z
DTEND:20230315T030000Z
DTSTAMP:20260421T055949
CREATED:20230111T021247Z
LAST-MODIFIED:20230111T021247Z
UID:23607-1678827600-1678831200@hdpusergroup.org
SUMMARY:High Speed Hybrid PWB Project Call
DESCRIPTION:High Speed Hybrid PWB Project Call 
URL:https://hdpusergroup.org/event/high-speed-hybrid-pwb-project-call-45/
CATEGORIES:High Speed Hybrid PWB
ORGANIZER;CN=HDP:mailto:webmaster@hdpug.org
END:VEVENT
BEGIN:VEVENT
DTSTART:20230315T160000Z
DTEND:20230315T170000Z
DTSTAMP:20260421T055949
CREATED:20230222T182548Z
LAST-MODIFIED:20230222T182548Z
UID:23803-1678878000-1678881600@hdpusergroup.org
SUMMARY:Cu Peel Strength 2
DESCRIPTION:Measuring peel strength with different copper foils 
URL:https://hdpusergroup.org/event/cu-peel-strength-2-10/
CATEGORIES:Cu Peel Strength 2
ORGANIZER;CN=HDP:mailto:webmaster@hdpug.org
END:VEVENT
BEGIN:VEVENT
DTSTART:20230315T200000Z
DTEND:20230315T210000Z
DTSTAMP:20260421T055949
CREATED:20230301T201653Z
LAST-MODIFIED:20230301T201653Z
UID:23842-1678892400-1678896000@hdpusergroup.org
SUMMARY:Photo Solder 2
DESCRIPTION:Updates on reflow and drop testing 
URL:https://hdpusergroup.org/event/photo-solder-2-5/
CATEGORIES:Photonic Soldering 2
ORGANIZER;CN=HDP:mailto:webmaster@hdpug.org
END:VEVENT
BEGIN:VEVENT
DTSTART:20230316T170000Z
DTEND:20230316T180000Z
DTSTAMP:20260421T055949
CREATED:20230309T132858Z
LAST-MODIFIED:20230309T132858Z
UID:23891-1678968000-1678971600@hdpusergroup.org
SUMMARY:Reduced Cost CAF
DESCRIPTION:Finalize defintion and make decision on CAF testing 
URL:https://hdpusergroup.org/event/reduced-cost-caf-11/
CATEGORIES:Reduced Cost CAF
ORGANIZER;CN=HDP:mailto:webmaster@hdpug.org
END:VEVENT
BEGIN:VEVENT
DTSTART:20230316T190000Z
DTEND:20230316T200000Z
DTSTAMP:20260421T055949
CREATED:20230301T195354Z
LAST-MODIFIED:20230301T195354Z
UID:23841-1678975200-1678978800@hdpusergroup.org
SUMMARY:PCB Feature Min
DESCRIPTION:Status of final report \nFurther discussion on phase 2 
URL:https://hdpusergroup.org/event/pcb-feature-min-34/
CATEGORIES:PCB Feature Miniaturization
ORGANIZER;CN=HDP:mailto:webmaster@hdpug.org
END:VEVENT
BEGIN:VEVENT
DTSTART:20230317T150000Z
DTEND:20230317T160000Z
DTSTAMP:20260421T055949
CREATED:20230307T163323Z
LAST-MODIFIED:20230307T163323Z
UID:23881-1679047200-1679050800@hdpusergroup.org
SUMMARY:Permittivity of Direct  Cooling Liquids
DESCRIPTION:Cooling liquids and effect on permittivity 
URL:https://hdpusergroup.org/event/permittivity-of-direct-cooling-liquids/
CATEGORIES:Staff Calendar
ORGANIZER;CN=HDP:mailto:webmaster@hdpug.org
END:VEVENT
BEGIN:VEVENT
DTSTART:20230321T150000Z
DTEND:20230321T160000Z
DTSTAMP:20260421T055949
CREATED:20230309T141948Z
LAST-MODIFIED:20230309T141948Z
UID:23895-1679392800-1679396400@hdpusergroup.org
SUMMARY:Better CAF Eq
DESCRIPTION:Updates from Hubert and Jason 
URL:https://hdpusergroup.org/event/better-caf-eq-28/
CATEGORIES:Better CAF Acceleration Equation
ORGANIZER;CN=HDP:mailto:webmaster@hdpug.org
END:VEVENT
BEGIN:VEVENT
DTSTART:20230322T160000Z
DTEND:20230322T170000Z
DTSTAMP:20260421T055949
CREATED:20230307T190951Z
LAST-MODIFIED:20230307T190951Z
UID:23882-1679482800-1679486400@hdpusergroup.org
SUMMARY:Kickoff Meeting – Large Footprint BGA Warpage Project
DESCRIPTION:Project Kickoff Meeting — Large Footprint BGA Warpage Project 
URL:https://hdpusergroup.org/event/kickoff-meeting-large-footprint-bga-warpage-project/
CATEGORIES:Staff Calendar
ORGANIZER;CN=HDP:mailto:webmaster@hdpug.org
END:VEVENT
BEGIN:VEVENT
DTSTART:20230322T170000Z
DTEND:20230322T180000Z
DTSTAMP:20260421T055949
CREATED:20230301T183831Z
LAST-MODIFIED:20230301T183831Z
UID:23840-1679486400-1679490000@hdpusergroup.org
SUMMARY:TA Method
DESCRIPTION:Status of extra testing \nStatus on final report 
URL:https://hdpusergroup.org/event/ta-method-11/
CATEGORIES:Thermal Analysis Methodolgy Assessment
ORGANIZER;CN=HDP:mailto:webmaster@hdpug.org
END:VEVENT
BEGIN:VEVENT
DTSTART:20230322T180000Z
DTEND:20230322T190000Z
DTSTAMP:20260421T055949
CREATED:20230314T205037Z
LAST-MODIFIED:20230314T205037Z
UID:23816-1679490000-1679493600@hdpusergroup.org
SUMMARY:Single Surface Finish meeting
DESCRIPTION:Meeting 
URL:https://hdpusergroup.org/event/single-surface-finish-meeting-22/
CATEGORIES:Single Surface Finish for Soldered & Compression
ORGANIZER;CN=HDP:mailto:webmaster@hdpug.org
END:VEVENT
BEGIN:VEVENT
DTSTART:20230322T190000Z
DTEND:20230322T200000Z
DTSTAMP:20260421T055949
CREATED:20230321T125214Z
LAST-MODIFIED:20230321T125214Z
UID:23926-1679493600-1679497200@hdpusergroup.org
SUMMARY:Website Redesign Kick-Off Call
DESCRIPTION:Kick-Off call for website redesign team. 
URL:https://hdpusergroup.org/event/website-redesign-kick-off-call/
CATEGORIES:Staff Calendar
ORGANIZER;CN=HDP:mailto:webmaster@hdpug.org
END:VEVENT
END:VCALENDAR