BEGIN:VCALENDAR
VERSION:2.0
PRODID:-//HDP User Group - ECPv6.10.1.1//NONSGML v1.0//EN
CALSCALE:GREGORIAN
METHOD:PUBLISH
X-ORIGINAL-URL:https://hdpusergroup.org
X-WR-CALDESC:Events for HDP User Group
REFRESH-INTERVAL;VALUE=DURATION:PT1H
X-Robots-Tag:noindex
X-PUBLISHED-TTL:PT1H
BEGIN:VTIMEZONE
TZID:America/Chicago
BEGIN:DAYLIGHT
TZOFFSETFROM:-0600
TZOFFSETTO:-0500
TZNAME:CDT
DTSTART:20220313T080000
END:DAYLIGHT
BEGIN:STANDARD
TZOFFSETFROM:-0500
TZOFFSETTO:-0600
TZNAME:CST
DTSTART:20221106T070000
END:STANDARD
END:VTIMEZONE
BEGIN:VEVENT
DTSTART:20220901T140000Z
DTEND:20220901T150000Z
DTSTAMP:20260421T133254
CREATED:20220823T125313Z
LAST-MODIFIED:20220823T125313Z
UID:23104-1662022800-1662026400@hdpusergroup.org
SUMMARY:Better CAF EQ
DESCRIPTION:Updates from Jason and Hubert 
URL:https://hdpusergroup.org/event/better-caf-eq-21/
CATEGORIES:Better CAF Acceleration Equation
ORGANIZER;CN=HDP:mailto:webmaster@hdpug.org
END:VEVENT
BEGIN:VEVENT
DTSTART:20220901T150000Z
DTEND:20220901T160000Z
DTSTAMP:20260421T133254
CREATED:20220817T160030Z
LAST-MODIFIED:20220817T160030Z
UID:23075-1662026400-1662030000@hdpusergroup.org
SUMMARY:Materials #7 meeting
DESCRIPTION:Meeting 
URL:https://hdpusergroup.org/event/materials-7-meeting-6/
CATEGORIES:Materials #7
ORGANIZER;CN=HDP:mailto:webmaster@hdpug.org
END:VEVENT
BEGIN:VEVENT
DTSTART:20220901T160000Z
DTEND:20220901T170000Z
DTSTAMP:20260421T133254
CREATED:20220811T170932Z
LAST-MODIFIED:20220811T170932Z
UID:23053-1662030000-1662033600@hdpusergroup.org
SUMMARY:TA Method
DESCRIPTION:All samples should have complleted initial manufacture. \nAll samples requiring etching should have reached Jenny \nJenny and Sarah will have completed more testing 
URL:https://hdpusergroup.org/event/ta-method-4/
CATEGORIES:Thermal Analysis Methodolgy Assessment
ORGANIZER;CN=HDP:mailto:webmaster@hdpug.org
END:VEVENT
BEGIN:VEVENT
DTSTART:20220901T190000Z
DTEND:20220901T200000Z
DTSTAMP:20260421T133254
CREATED:20220823T152407Z
LAST-MODIFIED:20220823T152407Z
UID:23106-1662040800-1662044400@hdpusergroup.org
SUMMARY:Microvia Rel
DESCRIPTION:Continue fleshing out project parameters 
URL:https://hdpusergroup.org/event/microvia-rel-16/
CATEGORIES:Microvia Reliability
ORGANIZER;CN=HDP:mailto:webmaster@hdpug.org
END:VEVENT
BEGIN:VEVENT
DTSTART:20220902T140000Z
DTEND:20220902T150000Z
DTSTAMP:20260421T133254
CREATED:20220813T043117Z
LAST-MODIFIED:20220813T043117Z
UID:23018-1662109200-1662112800@hdpusergroup.org
SUMMARY:Effects of Plating Thickness on CTF at IST Project Call
DESCRIPTION:Effects of Plating Thickness on CTF at IST Project Call 
URL:https://hdpusergroup.org/event/effects-of-plating-thickness-on-ctf-at-ist-project-call-16/
CATEGORIES:Effects of Plating Thickness on Cycles to Failure at IST
ORGANIZER;CN=HDP:mailto:webmaster@hdpug.org
END:VEVENT
BEGIN:VEVENT
DTSTART:20220902T160000Z
DTEND:20220902T170000Z
DTSTAMP:20260421T133254
CREATED:20220811T233845Z
LAST-MODIFIED:20220811T233845Z
UID:23057-1662116400-1662120000@hdpusergroup.org
SUMMARY:Copper Surface Roughness Model
DESCRIPTION:Discuss whether or not to continue projet  
URL:https://hdpusergroup.org/event/copper-surface-roughness-model-2/
CATEGORIES:Cu Surface Rougness Model
ORGANIZER;CN=HDP:mailto:webmaster@hdpug.org
END:VEVENT
BEGIN:VEVENT
DTSTART:20220906T150000Z
DTEND:20220906T160000Z
DTSTAMP:20260421T133254
CREATED:20220901T165758Z
LAST-MODIFIED:20220901T165758Z
UID:23152-1662458400-1662462000@hdpusergroup.org
SUMMARY:Technical Direction
DESCRIPTION:Technical direction discussion 
URL:https://hdpusergroup.org/event/technical-direction/
CATEGORIES:Staff Calendar
ORGANIZER;CN=HDP:mailto:webmaster@hdpug.org
END:VEVENT
BEGIN:VEVENT
DTSTART:20220907T160000Z
DTEND:20220907T170000Z
DTSTAMP:20260421T133254
CREATED:20220810T164146Z
LAST-MODIFIED:20220810T164146Z
UID:23046-1662548400-1662552000@hdpusergroup.org
SUMMARY:Backdrill Transition Telecom
DESCRIPTION:Backdrill Transition Telecom 
URL:https://hdpusergroup.org/event/backdrill-transition-telecom-2/
CATEGORIES:Back drill to Primary via Transition
ORGANIZER;CN=HDP:mailto:webmaster@hdpug.org
END:VEVENT
BEGIN:VEVENT
DTSTART:20220908T160000Z
DTEND:20220908T170000Z
DTSTAMP:20260421T133254
CREATED:20220901T171131Z
LAST-MODIFIED:20220901T171131Z
UID:23156-1662634800-1662638400@hdpusergroup.org
SUMMARY:TA Method
DESCRIPTION:Updates on sample prep\, shipping and testing 
URL:https://hdpusergroup.org/event/ta-method-5/
CATEGORIES:Thermal Analysis Methodolgy Assessment
ORGANIZER;CN=HDP:mailto:webmaster@hdpug.org
END:VEVENT
BEGIN:VEVENT
DTSTART:20220908T180000Z
DTEND:20220908T190000Z
DTSTAMP:20260421T133254
CREATED:20220823T134207Z
LAST-MODIFIED:20220823T134207Z
UID:23105-1662642000-1662645600@hdpusergroup.org
SUMMARY:Cu Peel Strength 2
DESCRIPTION:Review latest progress on the TV builds and other data necessary to move project forward\, 
URL:https://hdpusergroup.org/event/cu-peel-strength-2-2/
CATEGORIES:Cu Peel Strength 2
ORGANIZER;CN=HDP:mailto:webmaster@hdpug.org
END:VEVENT
BEGIN:VEVENT
DTSTART:20220908T190000Z
DTEND:20220908T200000Z
DTSTAMP:20260421T133254
CREATED:20220825T200700Z
LAST-MODIFIED:20220825T200700Z
UID:23128-1662645600-1662649200@hdpusergroup.org
SUMMARY:Photo Solder 2
DESCRIPTION:Progress on test vehicle production 
URL:https://hdpusergroup.org/event/photo-solder-2/
CATEGORIES:Photonic Soldering 2
ORGANIZER;CN=HDP:mailto:webmaster@hdpug.org
END:VEVENT
BEGIN:VEVENT
DTSTART:20220909T170000Z
DTEND:20220909T180000Z
DTSTAMP:20260421T133254
CREATED:20220830T171611Z
LAST-MODIFIED:20220830T171611Z
UID:23144-1662724800-1662728400@hdpusergroup.org
SUMMARY:Ultra-Low Dk Glass Analysis Project
DESCRIPTION:Periodic Project Call 
URL:https://hdpusergroup.org/event/ultra-low-dk-glass-analysis-project-9/
CATEGORIES:Glass Weave
ORGANIZER;CN=HDP:mailto:webmaster@hdpug.org
END:VEVENT
BEGIN:VEVENT
DTSTART:20220912T150000Z
DTEND:20220912T160000Z
DTSTAMP:20260421T133254
CREATED:20220822T154006Z
LAST-MODIFIED:20220822T154006Z
UID:23097-1662976800-1662980400@hdpusergroup.org
SUMMARY:Final Finish Layer Deposits for High Frequency
DESCRIPTION:Final Finish Layer Deposits for High Frequency 
URL:https://hdpusergroup.org/event/final-finish-layer-deposits-for-high-frequency-10/
CATEGORIES:Final Finish Layer Deposits for High Frequency
ORGANIZER;CN=HDP:mailto:webmaster@hdpug.org
END:VEVENT
BEGIN:VEVENT
DTSTART:20220914T140000Z
DTEND:20220914T150000Z
DTSTAMP:20260421T133254
CREATED:20220831T135546Z
LAST-MODIFIED:20220831T135546Z
UID:23147-1663146000-1663149600@hdpusergroup.org
SUMMARY:SIR Next Ev
DESCRIPTION:Meeting 
URL:https://hdpusergroup.org/event/sir-next-ev-3/
CATEGORIES:Surface Insulation Resistance (SIR) Testing the Next Evolution
ORGANIZER;CN=HDP:mailto:webmaster@hdpug.org
END:VEVENT
BEGIN:VEVENT
DTSTART:20220914T150000Z
DTEND:20220914T160000Z
DTSTAMP:20260421T133254
CREATED:20220831T161433Z
LAST-MODIFIED:20220831T161433Z
UID:23148-1663149600-1663153200@hdpusergroup.org
SUMMARY:Reduced Cost CAF
DESCRIPTION:Reduced Cost CAF 
URL:https://hdpusergroup.org/event/reduced-cost-caf/
CATEGORIES:Reduced Cost CAF
ORGANIZER;CN=HDP:mailto:webmaster@hdpug.org
END:VEVENT
BEGIN:VEVENT
DTSTART:20220914T180000Z
DTEND:20220914T190000Z
DTSTAMP:20260421T133254
CREATED:20220811T220029Z
LAST-MODIFIED:20220811T220029Z
UID:23056-1663160400-1663164000@hdpusergroup.org
SUMMARY:Glass Composition
DESCRIPTION:REview latest results and path forward. 
URL:https://hdpusergroup.org/event/glass-composition-2/
CATEGORIES:Glass Type Composition
ORGANIZER;CN=HDP:mailto:webmaster@hdpug.org
END:VEVENT
BEGIN:VEVENT
DTSTART:20220915T150000Z
DTEND:20220915T160000Z
DTSTAMP:20260421T133254
CREATED:20220824T152706Z
LAST-MODIFIED:20220824T152706Z
UID:23108-1663236000-1663239600@hdpusergroup.org
SUMMARY:Single Surface Finish meeting
DESCRIPTION:Meeting 
URL:https://hdpusergroup.org/event/single-surface-finish-meeting-16/
CATEGORIES:Single Surface Finish for Soldered & Compression
ORGANIZER;CN=HDP:mailto:webmaster@hdpug.org
END:VEVENT
BEGIN:VEVENT
DTSTART:20220915T190000Z
DTEND:20220915T200000Z
DTSTAMP:20260421T133254
CREATED:20220901T200008Z
LAST-MODIFIED:20220901T200008Z
UID:23157-1663250400-1663254000@hdpusergroup.org
SUMMARY:Microvia Rel
DESCRIPTION:Hopefully pick one or two fabricatoes\, start assigning tasks and setting dates 
URL:https://hdpusergroup.org/event/microvia-rel-17/
CATEGORIES:Microvia Reliability
ORGANIZER;CN=HDP:mailto:webmaster@hdpug.org
END:VEVENT
BEGIN:VEVENT
DTSTART:20220915T190000Z
DTEND:20220915T200000Z
DTSTAMP:20260421T133254
CREATED:20220915T232034Z
LAST-MODIFIED:20220915T232034Z
UID:23193-1663250400-1663254000@hdpusergroup.org
SUMMARY:Microvia Rel
DESCRIPTION:More work on defining project 
URL:https://hdpusergroup.org/event/microvia-rel-18/
CATEGORIES:Microvia Reliability
ORGANIZER;CN=HDP:mailto:webmaster@hdpug.org
END:VEVENT
BEGIN:VEVENT
DTSTART:20220920T170000Z
DTEND:20220920T180000Z
DTSTAMP:20260421T133254
CREATED:20220907T182533Z
LAST-MODIFIED:20220907T182533Z
UID:23173-1663675200-1663678800@hdpusergroup.org
SUMMARY:Cu Surface Roughness Model
DESCRIPTION:Various models proposed for predicting signal integrity. Huray model under consideration. 
URL:https://hdpusergroup.org/event/cu-surface-roughness-model-2/
CATEGORIES:Cu Surface Rougness Model
ORGANIZER;CN=HDP:mailto:webmaster@hdpug.org
END:VEVENT
BEGIN:VEVENT
DTSTART:20220921T150000Z
DTEND:20220921T160000Z
DTSTAMP:20260421T133254
CREATED:20220831T161939Z
LAST-MODIFIED:20220831T161939Z
UID:23149-1663754400-1663758000@hdpusergroup.org
SUMMARY:ECM3 Meeting
DESCRIPTION:Meeting 
URL:https://hdpusergroup.org/event/ecm3-meeting-2/
CATEGORIES:ECM 3
ORGANIZER;CN=HDP:mailto:webmaster@hdpug.org
END:VEVENT
BEGIN:VEVENT
DTSTART:20220921T160000Z
DTEND:20220921T170000Z
DTSTAMP:20260421T133254
CREATED:20220908T145151Z
LAST-MODIFIED:20220908T145151Z
UID:23174-1663758000-1663761600@hdpusergroup.org
SUMMARY:Backdrill Transition trlecom
DESCRIPTION:Backdrill Transition trlecom 
URL:https://hdpusergroup.org/event/backdrill-transition-trlecom/
CATEGORIES:Back drill to Primary via Transition
ORGANIZER;CN=HDP:mailto:webmaster@hdpug.org
END:VEVENT
BEGIN:VEVENT
DTSTART:20220921T190000Z
DTEND:20220921T200000Z
DTSTAMP:20260421T133254
CREATED:20220921T180759Z
LAST-MODIFIED:20220921T180759Z
UID:23212-1663768800-1663772400@hdpusergroup.org
SUMMARY:Microvia Rel
DESCRIPTION:Meeting missing in system 
URL:https://hdpusergroup.org/event/microvia-rel-19/
CATEGORIES:Microvia Reliability
ORGANIZER;CN=HDP:mailto:webmaster@hdpug.org
END:VEVENT
BEGIN:VEVENT
DTSTART:20220922T150000Z
DTEND:20220922T160000Z
DTSTAMP:20260421T133254
CREATED:20220901T160603Z
LAST-MODIFIED:20220901T160603Z
UID:23154-1663840800-1663844400@hdpusergroup.org
SUMMARY:Materials #7 meeting
DESCRIPTION:Meeting 
URL:https://hdpusergroup.org/event/materials-7-meeting-7/
CATEGORIES:Materials #7
ORGANIZER;CN=HDP:mailto:webmaster@hdpug.org
END:VEVENT
BEGIN:VEVENT
DTSTART:20220922T160000Z
DTEND:20220922T170000Z
DTSTAMP:20260421T133254
CREATED:20220908T170445Z
LAST-MODIFIED:20220908T170445Z
UID:23176-1663844400-1663848000@hdpusergroup.org
SUMMARY:TA== Method
DESCRIPTION:Sample testing update 
URL:https://hdpusergroup.org/event/ta-method-6/
CATEGORIES:Thermal Analysis Methodolgy Assessment
ORGANIZER;CN=HDP:mailto:webmaster@hdpug.org
END:VEVENT
BEGIN:VEVENT
DTSTART:20220922T180000Z
DTEND:20220922T190000Z
DTSTAMP:20260421T133254
CREATED:20220912T222104Z
LAST-MODIFIED:20220912T222104Z
UID:23181-1663851600-1663855200@hdpusergroup.org
SUMMARY:Cu Peel Strength 2
DESCRIPTION:Update on project from Jim Fuller. 
URL:https://hdpusergroup.org/event/cu-peel-strength-2-3/
CATEGORIES:Cu Peel Strength 2
ORGANIZER;CN=HDP:mailto:webmaster@hdpug.org
END:VEVENT
BEGIN:VEVENT
DTSTART:20220922T190000Z
DTEND:20220922T200000Z
DTSTAMP:20260421T133254
CREATED:20220913T020946Z
LAST-MODIFIED:20220913T020946Z
UID:23126-1663855200-1663858800@hdpusergroup.org
SUMMARY:Cu Surface Treatment vs Loss Call
DESCRIPTION:Call to discuss Cisco measurements and Final report.  \nMoved to 22nd for key person attendance. \n  
URL:https://hdpusergroup.org/event/cu-surface-treatment-vs-loss-call-2/
CATEGORIES:Cu Grain Structure
ORGANIZER;CN=HDP:mailto:webmaster@hdpug.org
END:VEVENT
BEGIN:VEVENT
DTSTART:20220922T200000Z
DTEND:20220922T210000Z
DTSTAMP:20260421T133254
CREATED:20220908T171302Z
LAST-MODIFIED:20220908T171302Z
UID:22985-1663858800-1663862400@hdpusergroup.org
SUMMARY:PCB Feature Min
DESCRIPTION:Paul is flying to Calumet to see what is the status. 
URL:https://hdpusergroup.org/event/pcb-feature-min-25/
CATEGORIES:PCB Feature Miniaturization
ORGANIZER;CN=HDP:mailto:webmaster@hdpug.org
END:VEVENT
BEGIN:VEVENT
DTSTART:20220923T140000Z
DTEND:20220923T150000Z
DTSTAMP:20260421T133254
CREATED:20220902T150108Z
LAST-MODIFIED:20220902T150108Z
UID:23158-1663923600-1663927200@hdpusergroup.org
SUMMARY:Effects of Plating Thickness on CTF at IST Project Call
DESCRIPTION:Effects of Plating Thickness on CTF at IST Project Call 
URL:https://hdpusergroup.org/event/effects-of-plating-thickness-on-ctf-at-ist-project-call-17/
CATEGORIES:Effects of Plating Thickness on Cycles to Failure at IST
ORGANIZER;CN=HDP:mailto:webmaster@hdpug.org
END:VEVENT
BEGIN:VEVENT
DTSTART:20220923T170000Z
DTEND:20220923T180000Z
DTSTAMP:20260421T133254
CREATED:20220909T172727Z
LAST-MODIFIED:20220909T172727Z
UID:23179-1663934400-1663938000@hdpusergroup.org
SUMMARY:Ultra-Low Dk Glass Analysis Project
DESCRIPTION:Periodic Project Call 
URL:https://hdpusergroup.org/event/ultra-low-dk-glass-analysis-project-10/
CATEGORIES:Glass Weave
ORGANIZER;CN=HDP:mailto:webmaster@hdpug.org
END:VEVENT
END:VCALENDAR