BEGIN:VCALENDAR
VERSION:2.0
PRODID:-//HDP User Group - ECPv6.10.1.1//NONSGML v1.0//EN
CALSCALE:GREGORIAN
METHOD:PUBLISH
X-ORIGINAL-URL:https://hdpusergroup.org
X-WR-CALDESC:Events for HDP User Group
REFRESH-INTERVAL;VALUE=DURATION:PT1H
X-Robots-Tag:noindex
X-PUBLISHED-TTL:PT1H
BEGIN:VTIMEZONE
TZID:America/Chicago
BEGIN:DAYLIGHT
TZOFFSETFROM:-0600
TZOFFSETTO:-0500
TZNAME:CDT
DTSTART:20220313T080000
END:DAYLIGHT
BEGIN:STANDARD
TZOFFSETFROM:-0500
TZOFFSETTO:-0600
TZNAME:CST
DTSTART:20221106T070000
END:STANDARD
END:VTIMEZONE
BEGIN:VEVENT
DTSTART:20220401T170000Z
DTEND:20220401T180000Z
DTSTAMP:20260424T051046
CREATED:20220318T175224Z
LAST-MODIFIED:20220318T175224Z
UID:22300-1648814400-1648818000@hdpusergroup.org
SUMMARY:Ultra-Low Dk Glass Analysis Project
DESCRIPTION:Project Call 
URL:https://hdpusergroup.org/event/ultra-low-dk-glass-analysis-project-6/
CATEGORIES:Glass Weave
ORGANIZER;CN=HDP:mailto:webmaster@hdpug.org
END:VEVENT
BEGIN:VEVENT
DTSTART:20220404T140000Z
DTEND:20220404T150000Z
DTSTAMP:20260424T051046
CREATED:20220331T204011Z
LAST-MODIFIED:20220331T204011Z
UID:22337-1649062800-1649066400@hdpusergroup.org
SUMMARY:Call to discuss HDP membership - Daikin - America
DESCRIPTION:General discussion 
URL:https://hdpusergroup.org/event/call-to-discuss-hdp-membership-daikin-america/
LOCATION:Virtual
CATEGORIES:Staff Calendar
ORGANIZER;CN=HDP:mailto:webmaster@hdpug.org
END:VEVENT
BEGIN:VEVENT
DTSTART:20220404T150000Z
DTEND:20220404T160000Z
DTSTAMP:20260424T051046
CREATED:20220119T201134Z
LAST-MODIFIED:20220119T201134Z
UID:21831-1649066400-1649070000@hdpusergroup.org
SUMMARY:Cu Surface Roughness Model project meeting of April 4th
DESCRIPTION:Continuation of discussion on Cu Surface Roughness Model project. 
URL:https://hdpusergroup.org/event/cu-surface-roughness-model-project-meeting-of-april-4th/
LOCATION:Virtual
CATEGORIES:Cu Surface Rougness Model
ORGANIZER;CN=HDP:mailto:webmaster@hdpug.org
END:VEVENT
BEGIN:VEVENT
DTSTART:20220404T180000Z
DTEND:20220404T190000Z
DTSTAMP:20260424T051046
CREATED:20220328T184356Z
LAST-MODIFIED:20220328T184356Z
UID:22318-1649077200-1649080800@hdpusergroup.org
SUMMARY:DISC2A
DESCRIPTION:Hopefully a look at the first part of the final report 
URL:https://hdpusergroup.org/event/disc2a-44/
CATEGORIES:Digital Speckle Correlation (DSC) 2
ORGANIZER;CN=HDP:mailto:webmaster@hdpug.org
END:VEVENT
BEGIN:VEVENT
DTSTART:20220404T190000Z
DTEND:20220404T200000Z
DTSTAMP:20260424T051046
CREATED:20220325T185523Z
LAST-MODIFIED:20220325T185523Z
UID:22310-1649080800-1649084400@hdpusergroup.org
SUMMARY:Microvia Rel
DESCRIPTION:Continue discussion 
URL:https://hdpusergroup.org/event/microvia-rel-7/
CATEGORIES:Microvia Reliability
ORGANIZER;CN=HDP:mailto:webmaster@hdpug.org
END:VEVENT
BEGIN:VEVENT
DTSTART:20220406T140000Z
DTEND:20220406T150000Z
DTSTAMP:20260424T051046
CREATED:20220323T130652Z
LAST-MODIFIED:20220323T130652Z
UID:22305-1649235600-1649239200@hdpusergroup.org
SUMMARY:SIR Testing the Next Evolution Meeting
DESCRIPTION:Rescheduled Meeting 
URL:https://hdpusergroup.org/event/sir-testing-the-next-evolution-meeting-6/
CATEGORIES:Surface Insulation Resistance (SIR) Testing the Next Evolution
ORGANIZER;CN=HDP:mailto:webmaster@hdpug.org
END:VEVENT
BEGIN:VEVENT
DTSTART:20220406T150000Z
DTEND:20220406T160000Z
DTSTAMP:20260424T051046
CREATED:20220113T224156Z
LAST-MODIFIED:20220113T224156Z
UID:21805-1649239200-1649242800@hdpusergroup.org
SUMMARY:Backdrill Under BGA telecom
DESCRIPTION:Backdrill Under BGA telecom 
URL:https://hdpusergroup.org/event/backdrill-under-bga-telecom-32/
CATEGORIES:Backdrill Under BGA
ORGANIZER;CN=HDP:mailto:webmaster@hdpug.org
END:VEVENT
BEGIN:VEVENT
DTSTART:20220407T000000Z
DTEND:20220407T003000Z
DTSTAMP:20260424T051046
CREATED:20220406T130201Z
LAST-MODIFIED:20220406T130201Z
UID:22360-1649271600-1649273400@hdpusergroup.org
SUMMARY:Test Recurring Event Reminders
DESCRIPTION:Testing reminders for recurring meetings. 
URL:https://hdpusergroup.org/event/test-recurring-event-reminders/2022-04-06/
LOCATION:Virtual
CATEGORIES:Staff Calendar
ORGANIZER;CN=HDP:mailto:webmaster@hdpug.org
END:VEVENT
BEGIN:VEVENT
DTSTART:20220407T140000Z
DTEND:20220407T150000Z
DTSTAMP:20260424T051046
CREATED:20220331T144132Z
LAST-MODIFIED:20220331T144132Z
UID:22327-1649322000-1649325600@hdpusergroup.org
SUMMARY:Single Surface Finish meeting
DESCRIPTION:Meeting 
URL:https://hdpusergroup.org/event/single-surface-finish-meeting-9/
CATEGORIES:Single Surface Finish for Soldered & Compression
ORGANIZER;CN=HDP:mailto:webmaster@hdpug.org
END:VEVENT
BEGIN:VEVENT
DTSTART:20220407T230000Z
DTEND:20220407T233000Z
DTSTAMP:20260424T051046
CREATED:20220406T125957Z
LAST-MODIFIED:20220406T125957Z
UID:22358-1649354400-1649356200@hdpusergroup.org
SUMMARY:Testing Single Event Reminders
DESCRIPTION:Testing meeting reminders.  Single event. 
URL:https://hdpusergroup.org/event/testing-single-event-reminders-2/
LOCATION:Virtual
CATEGORIES:Staff Calendar
ORGANIZER;CN=HDP:mailto:webmaster@hdpug.org
END:VEVENT
BEGIN:VEVENT
DTSTART:20220412T150000Z
DTEND:20220412T160000Z
DTSTAMP:20260424T051046
CREATED:20220330T151139Z
LAST-MODIFIED:20220330T151139Z
UID:22325-1649757600-1649761200@hdpusergroup.org
SUMMARY:CAF Eq
DESCRIPTION:Updates from Hubert and Nik. \nLook at presentation for Austin\, Texas 
URL:https://hdpusergroup.org/event/caf-eq-4/
CATEGORIES:Better CAF Acceleration Equation
ORGANIZER;CN=HDP:mailto:webmaster@hdpug.org
END:VEVENT
BEGIN:VEVENT
DTSTART:20220412T170000Z
DTEND:20220412T180000Z
DTSTAMP:20260424T051046
CREATED:20220405T154447Z
LAST-MODIFIED:20220405T154447Z
UID:22347-1649764800-1649768400@hdpusergroup.org
SUMMARY:Harsh Use Alloy Evaluation Project Call
DESCRIPTION:Periodic project call 
URL:https://hdpusergroup.org/event/harsh-use-alloy-evaluation-project-call-3/
CATEGORIES:Harsh Use Alloy Evaluation 2
ORGANIZER;CN=HDP:mailto:webmaster@hdpug.org
END:VEVENT
BEGIN:VEVENT
DTSTART:20220412T180000Z
DTEND:20220412T190000Z
DTSTAMP:20260424T051046
CREATED:20220408T131442Z
LAST-MODIFIED:20220408T131442Z
UID:22379-1649768400-1649772000@hdpusergroup.org
SUMMARY:Member Website Orientation
DESCRIPTION:  \nHDP is holding an orientation session on April 12\, 2022 for members. \nThis is a new initiative to help members maximize the benefits of HDP membership. \nThis session is intended for employees of member companies who either are not registered on the site or need a refresher. Invite your colleagues to attend – remember\, there is no limit to the number of employees in your company who may register on the site or participate in projects. \nIn this session\, attendees will: \n–        See how to register on the site. \n–        See how to subscribe to projects. \n–        Get a tour of the content that is available to members. \nIf you are already registered on the HDP website\, sign in and register for the session here. \nIf you are not yet registered on the HDP website\, email Kim Andrews to get registered.
URL:https://hdpusergroup.org/event/member-website-orientation/
LOCATION:Virtual
CATEGORIES:Member Meetings
ORGANIZER;CN=HDP:mailto:webmaster@hdpug.org
END:VEVENT
BEGIN:VEVENT
DTSTART:20220413T140000Z
DTEND:20220413T150000Z
DTSTAMP:20260424T051046
CREATED:20220330T150316Z
LAST-MODIFIED:20220330T150316Z
UID:22324-1649840400-1649844000@hdpusergroup.org
SUMMARY:ECM 3 Project Meeting
DESCRIPTION:Meeting 
URL:https://hdpusergroup.org/event/ecm-3-project-meeting-3/
CATEGORIES:ECM 3
ORGANIZER;CN=HDP:mailto:webmaster@hdpug.org
END:VEVENT
BEGIN:VEVENT
DTSTART:20220414T000000Z
DTEND:20220414T010000Z
DTSTAMP:20260424T051046
CREATED:20220401T170942Z
LAST-MODIFIED:20220401T170942Z
UID:22339-1649876400-1649880000@hdpusergroup.org
SUMMARY:Reliability of Wettable Flank in Routable QFN for Automotive  Project Call
DESCRIPTION:Call to discuss final report and closure presentations 
URL:https://hdpusergroup.org/event/reliability-of-wettable-flank-in-routable-qfn-for-automotive-project-call-24/
LOCATION:Virtual
CATEGORIES:Reliability of Wettable Flank in Routable QFN for Automotive
ORGANIZER;CN=HDP:mailto:webmaster@hdpug.org
END:VEVENT
BEGIN:VEVENT
DTSTART:20220414T150000Z
DTEND:20220414T160000Z
DTSTAMP:20260424T051046
CREATED:20220324T162144Z
LAST-MODIFIED:20220324T162144Z
UID:22308-1649930400-1649934000@hdpusergroup.org
SUMMARY:Materials #6 meeting
DESCRIPTION:Meeting 
URL:https://hdpusergroup.org/event/materials-6-meeting-17/
CATEGORIES:Lead Free PWB Materials Reliability Phase 6
ORGANIZER;CN=HDP:mailto:webmaster@hdpug.org
END:VEVENT
BEGIN:VEVENT
DTSTART:20220414T190000Z
DTEND:20220414T200000Z
DTSTAMP:20260424T051046
CREATED:20220411T171436Z
LAST-MODIFIED:20220411T171436Z
UID:22341-1649944800-1649948400@hdpusergroup.org
SUMMARY:DISC2A
DESCRIPTION:Thilo’s progress on final report.   \nFirst look at presenation for project Closeout. \nLook at presentation for ICEHET. 
URL:https://hdpusergroup.org/event/disc2a-45/
CATEGORIES:Digital Speckle Correlation (DSC) 2
ORGANIZER;CN=HDP:mailto:webmaster@hdpug.org
END:VEVENT
BEGIN:VEVENT
DTSTART:20220415T170000Z
DTEND:20220415T180000Z
DTSTAMP:20260424T051046
CREATED:20220405T155005Z
LAST-MODIFIED:20220405T155005Z
UID:22348-1650024000-1650027600@hdpusergroup.org
SUMMARY:Ultra-Low Dk Glass Analysis Project Call
DESCRIPTION:Periodic project call 
URL:https://hdpusergroup.org/event/ultra-low-dk-glass-analysis-project-call/
CATEGORIES:Glass Weave
ORGANIZER;CN=HDP:mailto:webmaster@hdpug.org
END:VEVENT
BEGIN:VEVENT
DTSTART:20220418T150000Z
DTEND:20220418T160000Z
DTSTAMP:20260424T051046
CREATED:20220328T163652Z
LAST-MODIFIED:20220328T163652Z
UID:22315-1650276000-1650279600@hdpusergroup.org
SUMMARY:Final Finish Layer Deposits for High Frequency
DESCRIPTION:Final Finish Layer Deposits for High Frequency 
URL:https://hdpusergroup.org/event/final-finish-layer-deposits-for-high-frequency-3/
CATEGORIES:Final Finish Layer Deposits for High Frequency
ORGANIZER;CN=HDP:mailto:webmaster@hdpug.org
END:VEVENT
BEGIN:VEVENT
DTSTART:20220418T190000Z
DTEND:20220418T200000Z
DTSTAMP:20260424T051046
CREATED:20220404T194515Z
LAST-MODIFIED:20220404T194515Z
UID:22342-1650290400-1650294000@hdpusergroup.org
SUMMARY:Microvia Rel
DESCRIPTION:Start fleshing out the project more 
URL:https://hdpusergroup.org/event/microvia-rel-8/
CATEGORIES:Microvia Reliability
ORGANIZER;CN=HDP:mailto:webmaster@hdpug.org
END:VEVENT
BEGIN:VEVENT
DTSTART:20220419T020000Z
DTEND:20220419T030000Z
DTSTAMP:20260424T051046
CREATED:20220414T013227Z
LAST-MODIFIED:20220414T013227Z
UID:22388-1650315600-1650319200@hdpusergroup.org
SUMMARY:ITEQ - Website Orientation and Project Interest Discussion
DESCRIPTION:ITEQ - Website Orientation and Project Interest Discussion 
URL:https://hdpusergroup.org/event/iteq-website-orientation-and-project-interest-discussion/
CATEGORIES:Staff Calendar
ORGANIZER;CN=HDP:mailto:webmaster@hdpug.org
END:VEVENT
BEGIN:VEVENT
DTSTART:20220419T160000Z
DTEND:20220419T170000Z
DTSTAMP:20260424T051046
CREATED:20220415T143728Z
LAST-MODIFIED:20220415T143728Z
UID:22397-1650366000-1650369600@hdpusergroup.org
SUMMARY:Backdrill Under BGA telecom
DESCRIPTION:Backdrill Under BGA telecom 
URL:https://hdpusergroup.org/event/backdrill-under-bga-telecom-34/
CATEGORIES:Backdrill Under BGA
ORGANIZER;CN=HDP:mailto:webmaster@hdpug.org
END:VEVENT
BEGIN:VEVENT
DTSTART:20220421T140000Z
DTEND:20220421T150000Z
DTSTAMP:20260424T051046
CREATED:20220331T144558Z
LAST-MODIFIED:20220331T144558Z
UID:22328-1650531600-1650535200@hdpusergroup.org
SUMMARY:Single Surface Finish meeting
DESCRIPTION:Meeting 
URL:https://hdpusergroup.org/event/single-surface-finish-meeting-10/
CATEGORIES:Single Surface Finish for Soldered & Compression
ORGANIZER;CN=HDP:mailto:webmaster@hdpug.org
END:VEVENT
BEGIN:VEVENT
DTSTART:20220421T190000Z
DTEND:20220421T200000Z
DTSTAMP:20260424T051046
CREATED:20220414T194519Z
LAST-MODIFIED:20220414T194519Z
UID:22395-1650549600-1650553200@hdpusergroup.org
SUMMARY:DISC2A
DESCRIPTION:Review next revision of final report 
URL:https://hdpusergroup.org/event/disc2a-46/
CATEGORIES:Digital Speckle Correlation (DSC) 2
ORGANIZER;CN=HDP:mailto:webmaster@hdpug.org
END:VEVENT
BEGIN:VEVENT
DTSTART:20220422T140000Z
DTEND:20220422T150000Z
DTSTAMP:20260424T051046
CREATED:20220325T152748Z
LAST-MODIFIED:20220325T152748Z
UID:22309-1650618000-1650621600@hdpusergroup.org
SUMMARY:Effects of Plating Thickness on CTF at IST Project Call
DESCRIPTION:Effects of Plating Thickness on CTF at IST Project Call 
URL:https://hdpusergroup.org/event/effects-of-plating-thickness-on-ctf-at-ist-project-call-11/
CATEGORIES:Effects of Plating Thickness on Cycles to Failure at IST
ORGANIZER;CN=HDP:mailto:webmaster@hdpug.org
END:VEVENT
BEGIN:VEVENT
DTSTART:20220422T190000Z
DTEND:20220422T200000Z
DTSTAMP:20260424T051046
CREATED:20220317T213841Z
LAST-MODIFIED:20220317T213841Z
UID:22299-1650636000-1650639600@hdpusergroup.org
SUMMARY:Photonic Soldering 2
DESCRIPTION:Parts received.  Boards? If yes\, status of build? 
URL:https://hdpusergroup.org/event/photonic-soldering-2-4/
CATEGORIES:Photonic Soldering 2
ORGANIZER;CN=HDP:mailto:webmaster@hdpug.org
END:VEVENT
BEGIN:VEVENT
DTSTART:20220425T170000Z
DTEND:20220425T180000Z
DTSTAMP:20260424T051046
CREATED:20220418T194355Z
LAST-MODIFIED:20220418T194355Z
UID:22411-1650888000-1650891600@hdpusergroup.org
SUMMARY:Microvia Rel
DESCRIPTION:Continue fleshing out a project definition 
URL:https://hdpusergroup.org/event/microvia-rel-9/
CATEGORIES:Microvia Reliability
ORGANIZER;CN=HDP:mailto:webmaster@hdpug.org
END:VEVENT
BEGIN:VEVENT
DTSTART:20220426T170000Z
DTEND:20220426T180000Z
DTSTAMP:20260424T051046
CREATED:20220418T142604Z
LAST-MODIFIED:20220418T142604Z
UID:22399-1650974400-1650978000@hdpusergroup.org
SUMMARY:Harsh Use Alloy Evaluation
DESCRIPTION:Periodic project review. 
URL:https://hdpusergroup.org/event/harsh-use-alloy-evaluation-2/
CATEGORIES:Harsh Use Alloy Evaluation 2
ORGANIZER;CN=HDP:mailto:webmaster@hdpug.org
END:VEVENT
BEGIN:VEVENT
DTSTART:20220427T020000Z
DTEND:20220427T030000Z
DTSTAMP:20260424T051046
CREATED:20220324T085144Z
LAST-MODIFIED:20220324T085144Z
UID:21971-1651006800-1651010400@hdpusergroup.org
SUMMARY:High Speed Hybrid PWB Project Call
DESCRIPTION:High Speed Hybrid PWB Project Call 
URL:https://hdpusergroup.org/event/high-speed-hybrid-pwb-project-call-39/
CATEGORIES:High Speed Hybrid PWB
ORGANIZER;CN=HDP:mailto:webmaster@hdpug.org
END:VEVENT
BEGIN:VEVENT
DTSTART:20220427T140000Z
DTEND:20220427T150000Z
DTSTAMP:20260424T051046
CREATED:20220406T151755Z
LAST-MODIFIED:20220406T151755Z
UID:22371-1651050000-1651053600@hdpusergroup.org
SUMMARY:SIR Testing the Next Evolution Meeting
DESCRIPTION:Meeting 
URL:https://hdpusergroup.org/event/april-6-1000-am-1100-am-edt-sir-testing-the-next-evolution-meeting/
CATEGORIES:Surface Insulation Resistance (SIR) Testing the Next Evolution
ORGANIZER;CN=HDP:mailto:webmaster@hdpug.org
END:VEVENT
END:VCALENDAR