BEGIN:VCALENDAR
VERSION:2.0
PRODID:-//HDP User Group - ECPv6.10.1.1//NONSGML v1.0//EN
CALSCALE:GREGORIAN
METHOD:PUBLISH
X-ORIGINAL-URL:https://hdpusergroup.org
X-WR-CALDESC:Events for HDP User Group
REFRESH-INTERVAL;VALUE=DURATION:PT1H
X-Robots-Tag:noindex
X-PUBLISHED-TTL:PT1H
BEGIN:VTIMEZONE
TZID:America/Chicago
BEGIN:DAYLIGHT
TZOFFSETFROM:-0600
TZOFFSETTO:-0500
TZNAME:CDT
DTSTART:20220313T080000
END:DAYLIGHT
BEGIN:STANDARD
TZOFFSETFROM:-0500
TZOFFSETTO:-0600
TZNAME:CST
DTSTART:20221106T070000
END:STANDARD
END:VTIMEZONE
BEGIN:VEVENT
DTSTART:20220201T160000Z
DTEND:20220201T170000Z
DTSTAMP:20260422T100514
CREATED:20220118T164010Z
LAST-MODIFIED:20220118T164010Z
UID:21812-1643709600-1643713200@hdpusergroup.org
SUMMARY:Board Thickness II
DESCRIPTION:Mike's progress on the final report 
URL:https://hdpusergroup.org/event/board-thickness-ii-27/
CATEGORIES:Board Thickness Effect on ATC Reliability II
ORGANIZER;CN=HDP:mailto:webmaster@hdpug.org
END:VEVENT
BEGIN:VEVENT
DTSTART:20220201T180000Z
DTEND:20220201T190000Z
DTSTAMP:20260422T100514
CREATED:20220127T191717Z
LAST-MODIFIED:20220127T191717Z
UID:21862-1643716800-1643720400@hdpusergroup.org
SUMMARY:Harsh Use Alloy Evaluation Project Call
DESCRIPTION:Periodic project call 
URL:https://hdpusergroup.org/event/harsh-use-alloy-evaluation-project-call-4/
CATEGORIES:Harsh Use Alloy Evaluation 2
ORGANIZER;CN=HDP:mailto:webmaster@hdpug.org
END:VEVENT
BEGIN:VEVENT
DTSTART:20220202T150000Z
DTEND:20220202T160000Z
DTSTAMP:20260422T100514
CREATED:20220105T161402Z
LAST-MODIFIED:20220105T161402Z
UID:21755-1643792400-1643796000@hdpusergroup.org
SUMMARY:SIR Testing the Next Evolution Meeting
DESCRIPTION:Meeting 
URL:https://hdpusergroup.org/event/sir-testing-the-next-evolution-meeting-3/
CATEGORIES:Surface Insulation Resistance (SIR) Testing the Next Evolution
ORGANIZER;CN=HDP:mailto:webmaster@hdpug.org
END:VEVENT
BEGIN:VEVENT
DTSTART:20220202T160000Z
DTEND:20220202T170000Z
DTSTAMP:20260422T100514
CREATED:20220112T165833Z
LAST-MODIFIED:20220112T165833Z
UID:21777-1643796000-1643799600@hdpusergroup.org
SUMMARY:Better CAF Eq
DESCRIPTION:Testing progress 
URL:https://hdpusergroup.org/event/better-caf-eq-15/
CATEGORIES:Better CAF Acceleration Equation
ORGANIZER;CN=HDP:mailto:webmaster@hdpug.org
END:VEVENT
BEGIN:VEVENT
DTSTART:20220202T170000Z
DTEND:20220202T180000Z
DTSTAMP:20260422T100514
CREATED:20220119T182302Z
LAST-MODIFIED:20220119T182302Z
UID:21830-1643799600-1643803200@hdpusergroup.org
SUMMARY:Microvia Rel
DESCRIPTION:Continue the discussion 
URL:https://hdpusergroup.org/event/microvia-rel-4/
CATEGORIES:Microvia Reliability
ORGANIZER;CN=HDP:mailto:webmaster@hdpug.org
END:VEVENT
BEGIN:VEVENT
DTSTART:20220202T190000Z
DTEND:20220202T200000Z
DTSTAMP:20260422T100514
CREATED:20220113T141826Z
LAST-MODIFIED:20220113T141826Z
UID:21792-1643806800-1643810400@hdpusergroup.org
SUMMARY:DISC2A
DESCRIPTION:Work on PowerPoint for Members Meeting 
URL:https://hdpusergroup.org/event/disc2a-40/
CATEGORIES:Digital Speckle Correlation (DSC) 2
ORGANIZER;CN=HDP:mailto:webmaster@hdpug.org
END:VEVENT
BEGIN:VEVENT
DTSTART:20220202T200000Z
DTEND:20220202T210000Z
DTSTAMP:20260422T100514
CREATED:20220113T142045Z
LAST-MODIFIED:20220113T142045Z
UID:21793-1643810400-1643814000@hdpusergroup.org
SUMMARY:Photonic Soldering II
DESCRIPTION:Continue working in project definition and PowerPoint for Members Meeting 
URL:https://hdpusergroup.org/event/photonic-soldering-ii-12/
CATEGORIES:Photonic Soldering 2
ORGANIZER;CN=HDP:mailto:webmaster@hdpug.org
END:VEVENT
BEGIN:VEVENT
DTSTART:20220203T150000Z
DTEND:20220203T160000Z
DTSTAMP:20260422T100514
CREATED:20220113T154308Z
LAST-MODIFIED:20220113T154308Z
UID:21794-1643878800-1643882400@hdpusergroup.org
SUMMARY:ECM 2 Project Meeting
DESCRIPTION:Meeting 
URL:https://hdpusergroup.org/event/ecm-2-project-meeting-9/
CATEGORIES:Electro-Chemical Migration 2
ORGANIZER;CN=HDP:mailto:webmaster@hdpug.org
END:VEVENT
BEGIN:VEVENT
DTSTART:20220203T160000Z
DTEND:20220203T170000Z
DTSTAMP:20260422T100514
CREATED:20220106T165537Z
LAST-MODIFIED:20220106T165537Z
UID:21761-1643882400-1643886000@hdpusergroup.org
SUMMARY:Materials #6 meeting
DESCRIPTION:Meeting 
URL:https://hdpusergroup.org/event/materials-6-meeting-14/
CATEGORIES:Lead Free PWB Materials Reliability Phase 6
ORGANIZER;CN=HDP:mailto:webmaster@hdpug.org
END:VEVENT
BEGIN:VEVENT
DTSTART:20220203T200000Z
DTEND:20220203T210000Z
DTSTAMP:20260422T100514
CREATED:20220119T202743Z
LAST-MODIFIED:20220119T202743Z
UID:21832-1643896800-1643900400@hdpusergroup.org
SUMMARY:PCB Feature Min
DESCRIPTION:Work on Members' Meeting PowerPoint \nAny build update 
URL:https://hdpusergroup.org/event/pcb-feature-min-17/
CATEGORIES:PCB Feature Miniaturization
ORGANIZER;CN=HDP:mailto:webmaster@hdpug.org
END:VEVENT
BEGIN:VEVENT
DTSTART:20220208T190000Z
DTEND:20220208T200000Z
DTSTAMP:20260422T100514
CREATED:20220201T193716Z
LAST-MODIFIED:20220201T193716Z
UID:21904-1644325200-1644328800@hdpusergroup.org
SUMMARY:Rescheduled Glass Type Comparison project meeting for Feb 8\, 2022
DESCRIPTION:Rescheduled Glass Type Comparison project meeting for Feb 8\, 2022. Feb 9th meeting cancelled 
URL:https://hdpusergroup.org/event/rescheduled-glass-type-comparison-project-meeting-for-feb-8-2022/
LOCATION:Virtual
CATEGORIES:Glass Type Composition
ORGANIZER;CN=HDP:mailto:webmaster@hdpug.org
END:VEVENT
BEGIN:VEVENT
DTSTART:20220209T150000Z
DTEND:20220209T160000Z
DTSTAMP:20260422T100514
CREATED:20220203T170642Z
LAST-MODIFIED:20220203T170642Z
UID:21922-1644397200-1644400800@hdpusergroup.org
SUMMARY:ECM 2 Project Meeting
DESCRIPTION:Meeting 
URL:https://hdpusergroup.org/event/ecm-2-project-meeting-10/
CATEGORIES:Electro-Chemical Migration 2
ORGANIZER;CN=HDP:mailto:webmaster@hdpug.org
END:VEVENT
BEGIN:VEVENT
DTSTART:20220209T160000Z
DTEND:20220209T170000Z
DTSTAMP:20260422T100514
CREATED:20220119T163946Z
LAST-MODIFIED:20220119T163946Z
UID:21829-1644400800-1644404400@hdpusergroup.org
SUMMARY:Single Surface Finish Meeting
DESCRIPTION:Meeting 
URL:https://hdpusergroup.org/event/single-surface-finish-meeting-8/
CATEGORIES:Single Surface Finish for Soldered & Compression
ORGANIZER;CN=HDP:mailto:webmaster@hdpug.org
END:VEVENT
BEGIN:VEVENT
DTSTART:20220209T180000Z
DTEND:20220209T230000Z
DTSTAMP:20260422T100514
CREATED:20220211T153117Z
LAST-MODIFIED:20220211T153117Z
UID:21901-1644408000-1644426000@hdpusergroup.org
SUMMARY:Board of Directors Annual Meeting
DESCRIPTION:Annual Board of Directors call to discuss final 2021 Financial Performance and 2022 Proposed Operating Plan. 
URL:https://hdpusergroup.org/event/board-of-directors-annual-meeting/
LOCATION:Virtual
CATEGORIES:Board Meetings
ORGANIZER;CN=HDP:mailto:webmaster@hdpug.org
END:VEVENT
BEGIN:VEVENT
DTSTART:20220210T200000Z
DTEND:20220210T210000Z
DTSTAMP:20260422T100514
CREATED:20220202T193609Z
LAST-MODIFIED:20220202T193609Z
UID:21915-1644501600-1644505200@hdpusergroup.org
SUMMARY:DISC2A
DESCRIPTION:Go over member meeting presentation and dicuss back drilll results 
URL:https://hdpusergroup.org/event/disc2a-41/
CATEGORIES:Digital Speckle Correlation (DSC) 2
ORGANIZER;CN=HDP:mailto:webmaster@hdpug.org
END:VEVENT
BEGIN:VEVENT
DTSTART:20220211T010000Z
DTEND:20220211T020000Z
DTSTAMP:20260422T100514
CREATED:20220204T133845Z
LAST-MODIFIED:20220204T133845Z
UID:21934-1644519600-1644523200@hdpusergroup.org
SUMMARY:Reliability of Wettable Flank in Routable QFN for Automotive  Project call
DESCRIPTION:We will review the latest FA results and discuss the presentation for the upcoming member meeting. 
URL:https://hdpusergroup.org/event/reliability-of-wettable-flank-in-routable-qfn-for-automotive-project-call-21/
LOCATION:Virtual
CATEGORIES:Reliability of Wettable Flank in Routable QFN for Automotive
ORGANIZER;CN=HDP:mailto:webmaster@hdpug.org
END:VEVENT
BEGIN:VEVENT
DTSTART:20220211T150000Z
DTEND:20220211T160000Z
DTSTAMP:20260422T100514
CREATED:20220114T155904Z
LAST-MODIFIED:20220114T155904Z
UID:21806-1644570000-1644573600@hdpusergroup.org
SUMMARY:Effects of Plating Thickness on CTF at IST Project Call
DESCRIPTION:Effects of Plating Thickness on CTF at IST Project Call 
URL:https://hdpusergroup.org/event/effects-of-plating-thickness-on-ctf-at-ist-project-call-8/
CATEGORIES:Effects of Plating Thickness on Cycles to Failure at IST
ORGANIZER;CN=HDP:mailto:webmaster@hdpug.org
END:VEVENT
BEGIN:VEVENT
DTSTART:20220211T180000Z
DTEND:20220211T190000Z
DTSTAMP:20260422T100514
CREATED:20220202T170140Z
LAST-MODIFIED:20220202T170140Z
UID:21912-1644580800-1644584400@hdpusergroup.org
SUMMARY:Ultra-Low Dk Glass Analysis Project
DESCRIPTION:Periodic project call 
URL:https://hdpusergroup.org/event/ultra-low-dk-glass-analysis-project-4/
CATEGORIES:Glass Weave
ORGANIZER;CN=HDP:mailto:webmaster@hdpug.org
END:VEVENT
BEGIN:VEVENT
DTSTART:20220215T180000Z
DTEND:20220215T190000Z
DTSTAMP:20260422T100514
CREATED:20220202T173205Z
LAST-MODIFIED:20220202T173205Z
UID:21913-1644926400-1644930000@hdpusergroup.org
SUMMARY:Harsh Use Alloy Project Call
DESCRIPTION:Periodic project call 
URL:https://hdpusergroup.org/event/harsh-use-alloy-project-call-8/
CATEGORIES:Harsh Use Alloy Evaluation 2
ORGANIZER;CN=HDP:mailto:webmaster@hdpug.org
END:VEVENT
BEGIN:VEVENT
DTSTART:20220215T210000Z
DTEND:20220215T220000Z
DTSTAMP:20260422T100514
CREATED:20220215T165717Z
LAST-MODIFIED:20220215T165717Z
UID:21969-1644937200-1644940800@hdpusergroup.org
SUMMARY:Test of Devan's Webex
DESCRIPTION:Quick Call to check Devan's webex 
URL:https://hdpusergroup.org/event/test-of-devans-webex/
LOCATION:Virtual
CATEGORIES:Staff Calendar
ORGANIZER;CN=HDP:mailto:webmaster@hdpug.org
END:VEVENT
BEGIN:VEVENT
DTSTART:20220216T020000Z
DTEND:20220216T030000Z
DTSTAMP:20260422T100514
CREATED:20211215T023123Z
LAST-MODIFIED:20211215T023123Z
UID:21573-1644955200-1644958800@hdpusergroup.org
SUMMARY:High Speed Hybrid PWB Project Call
DESCRIPTION:High Speed Hybrid PWB Project Call 
URL:https://hdpusergroup.org/event/high-speed-hybrid-pwb-project-call-38/
CATEGORIES:High Speed Hybrid PWB
ORGANIZER;CN=HDP:mailto:webmaster@hdpug.org
END:VEVENT
BEGIN:VEVENT
DTSTART:20220216T140000Z
DTEND:20220217T010000Z
DTSTAMP:20260422T100514
CREATED:20220223T143926Z
LAST-MODIFIED:20220223T143926Z
UID:21840-1644998400-1645038000@hdpusergroup.org
SUMMARY:HDP February 2022 Virtual Member Meeting
DESCRIPTION:With Covid restrictions still impacting travel\, HDP does not anticipate having a face-to-face meeting until Spring 2022.  However\, it is important to have another meeting before then to allow members the opportunity to ask questions and suggest new project ideas. Therefore\, HDP will be having a virtual meeting in February.  The virtual meeting sessions will take place over two days\, February 16 and 17. The tentative agenda for both days is below. \nThe meetings are for members only.  Please register for the webinar by contacting a member of the HDP staff or using the register button on the meeting webpage.  Following is the call-in informationn: \n  \n \n 
URL:https://hdpusergroup.org/event/hdp-february-2022-virtual-member-meeting/2022-02-16/
LOCATION:Virtual
CATEGORIES:Member Meetings
ORGANIZER;CN=HDP:mailto:webmaster@hdpug.org
END:VEVENT
BEGIN:VEVENT
DTSTART:20220221T130000Z
DTEND:20220221T140000Z
DTSTAMP:20260422T100514
CREATED:20220215T221443Z
LAST-MODIFIED:20220215T221443Z
UID:21970-1645426800-1645430400@hdpusergroup.org
SUMMARY:Call to discuss HDP
DESCRIPTION:Call to discuss HDP 
URL:https://hdpusergroup.org/event/call-to-discuss-hdp/
LOCATION:Virtual
CATEGORIES:Staff Calendar
ORGANIZER;CN=HDP:mailto:webmaster@hdpug.org
END:VEVENT
BEGIN:VEVENT
DTSTART:20220222T160000Z
DTEND:20220222T170000Z
DTSTAMP:20260422T100514
CREATED:20220215T134143Z
LAST-MODIFIED:20220215T134143Z
UID:21962-1645524000-1645527600@hdpusergroup.org
SUMMARY:Reliability and Power Cycles
DESCRIPTION:Reliability and Power Cycles 
URL:https://hdpusergroup.org/event/reliability-and-power-cycles-6/
CATEGORIES:Reliability and Power Cycles
ORGANIZER;CN=HDP:mailto:webmaster@hdpug.org
END:VEVENT
BEGIN:VEVENT
DTSTART:20220223T160000Z
DTEND:20220223T170000Z
DTSTAMP:20260422T100514
CREATED:20220114T163151Z
LAST-MODIFIED:20220114T163151Z
UID:21807-1645610400-1645614000@hdpusergroup.org
SUMMARY:Innerlayer Copper Balancing telecom
DESCRIPTION:Innerlayer Copper Balancing telecom 
URL:https://hdpusergroup.org/event/innerlayer-copper-balancing-telecom-17/
CATEGORIES:Local Copper Density
ORGANIZER;CN=HDP:mailto:webmaster@hdpug.org
END:VEVENT
BEGIN:VEVENT
DTSTART:20220223T190000Z
DTEND:20220223T200000Z
DTSTAMP:20260422T100514
CREATED:20220218T174542Z
LAST-MODIFIED:20220218T174542Z
UID:21986-1645621200-1645624800@hdpusergroup.org
SUMMARY:Glass Type Comparison Feb 23\, 2022 project meeting
DESCRIPTION:Glass Type Comparison Feb 23\, 2022 project meeting 
URL:https://hdpusergroup.org/event/glass-type-comparison-feb-23-2022-project-meeting/
LOCATION:Virtual
CATEGORIES:Glass Type Composition
ORGANIZER;CN=HDP:mailto:webmaster@hdpug.org
END:VEVENT
BEGIN:VEVENT
DTSTART:20220223T210000Z
DTEND:20220223T220000Z
DTSTAMP:20260422T100514
CREATED:20220223T201406Z
LAST-MODIFIED:20220223T201406Z
UID:21916-1645628400-1645632000@hdpusergroup.org
SUMMARY:Photonic Soldering II
DESCRIPTION:Hopefully\, our first Omplementation meeting! 
URL:https://hdpusergroup.org/event/photonic-soldering-ii-13/
CATEGORIES:Photonic Soldering 2
ORGANIZER;CN=HDP:mailto:webmaster@hdpug.org
END:VEVENT
BEGIN:VEVENT
DTSTART:20220224T140000Z
DTEND:20220224T150000Z
DTSTAMP:20260422T100514
CREATED:20220222T233014Z
LAST-MODIFIED:20220222T233014Z
UID:22053-1645689600-1645693200@hdpusergroup.org
SUMMARY:DISC2A
DESCRIPTION:Hua to explain the back drill results to Thilo. \nStart working on final report 
URL:https://hdpusergroup.org/event/disc2a-42/
CATEGORIES:Digital Speckle Correlation (DSC) 2
ORGANIZER;CN=HDP:mailto:webmaster@hdpug.org
END:VEVENT
BEGIN:VEVENT
DTSTART:20220224T160000Z
DTEND:20220224T170000Z
DTSTAMP:20260422T100514
CREATED:20220202T180017Z
LAST-MODIFIED:20220202T180017Z
UID:21914-1645696800-1645700400@hdpusergroup.org
SUMMARY:Microvia reliability
DESCRIPTION:Continued Discussion 
URL:https://hdpusergroup.org/event/microvia-reliability-2/
CATEGORIES:Microvia Reliability
ORGANIZER;CN=HDP:mailto:webmaster@hdpug.org
END:VEVENT
BEGIN:VEVENT
DTSTART:20220225T150000Z
DTEND:20220225T160000Z
DTSTAMP:20260422T100514
CREATED:20220211T153300Z
LAST-MODIFIED:20220211T153300Z
UID:21956-1645779600-1645783200@hdpusergroup.org
SUMMARY:Effects of Plating Thickness on CTF at IST Project Call
DESCRIPTION:Effects of Plating Thickness on CTF at IST Project Call 
URL:https://hdpusergroup.org/event/effects-of-plating-thickness-on-ctf-at-ist-project-call-9/
CATEGORIES:Effects of Plating Thickness on Cycles to Failure at IST
ORGANIZER;CN=HDP:mailto:webmaster@hdpug.org
END:VEVENT
END:VCALENDAR