BEGIN:VCALENDAR
VERSION:2.0
PRODID:-//HDP User Group - ECPv6.10.1.1//NONSGML v1.0//EN
CALSCALE:GREGORIAN
METHOD:PUBLISH
X-ORIGINAL-URL:https://hdpusergroup.org
X-WR-CALDESC:Events for HDP User Group
REFRESH-INTERVAL;VALUE=DURATION:PT1H
X-Robots-Tag:noindex
X-PUBLISHED-TTL:PT1H
BEGIN:VTIMEZONE
TZID:America/Chicago
BEGIN:DAYLIGHT
TZOFFSETFROM:-0600
TZOFFSETTO:-0500
TZNAME:CDT
DTSTART:20220313T080000
END:DAYLIGHT
BEGIN:STANDARD
TZOFFSETFROM:-0500
TZOFFSETTO:-0600
TZNAME:CST
DTSTART:20221106T070000
END:STANDARD
END:VTIMEZONE
BEGIN:VEVENT
DTSTART:20220104T160000Z
DTEND:20220104T170000Z
DTSTAMP:20260422T114246
CREATED:20211216T201842Z
LAST-MODIFIED:20211216T201842Z
UID:21709-1641290400-1641294000@hdpusergroup.org
SUMMARY:Board Thickness II
DESCRIPTION:Review next draft of final report 
URL:https://hdpusergroup.org/event/board-thickness-ii-25/
CATEGORIES:Board Thickness Effect on ATC Reliability II
ORGANIZER;CN=HDP:mailto:webmaster@hdpug.org
END:VEVENT
BEGIN:VEVENT
DTSTART:20220104T210000Z
DTEND:20220104T220000Z
DTSTAMP:20260422T114246
CREATED:20211216T201511Z
LAST-MODIFIED:20211216T201511Z
UID:21708-1641308400-1641312000@hdpusergroup.org
SUMMARY:Photonic Soldering II
DESCRIPTION:First meeting of the year 
URL:https://hdpusergroup.org/event/photonic-soldering-ii-10/
CATEGORIES:Photonic Soldering 2
ORGANIZER;CN=HDP:mailto:webmaster@hdpug.org
END:VEVENT
BEGIN:VEVENT
DTSTART:20220105T150000Z
DTEND:20220105T160000Z
DTSTAMP:20260422T114246
CREATED:20211206T160543Z
LAST-MODIFIED:20211206T160543Z
UID:21506-1641373200-1641376800@hdpusergroup.org
SUMMARY:SIR Testing the Next Evolution Meeting
DESCRIPTION:Meeting 
URL:https://hdpusergroup.org/event/sir-testing-the-next-evolution-meeting-2/
CATEGORIES:Surface Insulation Resistance (SIR) Testing the Next Evolution
ORGANIZER;CN=HDP:mailto:webmaster@hdpug.org
END:VEVENT
BEGIN:VEVENT
DTSTART:20220106T010000Z
DTEND:20220106T020000Z
DTSTAMP:20260422T114246
CREATED:20211213T135736Z
LAST-MODIFIED:20211213T135736Z
UID:21544-1641409200-1641412800@hdpusergroup.org
SUMMARY:Reliability of Wettable Flank in Routable QFN for Automotive Project call
DESCRIPTION:Call to review FA status and final report 
URL:https://hdpusergroup.org/event/reliability-of-wettable-flank-in-routable-qfn-for-automotive-project-call-19/
LOCATION:Virtual
CATEGORIES:Reliability of Wettable Flank in Routable QFN for Automotive
ORGANIZER;CN=HDP:mailto:webmaster@hdpug.org
END:VEVENT
BEGIN:VEVENT
DTSTART:20220106T140000Z
DTEND:20220106T150000Z
DTSTAMP:20260422T114246
CREATED:20211209T144758Z
LAST-MODIFIED:20211209T144758Z
UID:21529-1641456000-1641459600@hdpusergroup.org
SUMMARY:DISC2A
DESCRIPTION:Back drill sample results 
URL:https://hdpusergroup.org/event/disc2a-38/
CATEGORIES:Digital Speckle Correlation (DSC) 2
ORGANIZER;CN=HDP:mailto:webmaster@hdpug.org
END:VEVENT
BEGIN:VEVENT
DTSTART:20220106T160000Z
DTEND:20220106T170000Z
DTSTAMP:20260422T114246
CREATED:20211208T170544Z
LAST-MODIFIED:20211208T170544Z
UID:21524-1641463200-1641466800@hdpusergroup.org
SUMMARY:Materials #6 meeting
DESCRIPTION:Meeting 
URL:https://hdpusergroup.org/event/materials-6-meeting-13/
CATEGORIES:Lead Free PWB Materials Reliability Phase 6
ORGANIZER;CN=HDP:mailto:webmaster@hdpug.org
END:VEVENT
BEGIN:VEVENT
DTSTART:20220107T150000Z
DTEND:20220107T160000Z
DTSTAMP:20260422T114246
CREATED:20211216T200830Z
LAST-MODIFIED:20211216T200830Z
UID:21707-1641546000-1641549600@hdpusergroup.org
SUMMARY:Microvia Rel
DESCRIPTION:Continue to scope out a possible path forward for the project 
URL:https://hdpusergroup.org/event/microvia-rel/
CATEGORIES:Microvia Reliability
ORGANIZER;CN=HDP:mailto:webmaster@hdpug.org
END:VEVENT
BEGIN:VEVENT
DTSTART:20220110T200000Z
DTEND:20220110T210000Z
DTSTAMP:20260422T114246
CREATED:20220110T141857Z
LAST-MODIFIED:20220110T141857Z
UID:21769-1641823200-1641826800@hdpusergroup.org
SUMMARY:Bev and Jack
DESCRIPTION:Bev and Jack 
URL:https://hdpusergroup.org/event/bev-and-jack/
CATEGORIES:Staff Calendar
ORGANIZER;CN=HDP:mailto:webmaster@hdpug.org
END:VEVENT
BEGIN:VEVENT
DTSTART:20220111T160000Z
DTEND:20220111T170000Z
DTSTAMP:20260422T114246
CREATED:20220101T184857Z
LAST-MODIFIED:20220101T184857Z
UID:21740-1641895200-1641898800@hdpusergroup.org
SUMMARY:Reliability and Power Cycles telecom
DESCRIPTION:Reliability and Power Cycles telecom 
URL:https://hdpusergroup.org/event/reliability-and-power-cycles-telecom-30/
CATEGORIES:Reliability and Power Cycles
ORGANIZER;CN=HDP:mailto:webmaster@hdpug.org
END:VEVENT
BEGIN:VEVENT
DTSTART:20220112T150000Z
DTEND:20220112T160000Z
DTSTAMP:20260422T114246
CREATED:20220107T155657Z
LAST-MODIFIED:20220107T155657Z
UID:21768-1641978000-1641981600@hdpusergroup.org
SUMMARY:Microvia Rel
DESCRIPTION:Continue fleshing out the project 
URL:https://hdpusergroup.org/event/microvia-rel-2/
CATEGORIES:Microvia Reliability
ORGANIZER;CN=HDP:mailto:webmaster@hdpug.org
END:VEVENT
BEGIN:VEVENT
DTSTART:20220112T160000Z
DTEND:20220112T170000Z
DTSTAMP:20260422T114246
CREATED:20211129T151849Z
LAST-MODIFIED:20211129T151849Z
UID:21472-1641981600-1641985200@hdpusergroup.org
SUMMARY:Better CAF Eq
DESCRIPTION:Status of project 
URL:https://hdpusergroup.org/event/better-caf-eq-14/
CATEGORIES:Better CAF Acceleration Equation
ORGANIZER;CN=HDP:mailto:webmaster@hdpug.org
END:VEVENT
BEGIN:VEVENT
DTSTART:20220112T210000Z
DTEND:20220112T220000Z
DTSTAMP:20260422T114246
CREATED:20220106T161241Z
LAST-MODIFIED:20220106T161241Z
UID:21760-1641999600-1642003200@hdpusergroup.org
SUMMARY:Photonic Soldering II
DESCRIPTION:Continuing to work towards Implementation 
URL:https://hdpusergroup.org/event/photonic-soldering-ii-11/
CATEGORIES:Photonic Soldering 2
ORGANIZER;CN=HDP:mailto:webmaster@hdpug.org
END:VEVENT
BEGIN:VEVENT
DTSTART:20220113T140000Z
DTEND:20220113T150000Z
DTSTAMP:20260422T114246
CREATED:20220106T141357Z
LAST-MODIFIED:20220106T141357Z
UID:21759-1642060800-1642064400@hdpusergroup.org
SUMMARY:DISC2A
DESCRIPTION:We will start working on the final report. 
URL:https://hdpusergroup.org/event/disc2a-39/
CATEGORIES:Digital Speckle Correlation (DSC) 2
ORGANIZER;CN=HDP:mailto:webmaster@hdpug.org
END:VEVENT
BEGIN:VEVENT
DTSTART:20220113T150000Z
DTEND:20220113T160000Z
DTSTAMP:20260422T114246
CREATED:20211208T152142Z
LAST-MODIFIED:20211208T152142Z
UID:21523-1642064400-1642068000@hdpusergroup.org
SUMMARY:ECM 2 Project Meeting
DESCRIPTION:Meeting 
URL:https://hdpusergroup.org/event/ecm-2-project-meeting-8/
CATEGORIES:Electro-Chemical Migration 2
ORGANIZER;CN=HDP:mailto:webmaster@hdpug.org
END:VEVENT
BEGIN:VEVENT
DTSTART:20220113T160000Z
DTEND:20220113T170000Z
DTSTAMP:20260422T114246
CREATED:20220103T214727Z
LAST-MODIFIED:20220103T214727Z
UID:21560-1642068000-1642071600@hdpusergroup.org
SUMMARY:Backdrill Transition KO telecom
DESCRIPTION:Backdrill Transition KO telecom 
URL:https://hdpusergroup.org/event/backdrill-transition-ko-telecom/
CATEGORIES:Back drill to Primary via Transition
ORGANIZER;CN=HDP:mailto:webmaster@hdpug.org
END:VEVENT
BEGIN:VEVENT
DTSTART:20220114T150000Z
DTEND:20220114T160000Z
DTSTAMP:20260422T114246
CREATED:20211213T142057Z
LAST-MODIFIED:20211213T142057Z
UID:21545-1642150800-1642154400@hdpusergroup.org
SUMMARY:Effects of Plating Thickness on CTF at IST Project Call
DESCRIPTION:Effects of Plating Thickness on CTF at IST Project Call 
URL:https://hdpusergroup.org/event/effects-of-plating-thickness-on-ctf-at-ist-project-call-7/
CATEGORIES:Effects of Plating Thickness on Cycles to Failure at IST
ORGANIZER;CN=HDP:mailto:webmaster@hdpug.org
END:VEVENT
BEGIN:VEVENT
DTSTART:20220114T160000Z
DTEND:20220114T170000Z
DTSTAMP:20260422T114246
CREATED:20220103T214804Z
LAST-MODIFIED:20220103T214804Z
UID:21561-1642154400-1642158000@hdpusergroup.org
SUMMARY:Innerlayer Copper Balancing telecom
DESCRIPTION:Innerlayer Copper Balancing telecom 
URL:https://hdpusergroup.org/event/innerlayer-copper-balancing-telecom-16/
CATEGORIES:Local Copper Density
ORGANIZER;CN=HDP:mailto:webmaster@hdpug.org
END:VEVENT
BEGIN:VEVENT
DTSTART:20220114T170000Z
DTEND:20220114T180000Z
DTSTAMP:20260422T114246
CREATED:20220106T223601Z
LAST-MODIFIED:20220106T223601Z
UID:21762-1642158000-1642161600@hdpusergroup.org
SUMMARY:Ultra-Low Dk Glass Project Call
DESCRIPTION:Ultra-Low Dk Glass project call 
URL:https://hdpusergroup.org/event/ultra-low-dk-glass-project-call-3/
CATEGORIES:Glass Weave
ORGANIZER;CN=HDP:mailto:webmaster@hdpug.org
END:VEVENT
BEGIN:VEVENT
DTSTART:20220117T190000Z
DTEND:20220117T200000Z
DTSTAMP:20260422T114246
CREATED:20220112T171240Z
LAST-MODIFIED:20220112T171240Z
UID:21779-1642424400-1642428000@hdpusergroup.org
SUMMARY:Discussion with Joe Dickson
DESCRIPTION:Discussion with Joe Dickson 
URL:https://hdpusergroup.org/event/discussion-with-joe-dickson/
CATEGORIES:Staff Calendar
ORGANIZER;CN=HDP:mailto:webmaster@hdpug.org
END:VEVENT
BEGIN:VEVENT
DTSTART:20220118T160000Z
DTEND:20220118T170000Z
DTSTAMP:20260422T114246
CREATED:20211216T202006Z
LAST-MODIFIED:20211216T202006Z
UID:21710-1642500000-1642503600@hdpusergroup.org
SUMMARY:Board Thickness II
DESCRIPTION:Final report 
URL:https://hdpusergroup.org/event/board-thickness-ii-26/
CATEGORIES:Board Thickness Effect on ATC Reliability II
ORGANIZER;CN=HDP:mailto:webmaster@hdpug.org
END:VEVENT
BEGIN:VEVENT
DTSTART:20220118T170000Z
DTEND:20220118T180000Z
DTSTAMP:20260422T114246
CREATED:20220113T155619Z
LAST-MODIFIED:20220113T155619Z
UID:21795-1642503600-1642507200@hdpusergroup.org
SUMMARY:Reliability and Power Cycles telecom
DESCRIPTION:Reliability and Power Cycles 
URL:https://hdpusergroup.org/event/reliability-and-power-cycles-telecom-31/
CATEGORIES:Reliability and Power Cycles
ORGANIZER;CN=HDP:mailto:webmaster@hdpug.org
END:VEVENT
BEGIN:VEVENT
DTSTART:20220118T180000Z
DTEND:20220118T190000Z
DTSTAMP:20260422T114246
CREATED:20220103T170450Z
LAST-MODIFIED:20220103T170450Z
UID:21739-1642507200-1642510800@hdpusergroup.org
SUMMARY:Harsh Use Alloy Evaluation Project
DESCRIPTION:Project review 
URL:https://hdpusergroup.org/event/harsh-use-alloy-evaluation-project-2/
CATEGORIES:Harsh Use Alloy Evaluation 2
ORGANIZER;CN=HDP:mailto:webmaster@hdpug.org
END:VEVENT
BEGIN:VEVENT
DTSTART:20220119T150000Z
DTEND:20220119T160000Z
DTSTAMP:20260422T114246
CREATED:20220112T170323Z
LAST-MODIFIED:20220112T170323Z
UID:21778-1642582800-1642586400@hdpusergroup.org
SUMMARY:Microvia Rel
DESCRIPTION:Continue working on determining project direction 
URL:https://hdpusergroup.org/event/microvia-rel-3/
CATEGORIES:Microvia Reliability
ORGANIZER;CN=HDP:mailto:webmaster@hdpug.org
END:VEVENT
BEGIN:VEVENT
DTSTART:20220119T160000Z
DTEND:20220119T170000Z
DTSTAMP:20260422T114246
CREATED:20211217T001710Z
LAST-MODIFIED:20211217T001710Z
UID:21711-1642586400-1642590000@hdpusergroup.org
SUMMARY:Single Surface Finish Meeting
DESCRIPTION:Meeting 
URL:https://hdpusergroup.org/event/single-surface-finish-meeting-7/
CATEGORIES:Single Surface Finish for Soldered & Compression
ORGANIZER;CN=HDP:mailto:webmaster@hdpug.org
END:VEVENT
BEGIN:VEVENT
DTSTART:20220119T200000Z
DTEND:20220119T210000Z
DTSTAMP:20260422T114246
CREATED:20211215T201352Z
LAST-MODIFIED:20211215T201352Z
UID:21588-1642600800-1642604400@hdpusergroup.org
SUMMARY:PCB Feature Min
DESCRIPTION:Progress report from Calumet 
URL:https://hdpusergroup.org/event/pcb-feature-min-16/
CATEGORIES:PCB Feature Miniaturization
ORGANIZER;CN=HDP:mailto:webmaster@hdpug.org
END:VEVENT
BEGIN:VEVENT
DTSTART:20220126T020000Z
DTEND:20220126T030000Z
DTSTAMP:20260422T114246
CREATED:20220119T121002Z
LAST-MODIFIED:20220119T121002Z
UID:21828-1643140800-1643144400@hdpusergroup.org
SUMMARY:HDP Welcomes VGT and Orientation Call
DESCRIPTION:HDP Welcomes VGT and Orientation Call 
URL:https://hdpusergroup.org/event/hdp-welcomes-vgt-and-orientation-call/
CATEGORIES:Staff Calendar
ORGANIZER;CN=HDP:mailto:webmaster@hdpug.org
END:VEVENT
BEGIN:VEVENT
DTSTART:20220126T140000Z
DTEND:20220126T150000Z
DTSTAMP:20260422T114246
CREATED:20211230T142937Z
LAST-MODIFIED:20211230T142937Z
UID:21736-1643184000-1643187600@hdpusergroup.org
SUMMARY:PFH Technology Phase 2 Project Call
DESCRIPTION:PFH Technology Phase 2 Project Call 
URL:https://hdpusergroup.org/event/pfh-technology-phase-2-project-call-10/
CATEGORIES:PFH Technology 2
ORGANIZER;CN=HDP:mailto:webmaster@hdpug.org
END:VEVENT
BEGIN:VEVENT
DTSTART:20220127T010000Z
DTEND:20220127T020000Z
DTSTAMP:20260422T114246
CREATED:20220106T185039Z
LAST-MODIFIED:20220106T185039Z
UID:21766-1643223600-1643227200@hdpusergroup.org
SUMMARY:Reliability of Wettable Flank in Routable QFN for Automotive Project Call
DESCRIPTION:Project call for FA review and report writing 
URL:https://hdpusergroup.org/event/reliability-of-wettable-flank-in-routable-qfn-for-automotive-project-call-20/
LOCATION:Virtual
CATEGORIES:Reliability of Wettable Flank in Routable QFN for Automotive
ORGANIZER;CN=HDP:mailto:webmaster@hdpug.org
END:VEVENT
END:VCALENDAR