BEGIN:VCALENDAR
VERSION:2.0
PRODID:-//HDP User Group - ECPv6.10.1.1//NONSGML v1.0//EN
CALSCALE:GREGORIAN
METHOD:PUBLISH
X-ORIGINAL-URL:https://hdpusergroup.org
X-WR-CALDESC:Events for HDP User Group
REFRESH-INTERVAL;VALUE=DURATION:PT1H
X-Robots-Tag:noindex
X-PUBLISHED-TTL:PT1H
BEGIN:VTIMEZONE
TZID:America/Chicago
BEGIN:DAYLIGHT
TZOFFSETFROM:-0600
TZOFFSETTO:-0500
TZNAME:CDT
DTSTART:20210314T080000
END:DAYLIGHT
BEGIN:STANDARD
TZOFFSETFROM:-0500
TZOFFSETTO:-0600
TZNAME:CST
DTSTART:20211107T070000
END:STANDARD
END:VTIMEZONE
BEGIN:VEVENT
DTSTART:20211001T160000Z
DTEND:20211001T170000Z
DTSTAMP:20260422T162926
CREATED:20210927T163653Z
LAST-MODIFIED:20210927T163653Z
UID:20938-1633086000-1633089600@hdpusergroup.org
SUMMARY:Technical Direction telecom
DESCRIPTION:Technical Direction telecom 
URL:https://hdpusergroup.org/event/technical-direction-telecom-3/
CATEGORIES:Staff Calendar
ORGANIZER;CN=HDP:mailto:webmaster@hdpug.org
END:VEVENT
BEGIN:VEVENT
DTSTART:20211005T190000Z
DTEND:20211005T200000Z
DTSTAMP:20260422T162926
CREATED:20210914T193341Z
LAST-MODIFIED:20210914T193341Z
UID:20807-1633442400-1633446000@hdpusergroup.org
SUMMARY:Board thickness II
DESCRIPTION:Finalize the closeout presentation 
URL:https://hdpusergroup.org/event/board-thickness-ii-23/
CATEGORIES:Board Thickness Effect on ATC Reliability II
ORGANIZER;CN=HDP:mailto:webmaster@hdpug.org
END:VEVENT
BEGIN:VEVENT
DTSTART:20211005T200000Z
DTEND:20211005T210000Z
DTSTAMP:20260422T162926
CREATED:20210928T163214Z
LAST-MODIFIED:20210928T163214Z
UID:20946-1633446000-1633449600@hdpusergroup.org
SUMMARY:Photontic Soldering II
DESCRIPTION:Review presentation for October meeting \nWork on plan 
URL:https://hdpusergroup.org/event/photontic-soldering-ii/
CATEGORIES:Photonic Soldering
ORGANIZER;CN=HDP:mailto:webmaster@hdpug.org
END:VEVENT
BEGIN:VEVENT
DTSTART:20211006T140000Z
DTEND:20211006T150000Z
DTSTAMP:20260422T162926
CREATED:20210920T114547Z
LAST-MODIFIED:20210920T114547Z
UID:20836-1633510800-1633514400@hdpusergroup.org
SUMMARY:Reliability of QFN for Auto call
DESCRIPTION:Call to discuss final 6000 cycle results and final report 
URL:https://hdpusergroup.org/event/reliability-of-qfn-for-auto-call/
CATEGORIES:Reliability of Wettable Flank in Routable QFN for Automotive
ORGANIZER;CN=HDP:mailto:webmaster@hdpug.org
END:VEVENT
BEGIN:VEVENT
DTSTART:20211006T150000Z
DTEND:20211006T160000Z
DTSTAMP:20260422T162926
CREATED:20210928T151315Z
LAST-MODIFIED:20210928T151315Z
UID:20945-1633514400-1633518000@hdpusergroup.org
SUMMARY:Reliability and Power Cycles telecom
DESCRIPTION:Reliability and Power Cycles telecom 
URL:https://hdpusergroup.org/event/reliability-and-power-cycles-telecom-26/
CATEGORIES:Reliability and Power Cycles
ORGANIZER;CN=HDP:mailto:webmaster@hdpug.org
END:VEVENT
BEGIN:VEVENT
DTSTART:20211006T170000Z
DTEND:20211006T180000Z
DTSTAMP:20260422T162926
CREATED:20210908T200732Z
LAST-MODIFIED:20210908T200732Z
UID:20568-1633521600-1633525200@hdpusergroup.org
SUMMARY:Low Ag Alloy Solderpaste BGA leg Oct 6 2021 project meeting
DESCRIPTION:Low Ag Alloy Solderpaste BGA leg Oct 6 2021 project meeting 
URL:https://hdpusergroup.org/event/low-ag-alloy-solderpaste-bga-leg-oct-6-2021-project-meeting/
LOCATION:WebEx
CATEGORIES:Low Ag Alloy Solderpaste Reliability – BGA Leg
ORGANIZER;CN=HDP:mailto:webmaster@hdpug.org
END:VEVENT
BEGIN:VEVENT
DTSTART:20211006T180000Z
DTEND:20211006T190000Z
DTSTAMP:20260422T162926
CREATED:20210928T200824Z
LAST-MODIFIED:20210928T200824Z
UID:20949-1633525200-1633528800@hdpusergroup.org
SUMMARY:Glass Type Comparison Oct 6\, 2021 project meeting
DESCRIPTION:Glass Type Comparison Oct 6\, 2021 project meeting 
URL:https://hdpusergroup.org/event/glass-type-comparison-oct-6-2021-project-meeting/
CATEGORIES:Glass Type Composition
ORGANIZER;CN=HDP:mailto:webmaster@hdpug.org
END:VEVENT
BEGIN:VEVENT
DTSTART:20211007T130000Z
DTEND:20211007T140000Z
DTSTAMP:20260422T162926
CREATED:20210930T145609Z
LAST-MODIFIED:20210930T145609Z
UID:20998-1633593600-1633597200@hdpusergroup.org
SUMMARY:DISC2A
DESCRIPTION:Complete PowerPoint for HDP Meeting 
URL:https://hdpusergroup.org/event/disc2a-34/
CATEGORIES:Digital Speckle Correlation (DSC) 2
ORGANIZER;CN=HDP:mailto:webmaster@hdpug.org
END:VEVENT
BEGIN:VEVENT
DTSTART:20211007T150000Z
DTEND:20211007T160000Z
DTSTAMP:20260422T162926
CREATED:20210923T152514Z
LAST-MODIFIED:20210923T152514Z
UID:20923-1633600800-1633604400@hdpusergroup.org
SUMMARY:Materials #6 meeting
DESCRIPTION:Meeting 
URL:https://hdpusergroup.org/event/materials-6-meeting-10/
CATEGORIES:Lead Free PWB Materials Reliability Phase 6
ORGANIZER;CN=HDP:mailto:webmaster@hdpug.org
END:VEVENT
BEGIN:VEVENT
DTSTART:20211007T160000Z
DTEND:20211007T170000Z
DTSTAMP:20260422T162926
CREATED:20210914T164903Z
LAST-MODIFIED:20210914T164903Z
UID:20802-1633604400-1633608000@hdpusergroup.org
SUMMARY:Cu Surface Treatment project meeting
DESCRIPTION:Cu Surface Treatment project meeting of Oct 7\, 2021 
URL:https://hdpusergroup.org/event/cu-surface-treatment-project-meeting/
CATEGORIES:Cu Grain Structure
ORGANIZER;CN=HDP:mailto:webmaster@hdpug.org
END:VEVENT
BEGIN:VEVENT
DTSTART:20211008T140000Z
DTEND:20211008T150000Z
DTSTAMP:20260422T162926
CREATED:20210917T144041Z
LAST-MODIFIED:20210917T144041Z
UID:20825-1633683600-1633687200@hdpusergroup.org
SUMMARY:Effects of Plating Thickness on CTF at IST
DESCRIPTION:Effects of Plating Thickness on CTF at IST 
URL:https://hdpusergroup.org/event/effects-of-plating-thickness-on-ctf-at-ist-2/
CATEGORIES:Effects of Plating Thickness on Cycles to Failure at IST
ORGANIZER;CN=HDP:mailto:webmaster@hdpug.org
END:VEVENT
BEGIN:VEVENT
DTSTART:20211008T150000Z
DTEND:20211008T160000Z
DTSTAMP:20260422T162926
CREATED:20211004T154340Z
LAST-MODIFIED:20211004T154340Z
UID:21019-1633687200-1633690800@hdpusergroup.org
SUMMARY:Ultra-Low Dk Glass Project
DESCRIPTION:Ultra-Low Dk Glass Project Call 
URL:https://hdpusergroup.org/event/ultra-low-dk-glass-project-2/
CATEGORIES:Glass Weave
ORGANIZER;CN=HDP:mailto:webmaster@hdpug.org
END:VEVENT
BEGIN:VEVENT
DTSTART:20211011T150000Z
DTEND:20211011T160000Z
DTSTAMP:20260422T162926
CREATED:20210922T151321Z
LAST-MODIFIED:20210922T151321Z
UID:20897-1633946400-1633950000@hdpusergroup.org
SUMMARY:ECM 2 Project Call
DESCRIPTION:Meeting 
URL:https://hdpusergroup.org/event/ecm-2-project-call-10/
CATEGORIES:Electro-Chemical Migration 2
ORGANIZER;CN=HDP:mailto:webmaster@hdpug.org
END:VEVENT
BEGIN:VEVENT
DTSTART:20211011T160000Z
DTEND:20211011T170000Z
DTSTAMP:20260422T162926
CREATED:20210927T153436Z
LAST-MODIFIED:20210927T153436Z
UID:20937-1633950000-1633953600@hdpusergroup.org
SUMMARY:Backdrill Under BGA telecom
DESCRIPTION:Backdrill Under BGA telecom 
URL:https://hdpusergroup.org/event/backdrill-under-bga-telecom-27/
CATEGORIES:Backdrill Under BGA
ORGANIZER;CN=HDP:mailto:webmaster@hdpug.org
END:VEVENT
BEGIN:VEVENT
DTSTART:20211012T170000Z
DTEND:20211012T210000Z
DTSTAMP:20260422T162926
CREATED:20210929T175510Z
LAST-MODIFIED:20210929T175510Z
UID:20576-1634040000-1634054400@hdpusergroup.org
SUMMARY:HDP Board of Directors Call
DESCRIPTION:Review of year-to-date progress and project movement approval. Agenda to follow nearer to call date. \n  
URL:https://hdpusergroup.org/event/hdp-board-of-directors-call/
CATEGORIES:Board Calendar
ORGANIZER;CN=HDP:mailto:webmaster@hdpug.org
END:VEVENT
BEGIN:VEVENT
DTSTART:20211012T170000Z
DTEND:20211012T220000Z
DTSTAMP:20260422T162926
CREATED:20211008T150224Z
LAST-MODIFIED:20211008T150224Z
UID:20952-1634040000-1634058000@hdpusergroup.org
SUMMARY:Board of Directors Meeting October 12\, 2021
DESCRIPTION:Fall Board of Directors Meeting. \nCall information: \nHDP Board of Directors Call\nMeeting number (access code): 25570476643Meeting password: pass123 \nWhen it’s time\, Join the meeting \nJoin by phone:1-650-479-3208 Call-in toll number (US/Canada) Access Code: 25570476643 
URL:https://hdpusergroup.org/event/board-of-directors-meeting-october-12-2021/
CATEGORIES:Board Meetings
ORGANIZER;CN=HDP:mailto:webmaster@hdpug.org
END:VEVENT
BEGIN:VEVENT
DTSTART:20211013T010000Z
DTEND:20211013T020000Z
DTSTAMP:20260422T162926
CREATED:20210915T151418Z
LAST-MODIFIED:20210915T151418Z
UID:20492-1634068800-1634072400@hdpusergroup.org
SUMMARY:LVH Lifetime Predictor for TC Project Call
DESCRIPTION:LVH Lifetime Predictor for TC Project Call 
URL:https://hdpusergroup.org/event/lvh-lifetime-predictor-for-tc-project-call-8/
CATEGORIES:LVH Lifetime Predictor for TC
ORGANIZER;CN=HDP:mailto:webmaster@hdpug.org
END:VEVENT
BEGIN:VEVENT
DTSTART:20211013T020000Z
DTEND:20211013T030000Z
DTSTAMP:20260422T162926
CREATED:20210920T063415Z
LAST-MODIFIED:20210920T063415Z
UID:20491-1634072400-1634076000@hdpusergroup.org
SUMMARY:High Speed Hybrid PWB Project Call
DESCRIPTION:High Speed Hybrid PWB Project Call 
URL:https://hdpusergroup.org/event/high-speed-hybrid-pwb-project-call-35/
CATEGORIES:High Speed Hybrid PWB
ORGANIZER;CN=HDP:mailto:webmaster@hdpug.org
END:VEVENT
BEGIN:VEVENT
DTSTART:20211013T140000Z
DTEND:20211013T150000Z
DTSTAMP:20260422T162926
CREATED:20211013T001943Z
LAST-MODIFIED:20211013T001943Z
UID:20575-1634115600-1634119200@hdpusergroup.org
SUMMARY:PFH Technology Phase 2 Project Call
DESCRIPTION:PFH Technology Phase 2 Project Call 
URL:https://hdpusergroup.org/event/pfh-technology-phase-2-project-call-6/
CATEGORIES:PFH Technology 2
ORGANIZER;CN=HDP:mailto:webmaster@hdpug.org
END:VEVENT
BEGIN:VEVENT
DTSTART:20211013T190000Z
DTEND:20211013T200000Z
DTSTAMP:20260422T162926
CREATED:20210928T192735Z
LAST-MODIFIED:20210928T192735Z
UID:20947-1634133600-1634137200@hdpusergroup.org
SUMMARY:PCB Feature Min
DESCRIPTION:Final review of meeting presentation 
URL:https://hdpusergroup.org/event/pcb-feature-min-14/
CATEGORIES:PCB Feature Miniaturization
ORGANIZER;CN=HDP:mailto:webmaster@hdpug.org
END:VEVENT
BEGIN:VEVENT
DTSTART:20211014T150000Z
DTEND:20211014T160000Z
DTSTAMP:20260422T162926
CREATED:20210930T154451Z
LAST-MODIFIED:20210930T154451Z
UID:20999-1634205600-1634209200@hdpusergroup.org
SUMMARY:Single Surface Finish Meeting
DESCRIPTION:Meeting 
URL:https://hdpusergroup.org/event/single-surface-finish-meeting-2/
CATEGORIES:Single Surface Finish for Soldered & Compression
ORGANIZER;CN=HDP:mailto:webmaster@hdpug.org
END:VEVENT
BEGIN:VEVENT
DTSTART:20211014T210000Z
DTEND:20211014T220000Z
DTSTAMP:20260422T162926
CREATED:20211013T210901Z
LAST-MODIFIED:20211013T210901Z
UID:21109-1634227200-1634230800@hdpusergroup.org
SUMMARY:Call with John Marke to discuss Slides
DESCRIPTION:Call to discuss slides 
URL:https://hdpusergroup.org/event/call-with-john-marke-to-discuss-slides/
CATEGORIES:Staff Calendar
ORGANIZER;CN=HDP:mailto:webmaster@hdpug.org
END:VEVENT
BEGIN:VEVENT
DTSTART:20211017T200000Z
DTEND:20211017T210000Z
DTSTAMP:20260422T162926
CREATED:20211017T185531Z
LAST-MODIFIED:20211017T185531Z
UID:21125-1634482800-1634486400@hdpusergroup.org
SUMMARY:Smitty Computer
DESCRIPTION:Computer set up and test with Smitty 
URL:https://hdpusergroup.org/event/smitty-computer/
CATEGORIES:Staff Calendar
ORGANIZER;CN=HDP:mailto:webmaster@hdpug.org
END:VEVENT
BEGIN:VEVENT
DTSTART:20211020T020000Z
DTEND:20211020T030000Z
DTSTAMP:20260422T162926
CREATED:20211013T143749Z
LAST-MODIFIED:20211013T143749Z
UID:21079-1634677200-1634680800@hdpusergroup.org
SUMMARY:VGT HDP Introductory Call
DESCRIPTION:VGT HDP Introductory Call 
URL:https://hdpusergroup.org/event/vgt-hdp-introductory-call/
CATEGORIES:Staff Calendar
ORGANIZER;CN=HDP:mailto:webmaster@hdpug.org
END:VEVENT
BEGIN:VEVENT
DTSTART:20211020T140000Z
DTEND:20211021T013000Z
DTSTAMP:20260422T162926
CREATED:20211021T173309Z
LAST-MODIFIED:20211021T173309Z
UID:20339-1634720400-1634761800@hdpusergroup.org
SUMMARY:HDP October 2021 Virtual Member Meeting
DESCRIPTION:We had planned to have a face-to-face fall meeting\, but the recent COVID-19 delta variant outbreak continues to cause many restrictions on travel. It has forced companies to continue restrictions on employees’ participation in conferences and external events. Our staff and members’ safety are paramount\, and the logistics requirements and potential participation make it difficult to hold a safe\, successful meeting. \nIt is important to have another meeting this fall to allow members the opportunity to ask questions and suggest new project ideas. The virtual meeting sessions will take place over two days\, October 20 and 21. The agenda for both days is below. \nMeeting Call Information \nDay 1 – Wednesday\, October 20th  \nWhen it’s time\, join the Webex meeting here. \n\n\n\n\nJoin meeting \n\n\n\n\nJoin from the meeting linkhttps://hdpug.webex.com/hdpug/j.php?MTID=m85f44ea9ca2272e6bc5f984e02642327 Join by meeting numberMeeting number (access code) 2550 598 7711Meeting password HDPOctoberJoin by phone1-650-479-3208 Call-in toll number (US/Canada)Global call-in numbers \nDay 2 – Thrusday October 21st \nWhen it’s time\, join the Webex meeting here. \n\n\n\n\nJoin meeting \n\n\n\n\nJoin from the meeting linkhttps://hdpug.webex.com/hdpug/j.php?MTID=m0bec1e1b63f6db1a725a67c0b0398d1d \nJoin by meeting numberMeeting number (access code) 2555 798 1487Meeting password HDPOctoberJoin by phone1-650-479-3208 Call-in toll number (US/Canada)Global call-in numbers \n \n 
URL:https://hdpusergroup.org/event/hdp-october-2021-virtual-member-meeting/2021-10-20/
CATEGORIES:Member Meetings
ORGANIZER;CN=HDP:mailto:webmaster@hdpug.org
END:VEVENT
BEGIN:VEVENT
DTSTART:20211025T160000Z
DTEND:20211025T170000Z
DTSTAMP:20260422T162926
CREATED:20211019T123733Z
LAST-MODIFIED:20211019T123733Z
UID:21144-1635159600-1635163200@hdpusergroup.org
SUMMARY:Backdrill Under BGA telecom
DESCRIPTION:Backdrill Under BGA telecom 
URL:https://hdpusergroup.org/event/backdrill-under-bga-telecom-28/
CATEGORIES:Backdrill Under BGA
ORGANIZER;CN=HDP:mailto:webmaster@hdpug.org
END:VEVENT
BEGIN:VEVENT
DTSTART:20211026T170000Z
DTEND:20211026T180000Z
DTSTAMP:20260422T162926
CREATED:20211021T130859Z
LAST-MODIFIED:20211021T130859Z
UID:21149-1635249600-1635253200@hdpusergroup.org
SUMMARY:Harsh Use Alloy Evaluation Project
DESCRIPTION:Harsh Use Alloy Project Review 
URL:https://hdpusergroup.org/event/harsh-use-alloy-evaluation-project/
CATEGORIES:Harsh Use Alloy Evaluation 2
ORGANIZER;CN=HDP:mailto:webmaster@hdpug.org
END:VEVENT
BEGIN:VEVENT
DTSTART:20211026T200000Z
DTEND:20211026T210000Z
DTSTAMP:20260422T162926
CREATED:20211006T200703Z
LAST-MODIFIED:20211006T200703Z
UID:21050-1635260400-1635264000@hdpusergroup.org
SUMMARY:Photonic Soldering 2
DESCRIPTION:Continue building the project plan 
URL:https://hdpusergroup.org/event/photonic-soldering-2-2/
CATEGORIES:Photonic Soldering 2
ORGANIZER;CN=HDP:mailto:webmaster@hdpug.org
END:VEVENT
BEGIN:VEVENT
DTSTART:20211027T000000Z
DTEND:20211027T010000Z
DTSTAMP:20260422T162926
CREATED:20211008T151425Z
LAST-MODIFIED:20211008T151425Z
UID:21057-1635274800-1635278400@hdpusergroup.org
SUMMARY:Reliability of Wettable Flank in Routable QFN for Automotive
DESCRIPTION:Call to discuss the final report. 
URL:https://hdpusergroup.org/event/reliability-of-wettable-flank-in-routable-qfn-for-automotive-11/
CATEGORIES:Reliability of Wettable Flank in Routable QFN for Automotive
ORGANIZER;CN=HDP:mailto:webmaster@hdpug.org
END:VEVENT
BEGIN:VEVENT
DTSTART:20211027T150000Z
DTEND:20211027T160000Z
DTSTAMP:20260422T162926
CREATED:20211011T160332Z
LAST-MODIFIED:20211011T160332Z
UID:21073-1635328800-1635332400@hdpusergroup.org
SUMMARY:ECM 2 Project Call
DESCRIPTION:Meeting 
URL:https://hdpusergroup.org/event/ecm-2-project-call-11/
CATEGORIES:Electro-Chemical Migration 2
ORGANIZER;CN=HDP:mailto:webmaster@hdpug.org
END:VEVENT
END:VCALENDAR