BEGIN:VCALENDAR
VERSION:2.0
PRODID:-//HDP User Group - ECPv6.10.1.1//NONSGML v1.0//EN
CALSCALE:GREGORIAN
METHOD:PUBLISH
X-ORIGINAL-URL:https://hdpusergroup.org
X-WR-CALDESC:Events for HDP User Group
REFRESH-INTERVAL;VALUE=DURATION:PT1H
X-Robots-Tag:noindex
X-PUBLISHED-TTL:PT1H
BEGIN:VTIMEZONE
TZID:America/Chicago
BEGIN:DAYLIGHT
TZOFFSETFROM:-0600
TZOFFSETTO:-0500
TZNAME:CDT
DTSTART:20210314T080000
END:DAYLIGHT
BEGIN:STANDARD
TZOFFSETFROM:-0500
TZOFFSETTO:-0600
TZNAME:CST
DTSTART:20211107T070000
END:STANDARD
END:VTIMEZONE
BEGIN:VEVENT
DTSTART:20210902T110000Z
DTEND:20210902T120000Z
DTSTAMP:20260424T050930
CREATED:20210831T143308Z
LAST-MODIFIED:20210831T143308Z
UID:20489-1630562400-1630566000@hdpusergroup.org
SUMMARY:Call to discuss capacitor project start
DESCRIPTION:Call to discuss pre idea project start 
URL:https://hdpusergroup.org/event/call-to-discuss-capacitor-project-start/
CATEGORIES:Staff Calendar
ORGANIZER;CN=HDP:mailto:webmaster@hdpug.org
END:VEVENT
BEGIN:VEVENT
DTSTART:20210902T150000Z
DTEND:20210902T160000Z
DTSTAMP:20260424T050930
CREATED:20210819T155627Z
LAST-MODIFIED:20210819T155627Z
UID:20357-1630576800-1630580400@hdpusergroup.org
SUMMARY:Single Surface Finish project call
DESCRIPTION:Meeting 
URL:https://hdpusergroup.org/event/single-surface-finish-project-call-2/
CATEGORIES:Single Surface Finish for Soldered & Compression
ORGANIZER;CN=HDP:mailto:webmaster@hdpug.org
END:VEVENT
BEGIN:VEVENT
DTSTART:20210907T150000Z
DTEND:20210907T160000Z
DTSTAMP:20260424T050930
CREATED:20210903T031546Z
LAST-MODIFIED:20210903T031546Z
UID:20343-1631008800-1631012400@hdpusergroup.org
SUMMARY:Innerlayer Copper Balancing telecom
DESCRIPTION:Innerlayer Copper Balancing telecom 
URL:https://hdpusergroup.org/event/innerlayer-copper-balancing-telecom-12/
CATEGORIES:Local Copper Density
ORGANIZER;CN=HDP:mailto:webmaster@hdpug.org
END:VEVENT
BEGIN:VEVENT
DTSTART:20210908T010000Z
DTEND:20210908T020000Z
DTSTAMP:20260424T050930
CREATED:20210902T112635Z
LAST-MODIFIED:20210902T112635Z
UID:20499-1631044800-1631048400@hdpusergroup.org
SUMMARY:Co-Tech & HDP Introductory Meeting
DESCRIPTION:Co-Tech & HDP Introductory Meeting 
URL:https://hdpusergroup.org/event/co-tech-hdp-introductory-meeting/
CATEGORIES:Staff Calendar
ORGANIZER;CN=HDP:mailto:webmaster@hdpug.org
END:VEVENT
BEGIN:VEVENT
DTSTART:20210908T150000Z
DTEND:20210908T160000Z
DTSTAMP:20260424T050930
CREATED:20210903T031634Z
LAST-MODIFIED:20210903T031634Z
UID:20350-1631095200-1631098800@hdpusergroup.org
SUMMARY:Reliability and Power Cycles telecom
DESCRIPTION:Reliability and Power Cycles telecom 
URL:https://hdpusergroup.org/event/reliability-and-power-cycles-telecom-24/
CATEGORIES:Reliability and Power Cycles
ORGANIZER;CN=HDP:mailto:webmaster@hdpug.org
END:VEVENT
BEGIN:VEVENT
DTSTART:20210908T160000Z
DTEND:20210908T170000Z
DTSTAMP:20260424T050930
CREATED:20210901T202008Z
LAST-MODIFIED:20210901T202008Z
UID:20496-1631098800-1631102400@hdpusergroup.org
SUMMARY:Thermal Methodology Analysis Sept 8\, 2021 project meeting
DESCRIPTION:Thermal Methodology Analysis Sept 8\, 2021 project meeting 
URL:https://hdpusergroup.org/event/thermal-methodology-analysis-sept-8-2021-project-meeting/
LOCATION:WebEx
CATEGORIES:Thermal Analysis Methodolgy Assessment
ORGANIZER;CN=HDP:mailto:webmaster@hdpug.org
END:VEVENT
BEGIN:VEVENT
DTSTART:20210908T170000Z
DTEND:20210908T180000Z
DTSTAMP:20260424T050930
CREATED:20210903T031831Z
LAST-MODIFIED:20210903T031831Z
UID:20324-1631102400-1631106000@hdpusergroup.org
SUMMARY:Low Ag Alloy Solder paste BGA leg project meeting of Sept 8\, 2021
DESCRIPTION:Low Ag Alloy Solder paste BGA leg project meeting of Sept 8\, 2021 
URL:https://hdpusergroup.org/event/low-ag-alloy-solder-paste-bga-leg-project-meeting-of-sept-8-2021/
LOCATION:WebEx
CATEGORIES:Low Ag Alloy Solderpaste Reliability – BGA Leg
ORGANIZER;CN=HDP:mailto:webmaster@hdpug.org
END:VEVENT
BEGIN:VEVENT
DTSTART:20210909T140000Z
DTEND:20210909T150000Z
DTSTAMP:20260424T050930
CREATED:20210903T030132Z
LAST-MODIFIED:20210903T030132Z
UID:20121-1631178000-1631181600@hdpusergroup.org
SUMMARY:PFH Technology Phase 2 Project Call
DESCRIPTION:PFH Technology Phase 2 Project Call 
URL:https://hdpusergroup.org/event/pfh-technology-phase-2-project-call-5/
CATEGORIES:PFH Technology 2
ORGANIZER;CN=HDP:mailto:webmaster@hdpug.org
END:VEVENT
BEGIN:VEVENT
DTSTART:20210909T160000Z
DTEND:20210909T170000Z
DTSTAMP:20260424T050930
CREATED:20210903T030914Z
LAST-MODIFIED:20210903T030914Z
UID:20322-1631185200-1631188800@hdpusergroup.org
SUMMARY:Cu Surface Treatment vs Loss Sept 9\, 2021 project meeting
DESCRIPTION:Cu Surface Treatment vs Loss Sept 9\, 2021 project meeting 
URL:https://hdpusergroup.org/event/cu-surface-treatment-vs-loss-sept-9-2021-project-meeting/
LOCATION:WebEx
CATEGORIES:Cu Grain Structure
ORGANIZER;CN=HDP:mailto:webmaster@hdpug.org
END:VEVENT
BEGIN:VEVENT
DTSTART:20210909T180000Z
DTEND:20210909T190000Z
DTSTAMP:20260424T050930
CREATED:20210901T183842Z
LAST-MODIFIED:20210901T183842Z
UID:20495-1631192400-1631196000@hdpusergroup.org
SUMMARY:Cu Peel Strength Phase 2 Sept 9\, 2021 project meeting
DESCRIPTION:Cu Peel Strength Phase 2 Sept 9\, 2021 project meeting 
URL:https://hdpusergroup.org/event/cu-peel-strength-phase-2-sept-9-2021-project-meeting/
LOCATION:WebEx
CATEGORIES:Cu Peel Strength 2
ORGANIZER;CN=HDP:mailto:webmaster@hdpug.org
END:VEVENT
BEGIN:VEVENT
DTSTART:20210910T150000Z
DTEND:20210910T160000Z
DTSTAMP:20260424T050930
CREATED:20210824T162922Z
LAST-MODIFIED:20210824T162922Z
UID:20367-1631268000-1631271600@hdpusergroup.org
SUMMARY:Ultra-Low Dk Glass
DESCRIPTION:Ultra-Low Dk Glass Project meeting 
URL:https://hdpusergroup.org/event/ultra-low-dk-glass-6/
CATEGORIES:Glass Weave
ORGANIZER;CN=HDP:mailto:webmaster@hdpug.org
END:VEVENT
BEGIN:VEVENT
DTSTART:20210913T150000Z
DTEND:20210913T160000Z
DTSTAMP:20260424T050930
CREATED:20210823T223830Z
LAST-MODIFIED:20210823T223830Z
UID:20360-1631527200-1631530800@hdpusergroup.org
SUMMARY:Backdrill Under BGA telecom
DESCRIPTION:Backdrill Under BGA telecom 
URL:https://hdpusergroup.org/event/backdrill-under-bga-telecom-26/
CATEGORIES:Backdrill Under BGA
ORGANIZER;CN=HDP:mailto:webmaster@hdpug.org
END:VEVENT
BEGIN:VEVENT
DTSTART:20210913T160000Z
DTEND:20210913T170000Z
DTSTAMP:20260424T050930
CREATED:20210903T031415Z
LAST-MODIFIED:20210903T031415Z
UID:20329-1631530800-1631534400@hdpusergroup.org
SUMMARY:Technical Direction Telecom
DESCRIPTION:Technical Direction Telecom 
URL:https://hdpusergroup.org/event/technical-direction-telecom/
CATEGORIES:Staff Calendar
ORGANIZER;CN=HDP:mailto:webmaster@hdpug.org
END:VEVENT
BEGIN:VEVENT
DTSTART:20210913T160000Z
DTEND:20210913T170000Z
DTSTAMP:20260424T050930
CREATED:20210913T174256Z
LAST-MODIFIED:20210913T174256Z
UID:20596-1631530800-1631534400@hdpusergroup.org
SUMMARY:Technical Direction teleom
DESCRIPTION:Technical Direction telecom 
URL:https://hdpusergroup.org/event/technical-direction-teleom/
CATEGORIES:Staff Calendar
ORGANIZER;CN=HDP:mailto:webmaster@hdpug.org
END:VEVENT
BEGIN:VEVENT
DTSTART:20210914T150000Z
DTEND:20210914T160000Z
DTSTAMP:20260424T050930
CREATED:20210903T030724Z
LAST-MODIFIED:20210903T030724Z
UID:20266-1631613600-1631617200@hdpusergroup.org
SUMMARY:Better CAF Eq
DESCRIPTION:Testing updates 
URL:https://hdpusergroup.org/event/better-caf-eq-12/
CATEGORIES:Better CAF Acceleration Equation
ORGANIZER;CN=HDP:mailto:webmaster@hdpug.org
END:VEVENT
BEGIN:VEVENT
DTSTART:20210914T170000Z
DTEND:20210914T180000Z
DTSTAMP:20260424T050930
CREATED:20210908T225327Z
LAST-MODIFIED:20210908T225327Z
UID:20574-1631620800-1631624400@hdpusergroup.org
SUMMARY:Harsh Use Alloy Project Review
DESCRIPTION:Harsh Use Alloy Project Review 
URL:https://hdpusergroup.org/event/harsh-use-alloy-project-review-2/
CATEGORIES:Harsh Use Alloy Evaluation 2
ORGANIZER;CN=HDP:mailto:webmaster@hdpug.org
END:VEVENT
BEGIN:VEVENT
DTSTART:20210914T190000Z
DTEND:20210914T200000Z
DTSTAMP:20260424T050930
CREATED:20210914T123430Z
LAST-MODIFIED:20210914T123430Z
UID:20488-1631628000-1631631600@hdpusergroup.org
SUMMARY:Board Thickness II
DESCRIPTION:Decision about Dr Lu and work on quarterly PowerPoint 
URL:https://hdpusergroup.org/event/board-thickness-ii-22/
CATEGORIES:Board Thickness Effect on ATC Reliability II
ORGANIZER;CN=HDP:mailto:webmaster@hdpug.org
END:VEVENT
BEGIN:VEVENT
DTSTART:20210914T200000Z
DTEND:20210914T210000Z
DTSTAMP:20260424T050930
CREATED:20210914T012647Z
LAST-MODIFIED:20210914T012647Z
UID:20598-1631631600-1631635200@hdpusergroup.org
SUMMARY:Call to discuss latest QFN data
DESCRIPTION:Suggest another time if this doesn't work 
URL:https://hdpusergroup.org/event/call-to-discuss-latest-qfn-data/
CATEGORIES:Staff Calendar
ORGANIZER;CN=HDP:mailto:webmaster@hdpug.org
END:VEVENT
BEGIN:VEVENT
DTSTART:20210915T020000Z
DTEND:20210915T023000Z
DTSTAMP:20260424T050930
CREATED:20210914T072503Z
LAST-MODIFIED:20210914T072503Z
UID:20599-1631653200-1631655000@hdpusergroup.org
SUMMARY:Co-Tech / HDP Membership Kick-Off Meeting
DESCRIPTION:Co-Tech / HDP Membership Kick-Off Meeting 
URL:https://hdpusergroup.org/event/co-tech-hdp-membership-kick-off-meeting/
CATEGORIES:Staff Calendar
ORGANIZER;CN=HDP:mailto:webmaster@hdpug.org
END:VEVENT
BEGIN:VEVENT
DTSTART:20210915T130000Z
DTEND:20210915T140000Z
DTSTAMP:20260424T050930
CREATED:20210914T144342Z
LAST-MODIFIED:20210914T144342Z
UID:20633-1631692800-1631696400@hdpusergroup.org
SUMMARY:Gen 3 Call
DESCRIPTION:Call to discuss project idea 
URL:https://hdpusergroup.org/event/gen-3-call/
CATEGORIES:Staff Calendar
ORGANIZER;CN=HDP:mailto:webmaster@hdpug.org
END:VEVENT
BEGIN:VEVENT
DTSTART:20210916T000000Z
DTEND:20210916T010000Z
DTSTAMP:20260424T050930
CREATED:20210826T144943Z
LAST-MODIFIED:20210826T144943Z
UID:20473-1631732400-1631736000@hdpusergroup.org
SUMMARY:Reliability of Wettable Flank in Routable QFN for Automotive Project Ca;;
DESCRIPTION:Call to review latest test data 
URL:https://hdpusergroup.org/event/reliability-of-wettable-flank-in-routable-qfn-for-automotive-project-ca/
CATEGORIES:Reliability of Wettable Flank in Routable QFN for Automotive
ORGANIZER;CN=HDP:mailto:webmaster@hdpug.org
END:VEVENT
BEGIN:VEVENT
DTSTART:20210916T150000Z
DTEND:20210916T160000Z
DTSTAMP:20260424T050930
CREATED:20210903T031953Z
LAST-MODIFIED:20210903T031953Z
UID:20544-1631786400-1631790000@hdpusergroup.org
SUMMARY:Single Surface Finish project call
DESCRIPTION:Meeting 
URL:https://hdpusergroup.org/event/single-surface-finish-project-call-3/
CATEGORIES:Single Surface Finish for Soldered & Compression
ORGANIZER;CN=HDP:mailto:webmaster@hdpug.org
END:VEVENT
BEGIN:VEVENT
DTSTART:20210917T140000Z
DTEND:20210917T150000Z
DTSTAMP:20260424T050930
CREATED:20210915T145906Z
LAST-MODIFIED:20210915T145906Z
UID:20481-1631869200-1631872800@hdpusergroup.org
SUMMARY:Effects of Plating Thickness on CTF at IST Project Call
DESCRIPTION:Effects of Plating Thickness on CTF at IST Project Call 
URL:https://hdpusergroup.org/event/effects-of-plating-thickness-on-ctf-at-ist-project-call-5/
CATEGORIES:Effects of Plating Thickness on Cycles to Failure at IST
ORGANIZER;CN=HDP:mailto:webmaster@hdpug.org
END:VEVENT
BEGIN:VEVENT
DTSTART:20210920T160000Z
DTEND:20210920T170000Z
DTSTAMP:20260424T050930
CREATED:20210913T174331Z
LAST-MODIFIED:20210913T174331Z
UID:20597-1632135600-1632139200@hdpusergroup.org
SUMMARY:Technical Direction teleom
DESCRIPTION:Technical Direction telecom 
URL:https://hdpusergroup.org/event/technical-direction-teleom-2/
CATEGORIES:Staff Calendar
ORGANIZER;CN=HDP:mailto:webmaster@hdpug.org
END:VEVENT
BEGIN:VEVENT
DTSTART:20210921T150000Z
DTEND:20210921T160000Z
DTSTAMP:20260424T050930
CREATED:20210914T125202Z
LAST-MODIFIED:20210914T125202Z
UID:20607-1632218400-1632222000@hdpusergroup.org
SUMMARY:Innerlayer Copper Balancing telecom
DESCRIPTION:Innerlayer Copper Balancing telecom 
URL:https://hdpusergroup.org/event/innerlayer-copper-balancing-telecom-13/
CATEGORIES:Local Copper Density
ORGANIZER;CN=HDP:mailto:webmaster@hdpug.org
END:VEVENT
BEGIN:VEVENT
DTSTART:20210922T150000Z
DTEND:20210922T160000Z
DTSTAMP:20260424T050930
CREATED:20210825T144643Z
LAST-MODIFIED:20210825T144643Z
UID:20463-1632304800-1632308400@hdpusergroup.org
SUMMARY:ECM 2 Project Call
DESCRIPTION:Meeting 
URL:https://hdpusergroup.org/event/ecm-2-project-call-9/
CATEGORIES:Electro-Chemical Migration 2
ORGANIZER;CN=HDP:mailto:webmaster@hdpug.org
END:VEVENT
BEGIN:VEVENT
DTSTART:20210922T180000Z
DTEND:20210922T190000Z
DTSTAMP:20260424T050930
CREATED:20210903T031009Z
LAST-MODIFIED:20210903T031009Z
UID:20323-1632315600-1632319200@hdpusergroup.org
SUMMARY:Glass Type Comparison project meeting of Sept 22 \, 2021
DESCRIPTION:Glass Type Comparison project meeting of Sept 22 \, 2021 
URL:https://hdpusergroup.org/event/glass-type-comparison-project-meeting-of-sept-22-2021/
LOCATION:WebEx
CATEGORIES:Glass Type Composition
ORGANIZER;CN=HDP:mailto:webmaster@hdpug.org
END:VEVENT
BEGIN:VEVENT
DTSTART:20210923T150000Z
DTEND:20210923T160000Z
DTSTAMP:20260424T050930
CREATED:20210826T153706Z
LAST-MODIFIED:20210826T153706Z
UID:20475-1632391200-1632394800@hdpusergroup.org
SUMMARY:Materials #6 meeting
DESCRIPTION:Meeting 
URL:https://hdpusergroup.org/event/materials-6-meeting-9/
CATEGORIES:Lead Free PWB Materials Reliability Phase 6
ORGANIZER;CN=HDP:mailto:webmaster@hdpug.org
END:VEVENT
BEGIN:VEVENT
DTSTART:20210924T150000Z
DTEND:20210924T160000Z
DTSTAMP:20260424T050930
CREATED:20210920T133013Z
LAST-MODIFIED:20210920T133013Z
UID:20851-1632477600-1632481200@hdpusergroup.org
SUMMARY:Ultra-Low  Dk Glass Project Review
DESCRIPTION:Ultra-Low Dk Glass Project Review 
URL:https://hdpusergroup.org/event/ultra-low-dk-glass-project-review-4/
CATEGORIES:Glass Weave
ORGANIZER;CN=HDP:mailto:webmaster@hdpug.org
END:VEVENT
BEGIN:VEVENT
DTSTART:20210927T150000Z
DTEND:20210927T160000Z
DTSTAMP:20260424T050930
CREATED:20210914T124650Z
LAST-MODIFIED:20210914T124650Z
UID:20606-1632736800-1632740400@hdpusergroup.org
SUMMARY:Backdrill Under BGA
DESCRIPTION:Backdrill Under BGA 
URL:https://hdpusergroup.org/event/backdrill-under-bga-11/
CATEGORIES:Backdrill Under BGA
ORGANIZER;CN=HDP:mailto:webmaster@hdpug.org
END:VEVENT
END:VCALENDAR