BEGIN:VCALENDAR
VERSION:2.0
PRODID:-//HDP User Group - ECPv6.10.1.1//NONSGML v1.0//EN
CALSCALE:GREGORIAN
METHOD:PUBLISH
X-ORIGINAL-URL:https://hdpusergroup.org
X-WR-CALDESC:Events for HDP User Group
REFRESH-INTERVAL;VALUE=DURATION:PT1H
X-Robots-Tag:noindex
X-PUBLISHED-TTL:PT1H
BEGIN:VTIMEZONE
TZID:America/Chicago
BEGIN:DAYLIGHT
TZOFFSETFROM:-0600
TZOFFSETTO:-0500
TZNAME:CDT
DTSTART:20210314T080000
END:DAYLIGHT
BEGIN:STANDARD
TZOFFSETFROM:-0500
TZOFFSETTO:-0600
TZNAME:CST
DTSTART:20211107T070000
END:STANDARD
END:VTIMEZONE
BEGIN:VEVENT
DTSTART:20210803T170000Z
DTEND:20210803T180000Z
DTSTAMP:20260423T035414
CREATED:20210730T134306Z
LAST-MODIFIED:20210730T134306Z
UID:20280-1627992000-1627995600@hdpusergroup.org
SUMMARY:Harsh Use Alloy Project Call
DESCRIPTION:Regular project call 
URL:https://hdpusergroup.org/event/harsh-use-alloy-project-call-6/
CATEGORIES:Harsh Use Alloy Evaluation 2
ORGANIZER;CN=HDP:mailto:webmaster@hdpug.org
END:VEVENT
BEGIN:VEVENT
DTSTART:20210803T183000Z
DTEND:20210803T193000Z
DTSTAMP:20260423T035414
CREATED:20210803T150110Z
LAST-MODIFIED:20210803T150110Z
UID:20302-1627997400-1628001000@hdpusergroup.org
SUMMARY:Call with Brian Amos
DESCRIPTION:Call to discuss  \n\nMailing lists\nMeetings\nI would like to add Jack Frankosky from Chemours\, jack.frankosky@chemours.com\nLog in details\nAccess to projects\n
URL:https://hdpusergroup.org/event/call-with-brian-amos/
CATEGORIES:Staff Calendar
ORGANIZER;CN=HDP:mailto:webmaster@hdpug.org
END:VEVENT
BEGIN:VEVENT
DTSTART:20210805T140000Z
DTEND:20210805T150000Z
DTSTAMP:20260423T035414
CREATED:20210722T154206Z
LAST-MODIFIED:20210722T154206Z
UID:20256-1628154000-1628157600@hdpusergroup.org
SUMMARY:Single Surface Finish for Soldered & Compression Contact Pads
DESCRIPTION:Meeting 
URL:https://hdpusergroup.org/event/single-surface-finish-for-soldered-compression-contact-pads-6/
CATEGORIES:Single Surface Finish for Soldered & Compression
ORGANIZER;CN=HDP:mailto:webmaster@hdpug.org
END:VEVENT
BEGIN:VEVENT
DTSTART:20210805T150000Z
DTEND:20210805T160000Z
DTSTAMP:20260423T035414
CREATED:20210712T154720Z
LAST-MODIFIED:20210712T154720Z
UID:20200-1628157600-1628161200@hdpusergroup.org
SUMMARY:Reliability and Power Cycles telecom
DESCRIPTION:Reliability and Power Cycles telecom 
URL:https://hdpusergroup.org/event/reliability-and-power-cycles-telecom-22/
CATEGORIES:Reliability and Power Cycles
ORGANIZER;CN=HDP:mailto:webmaster@hdpug.org
END:VEVENT
BEGIN:VEVENT
DTSTART:20210806T000000Z
DTEND:20210806T010000Z
DTSTAMP:20260423T035414
CREATED:20210722T151743Z
LAST-MODIFIED:20210722T151743Z
UID:20255-1628190000-1628193600@hdpusergroup.org
SUMMARY:Reliability of Wettable Flank in Routable QFN for Automotive - project call
DESCRIPTION:Project call to review TC results 
URL:https://hdpusergroup.org/event/reliability-of-wettable-flank-in-routable-qfn-for-automotive-project-call-16/
CATEGORIES:Reliability of Wettable Flank in Routable QFN for Automotive
ORGANIZER;CN=HDP:mailto:webmaster@hdpug.org
END:VEVENT
BEGIN:VEVENT
DTSTART:20210806T150000Z
DTEND:20210806T160000Z
DTSTAMP:20260423T035414
CREATED:20210730T134811Z
LAST-MODIFIED:20210730T134811Z
UID:20281-1628244000-1628247600@hdpusergroup.org
SUMMARY:Ultra-Low Dk Glass Project Review
DESCRIPTION:Regular Project call 
URL:https://hdpusergroup.org/event/ultra-low-dk-glass-project-review-3/
CATEGORIES:Glass Weave
ORGANIZER;CN=HDP:mailto:webmaster@hdpug.org
END:VEVENT
BEGIN:VEVENT
DTSTART:20210809T160000Z
DTEND:20210809T170000Z
DTSTAMP:20260423T035414
CREATED:20210803T125351Z
LAST-MODIFIED:20210803T125351Z
UID:20301-1628506800-1628510400@hdpusergroup.org
SUMMARY:Backdrill Under BGA
DESCRIPTION:Backdrill Under BGA 
URL:https://hdpusergroup.org/event/backdrill-under-bga-9/
CATEGORIES:Backdrill Under BGA
ORGANIZER;CN=HDP:mailto:webmaster@hdpug.org
END:VEVENT
BEGIN:VEVENT
DTSTART:20210810T180000Z
DTEND:20210810T190000Z
DTSTAMP:20260423T035414
CREATED:20210629T184855Z
LAST-MODIFIED:20210629T184855Z
UID:20146-1628600400-1628604000@hdpusergroup.org
SUMMARY:Board thickness II
DESCRIPTION:Any results from Omar adding other variables to his models? 
URL:https://hdpusergroup.org/event/board-thickness-ii-21/
CATEGORIES:Board Thickness Effect on ATC Reliability II
ORGANIZER;CN=HDP:mailto:webmaster@hdpug.org
END:VEVENT
BEGIN:VEVENT
DTSTART:20210810T190000Z
DTEND:20210810T200000Z
DTSTAMP:20260423T035414
CREATED:20210804T211602Z
LAST-MODIFIED:20210804T211602Z
UID:20306-1628604000-1628607600@hdpusergroup.org
SUMMARY:Photonic Soldering II
DESCRIPTION:More work on defining the project 
URL:https://hdpusergroup.org/event/photonic-soldering-ii-5/
CATEGORIES:Photonic Soldering 2
ORGANIZER;CN=HDP:mailto:webmaster@hdpug.org
END:VEVENT
BEGIN:VEVENT
DTSTART:20210811T160000Z
DTEND:20210811T170000Z
DTSTAMP:20260423T035414
CREATED:20210810T194812Z
LAST-MODIFIED:20210810T194812Z
UID:20292-1628679600-1628683200@hdpusergroup.org
SUMMARY:Thermal Analysis Methodology Assessment Aug 11\, 2021 meeting
DESCRIPTION:Thermal Analysis Methodology Assessment Aug 11\, 2021 meeting 
URL:https://hdpusergroup.org/event/thermal-analysis-methodology-assessment-aug-11-2021-meeting/
LOCATION:WebEx
CATEGORIES:Thermal Analysis Methodolgy Assessment
ORGANIZER;CN=HDP:mailto:webmaster@hdpug.org
END:VEVENT
BEGIN:VEVENT
DTSTART:20210811T170000Z
DTEND:20210811T180000Z
DTSTAMP:20260423T035414
CREATED:20210730T200740Z
LAST-MODIFIED:20210730T200740Z
UID:20289-1628683200-1628686800@hdpusergroup.org
SUMMARY:Low Ag Alloy Solder paste BGA leg project meeting of Aug 11\, 2021
DESCRIPTION:Low Ag Alloy Solder paste BGA leg project meeting of Aug 11\, 2021 
URL:https://hdpusergroup.org/event/low-ag-alloy-solder-paste-bga-leg-project-meeting-of-aug-11-2021/
LOCATION:WebEx
CATEGORIES:Low Ag Alloy Solderpaste Reliability – BGA Leg
ORGANIZER;CN=HDP:mailto:webmaster@hdpug.org
END:VEVENT
BEGIN:VEVENT
DTSTART:20210811T180000Z
DTEND:20210811T190000Z
DTSTAMP:20260423T035414
CREATED:20210715T223535Z
LAST-MODIFIED:20210715T223535Z
UID:20225-1628686800-1628690400@hdpusergroup.org
SUMMARY:Glass Type Comparison project meeting of Aug 11\, 2021
DESCRIPTION:Glass Type Comparison project meeting of Aug 11\, 2021 
URL:https://hdpusergroup.org/event/glass-type-comparison-project-meeting-of-aug-11-2021/
LOCATION:WebEx
CATEGORIES:Glass Type Composition
ORGANIZER;CN=HDP:mailto:webmaster@hdpug.org
END:VEVENT
BEGIN:VEVENT
DTSTART:20210813T140000Z
DTEND:20210813T150000Z
DTSTAMP:20260423T035414
CREATED:20210825T225518Z
LAST-MODIFIED:20210825T225518Z
UID:20226-1628845200-1628848800@hdpusergroup.org
SUMMARY:Effects of Plating Thickness on CTF at IST Project Call
DESCRIPTION:Effects of Plating Thickness on CTF at IST Project Call 
URL:https://hdpusergroup.org/event/effects-of-plating-thickness-on-ctf-at-ist-project-call-3/
CATEGORIES:Effects of Plating Thickness on Cycles to Failure at IST
ORGANIZER;CN=HDP:mailto:webmaster@hdpug.org
END:VEVENT
BEGIN:VEVENT
DTSTART:20210817T150000Z
DTEND:20210817T160000Z
DTSTAMP:20260423T035414
CREATED:20210804T003400Z
LAST-MODIFIED:20210804T003400Z
UID:20303-1629194400-1629198000@hdpusergroup.org
SUMMARY:Innerlayer Copper Balancing
DESCRIPTION:Innerlayer Copper Balancing 
URL:https://hdpusergroup.org/event/innerlayer-copper-balancing-2/
CATEGORIES:Local Copper Density
ORGANIZER;CN=HDP:mailto:webmaster@hdpug.org
END:VEVENT
BEGIN:VEVENT
DTSTART:20210817T170000Z
DTEND:20210817T180000Z
DTSTAMP:20260423T035414
CREATED:20210814T005621Z
LAST-MODIFIED:20210814T005621Z
UID:20327-1629201600-1629205200@hdpusergroup.org
SUMMARY:Harsh Use Alloy Project Review
DESCRIPTION:Project Review Meeting 
URL:https://hdpusergroup.org/event/harsh-use-alloy-project-review/
CATEGORIES:Harsh Use Alloy Evaluation 2
ORGANIZER;CN=HDP:mailto:webmaster@hdpug.org
END:VEVENT
BEGIN:VEVENT
DTSTART:20210818T150000Z
DTEND:20210818T160000Z
DTSTAMP:20260423T035414
CREATED:20210809T004049Z
LAST-MODIFIED:20210809T004049Z
UID:20312-1629280800-1629284400@hdpusergroup.org
SUMMARY:Reliability and Power Cycles telecom
DESCRIPTION:Reliability and Power Cycles telecom 
URL:https://hdpusergroup.org/event/reliability-and-power-cycles-telecom-23/
CATEGORIES:Reliability and Power Cycles
ORGANIZER;CN=HDP:mailto:webmaster@hdpug.org
END:VEVENT
BEGIN:VEVENT
DTSTART:20210819T150000Z
DTEND:20210819T160000Z
DTSTAMP:20260423T035414
CREATED:20210805T162928Z
LAST-MODIFIED:20210805T162928Z
UID:20308-1629367200-1629370800@hdpusergroup.org
SUMMARY:Single Surface Finish project call
DESCRIPTION:Meeting 
URL:https://hdpusergroup.org/event/single-surface-finish-project-call/
CATEGORIES:Single Surface Finish for Soldered & Compression
ORGANIZER;CN=HDP:mailto:webmaster@hdpug.org
END:VEVENT
BEGIN:VEVENT
DTSTART:20210820T150000Z
DTEND:20210820T160000Z
DTSTAMP:20260423T035414
CREATED:20210814T005819Z
LAST-MODIFIED:20210814T005819Z
UID:20326-1629453600-1629457200@hdpusergroup.org
SUMMARY:Ultra-Low Dk Glass Project Review Meeting
DESCRIPTION:Project Review Meeting 
URL:https://hdpusergroup.org/event/project-review-meeting/
CATEGORIES:Glass Weave
ORGANIZER;CN=HDP:mailto:webmaster@hdpug.org
END:VEVENT
BEGIN:VEVENT
DTSTART:20210823T160000Z
DTEND:20210823T170000Z
DTSTAMP:20260423T035414
CREATED:20210810T124555Z
LAST-MODIFIED:20210810T124555Z
UID:20315-1629716400-1629720000@hdpusergroup.org
SUMMARY:Backdrill Under BGA
DESCRIPTION:Backdrill Under BGA 
URL:https://hdpusergroup.org/event/backdrill-under-bga-10/
CATEGORIES:Backdrill Under BGA
ORGANIZER;CN=HDP:mailto:webmaster@hdpug.org
END:VEVENT
BEGIN:VEVENT
DTSTART:20210824T130000Z
DTEND:20210824T140000Z
DTSTAMP:20260423T035414
CREATED:20210819T143143Z
LAST-MODIFIED:20210819T143143Z
UID:20356-1629792000-1629795600@hdpusergroup.org
SUMMARY:adsfawdf
DESCRIPTION:Reload staff call 
URL:https://hdpusergroup.org/event/adsfawdf/
CATEGORIES:Staff Calendar
ORGANIZER;CN=HDP:mailto:webmaster@hdpug.org
END:VEVENT
BEGIN:VEVENT
DTSTART:20210824T190000Z
DTEND:20210824T200000Z
DTSTAMP:20260423T035414
CREATED:20210727T211335Z
LAST-MODIFIED:20210727T211335Z
UID:20273-1629813600-1629817200@hdpusergroup.org
SUMMARY:PCB Feature Min
DESCRIPTION:Update from Paul 
URL:https://hdpusergroup.org/event/pcb-feature-min-12/
CATEGORIES:PCB Feature Miniaturization
ORGANIZER;CN=HDP:mailto:webmaster@hdpug.org
END:VEVENT
BEGIN:VEVENT
DTSTART:20210825T140000Z
DTEND:20210825T150000Z
DTSTAMP:20260423T035414
CREATED:20210728T145406Z
LAST-MODIFIED:20210728T145406Z
UID:20275-1629882000-1629885600@hdpusergroup.org
SUMMARY:ECM 2 Project Call
DESCRIPTION:Project call 
URL:https://hdpusergroup.org/event/ecm-2-project-call-8/
CATEGORIES:Electro-Chemical Migration 2
ORGANIZER;CN=HDP:mailto:webmaster@hdpug.org
END:VEVENT
BEGIN:VEVENT
DTSTART:20210825T160000Z
DTEND:20210825T170000Z
DTSTAMP:20260423T035414
CREATED:20210813T183142Z
LAST-MODIFIED:20210813T183142Z
UID:20325-1629889200-1629892800@hdpusergroup.org
SUMMARY:Thermal Analysis Methodology Assessment Aug 25\, 2021 meeting
DESCRIPTION:Thermal Analysis Methodology Assessment Aug 25\, 2021 meeting 
URL:https://hdpusergroup.org/event/thermal-analysis-methodology-assessment-aug-25-2021-meeting/
LOCATION:WebEx
CATEGORIES:Thermal Analysis Methodolgy Assessment
ORGANIZER;CN=HDP:mailto:webmaster@hdpug.org
END:VEVENT
BEGIN:VEVENT
DTSTART:20210826T000000Z
DTEND:20210826T010000Z
DTSTAMP:20260423T035414
CREATED:20210809T130457Z
LAST-MODIFIED:20210809T130457Z
UID:20314-1629918000-1629921600@hdpusergroup.org
SUMMARY:Reliability of Wettable Flank in Routable QFN for Automotive Project Call
DESCRIPTION:Call to review test data 
URL:https://hdpusergroup.org/event/reliability-of-wettable-flank-in-routable-qfn-for-automotive-project-call-17/
CATEGORIES:Reliability of Wettable Flank in Routable QFN for Automotive
ORGANIZER;CN=HDP:mailto:webmaster@hdpug.org
END:VEVENT
BEGIN:VEVENT
DTSTART:20210826T130000Z
DTEND:20210826T140000Z
DTSTAMP:20260423T035414
CREATED:20210728T133731Z
LAST-MODIFIED:20210728T133731Z
UID:20274-1629964800-1629968400@hdpusergroup.org
SUMMARY:DISC2A
DESCRIPTION:More results from Hua 
URL:https://hdpusergroup.org/event/disc2a-32/
CATEGORIES:Digital Speckle Correlation (DSC) 2
ORGANIZER;CN=HDP:mailto:webmaster@hdpug.org
END:VEVENT
BEGIN:VEVENT
DTSTART:20210826T150000Z
DTEND:20210826T160000Z
DTSTAMP:20260423T035414
CREATED:20210729T152647Z
LAST-MODIFIED:20210729T152647Z
UID:20278-1629972000-1629975600@hdpusergroup.org
SUMMARY:Materials #6 meeting
DESCRIPTION:meeting 
URL:https://hdpusergroup.org/event/materials-6-meeting-8/
CATEGORIES:Lead Free PWB Materials Reliability Phase 6
ORGANIZER;CN=HDP:mailto:webmaster@hdpug.org
END:VEVENT
BEGIN:VEVENT
DTSTART:20210827T140000Z
DTEND:20210827T150000Z
DTSTAMP:20260423T035414
CREATED:20210825T225547Z
LAST-MODIFIED:20210825T225547Z
UID:20320-1630054800-1630058400@hdpusergroup.org
SUMMARY:Effects of Plating Thickness on CTF at IST Project Call
DESCRIPTION:Effects of Plating Thickness on CTF at IST Project Call 
URL:https://hdpusergroup.org/event/effects-of-plating-thickness-on-ctf-at-ist-project-call-4/
CATEGORIES:Effects of Plating Thickness on Cycles to Failure at IST
ORGANIZER;CN=HDP:mailto:webmaster@hdpug.org
END:VEVENT
BEGIN:VEVENT
DTSTART:20210829T023000Z
DTEND:20210829T030000Z
DTSTAMP:20260423T035414
CREATED:20210826T061303Z
LAST-MODIFIED:20210826T061303Z
UID:20353-1630186200-1630188000@hdpusergroup.org
SUMMARY:Test webex meeting in prod site updated
DESCRIPTION:test only 
URL:https://hdpusergroup.org/event/test-webex-meeting-in-prod-site/
CATEGORIES:Staff Calendar
ORGANIZER;CN=HDP:mailto:webmaster@hdpug.org
END:VEVENT
BEGIN:VEVENT
DTSTART:20210831T170000Z
DTEND:20210831T180000Z
DTSTAMP:20260423T035414
CREATED:20210827T135500Z
LAST-MODIFIED:20210827T135500Z
UID:20478-1630411200-1630414800@hdpusergroup.org
SUMMARY:Harsh Use Alloy Project Review
DESCRIPTION:Harsh Use Alloy Project Review 
URL:https://hdpusergroup.org/event/harsh-use-alloy-project-review-3/
CATEGORIES:Harsh Use Alloy Evaluation 2
ORGANIZER;CN=HDP:mailto:webmaster@hdpug.org
END:VEVENT
BEGIN:VEVENT
DTSTART:20210901T010000Z
DTEND:20210901T020000Z
DTSTAMP:20260423T035414
CREATED:20210825T230505Z
LAST-MODIFIED:20210825T230505Z
UID:20083-1630440000-1630443600@hdpusergroup.org
SUMMARY:High Speed Hybrid PWB Project Call
DESCRIPTION:High Speed Hybrid PWB Project Call 
URL:https://hdpusergroup.org/event/high-speed-hybrid-pwb-project-call-34/
CATEGORIES:High Speed Hybrid PWB
END:VEVENT
END:VCALENDAR