BEGIN:VCALENDAR
VERSION:2.0
PRODID:-//HDP User Group - ECPv6.10.1.1//NONSGML v1.0//EN
CALSCALE:GREGORIAN
METHOD:PUBLISH
X-ORIGINAL-URL:https://hdpusergroup.org
X-WR-CALDESC:Events for HDP User Group
REFRESH-INTERVAL;VALUE=DURATION:PT1H
X-Robots-Tag:noindex
X-PUBLISHED-TTL:PT1H
BEGIN:VTIMEZONE
TZID:America/Chicago
BEGIN:DAYLIGHT
TZOFFSETFROM:-0600
TZOFFSETTO:-0500
TZNAME:CDT
DTSTART:20210314T080000
END:DAYLIGHT
BEGIN:STANDARD
TZOFFSETFROM:-0500
TZOFFSETTO:-0600
TZNAME:CST
DTSTART:20211107T070000
END:STANDARD
END:VTIMEZONE
BEGIN:VEVENT
DTSTART:20210104T120000Z
DTEND:20210104T130000Z
DTSTAMP:20260423T154529
CREATED:20201231T154606Z
LAST-MODIFIED:20201231T154606Z
UID:18948-1609740000-1609743600@hdpusergroup.org
SUMMARY:Call to discuss Doosan
DESCRIPTION:Call to discuss Doosan 
URL:https://hdpusergroup.org/event/call-to-discuss-doosan/
CATEGORIES:Staff Calendar
ORGANIZER;CN=HDP:mailto:webmaster@hdpug.org
END:VEVENT
BEGIN:VEVENT
DTSTART:20210105T090000Z
DTEND:20210105T100000Z
DTSTAMP:20260423T154529
CREATED:20210104T121208Z
LAST-MODIFIED:20210104T121208Z
UID:18950-1609815600-1609819200@hdpusergroup.org
SUMMARY:Call to discuss QFN testing at NPL
DESCRIPTION:Call to discuss testing at NPL 
URL:https://hdpusergroup.org/event/call-to-discuss-qfn-testing-at-npl/
CATEGORIES:Staff Calendar
ORGANIZER;CN=HDP:mailto:webmaster@hdpug.org
END:VEVENT
BEGIN:VEVENT
DTSTART:20210105T160000Z
DTEND:20210105T170000Z
DTSTAMP:20260423T154529
CREATED:20201208T202307Z
LAST-MODIFIED:20201208T202307Z
UID:18875-1609840800-1609844400@hdpusergroup.org
SUMMARY:Backdrill Under BGA telecom
DESCRIPTION:Backdrill Under BGA telecom 
URL:https://hdpusergroup.org/event/backdrill-under-bga-telecom-13/
CATEGORIES:Backdrill Under BGA
ORGANIZER;CN=HDP:mailto:webmaster@hdpug.org
END:VEVENT
BEGIN:VEVENT
DTSTART:20210106T010000Z
DTEND:20210106T020000Z
DTSTAMP:20260423T154529
CREATED:20201209T024229Z
LAST-MODIFIED:20201209T024229Z
UID:18880-1609873200-1609876800@hdpusergroup.org
SUMMARY:High Speed Hybrid PWB Project Call
DESCRIPTION:High Speed Hybrid PWB Project Call 
URL:https://hdpusergroup.org/event/high-speed-hybrid-pwb-project-call-27/
CATEGORIES:High Speed Hybrid PWB
ORGANIZER;CN=HDP:mailto:webmaster@hdpug.org
END:VEVENT
BEGIN:VEVENT
DTSTART:20210106T140000Z
DTEND:20210106T150000Z
DTSTAMP:20260423T154529
CREATED:20201222T133611Z
LAST-MODIFIED:20201222T133611Z
UID:18924-1609920000-1609923600@hdpusergroup.org
SUMMARY:DISC2A
DESCRIPTION:What sample does Hua tackle first? \nPossible legal update from Maarten. 
URL:https://hdpusergroup.org/event/disc2a-18/
CATEGORIES:Digital Speckle Correlation (DSC) 2
ORGANIZER;CN=HDP:mailto:webmaster@hdpug.org
END:VEVENT
BEGIN:VEVENT
DTSTART:20210106T160000Z
DTEND:20210106T170000Z
DTSTAMP:20260423T154529
CREATED:20201202T170812Z
LAST-MODIFIED:20201202T170812Z
UID:18801-1609927200-1609930800@hdpusergroup.org
SUMMARY:Materials #6 Call
DESCRIPTION:Meeting 
URL:https://hdpusergroup.org/event/materials-6-call-14/
CATEGORIES:Lead Free PWB Materials Reliability Phase 6
ORGANIZER;CN=HDP:mailto:webmaster@hdpug.org
END:VEVENT
BEGIN:VEVENT
DTSTART:20210107T160000Z
DTEND:20210107T170000Z
DTSTAMP:20260423T154529
CREATED:20201209T171639Z
LAST-MODIFIED:20201209T171639Z
UID:18884-1610013600-1610017200@hdpusergroup.org
SUMMARY:ECM2 Project call
DESCRIPTION:Meeting 
URL:https://hdpusergroup.org/event/ecm2-project-call-20/
CATEGORIES:Electro-Chemical Migration 2
ORGANIZER;CN=HDP:mailto:webmaster@hdpug.org
END:VEVENT
BEGIN:VEVENT
DTSTART:20210107T210000Z
DTEND:20210107T220000Z
DTSTAMP:20260423T154529
CREATED:20201217T202919Z
LAST-MODIFIED:20201217T202919Z
UID:18919-1610031600-1610035200@hdpusergroup.org
SUMMARY:Photonic Soldering
DESCRIPTION:Progress on project and paper 
URL:https://hdpusergroup.org/event/photonic-soldering-19/
CATEGORIES:Photonic Soldering
ORGANIZER;CN=HDP:mailto:webmaster@hdpug.org
END:VEVENT
BEGIN:VEVENT
DTSTART:20210108T160000Z
DTEND:20210108T170000Z
DTSTAMP:20260423T154529
CREATED:20201209T003507Z
LAST-MODIFIED:20201209T003507Z
UID:18879-1610100000-1610103600@hdpusergroup.org
SUMMARY:Ultra Low Dk Glass Telecom
DESCRIPTION:Ultra Low Dk Glass Telecom 
URL:https://hdpusergroup.org/event/ultra-low-dk-glass-telecom-5/
CATEGORIES:Glass Weave
ORGANIZER;CN=HDP:mailto:webmaster@hdpug.org
END:VEVENT
BEGIN:VEVENT
DTSTART:20210111T160000Z
DTEND:20210111T170000Z
DTSTAMP:20260423T154529
CREATED:20201229T133738Z
LAST-MODIFIED:20201229T133738Z
UID:18932-1610359200-1610362800@hdpusergroup.org
SUMMARY:Reliability and Power Cycles telecom
DESCRIPTION:Reliability and Power Cycles telecom 
URL:https://hdpusergroup.org/event/reliability-and-power-cycles-telecom-11/
CATEGORIES:Reliability and Power Cycles
ORGANIZER;CN=HDP:mailto:webmaster@hdpug.org
END:VEVENT
BEGIN:VEVENT
DTSTART:20210112T160000Z
DTEND:20210112T170000Z
DTSTAMP:20260423T154529
CREATED:20201208T165207Z
LAST-MODIFIED:20201208T165207Z
UID:18874-1610445600-1610449200@hdpusergroup.org
SUMMARY:Better CAF Equation
DESCRIPTION:Team Leader?  Other labs?  Spreadsheet?  Possible changes to DOE? 
URL:https://hdpusergroup.org/event/better-caf-equation-13/
CATEGORIES:Better CAF Acceleration Equation
ORGANIZER;CN=HDP:mailto:webmaster@hdpug.org
END:VEVENT
BEGIN:VEVENT
DTSTART:20210112T200000Z
DTEND:20210112T210000Z
DTSTAMP:20260423T154529
CREATED:20210102T153434Z
LAST-MODIFIED:20210102T153434Z
UID:18949-1610460000-1610463600@hdpusergroup.org
SUMMARY:PCB Feature Min
DESCRIPTION:Next Steps \nPresentation for BoD 
URL:https://hdpusergroup.org/event/pcb-feature-min/
CATEGORIES:PCB Feature Miniaturization
ORGANIZER;CN=HDP:mailto:webmaster@hdpug.org
END:VEVENT
BEGIN:VEVENT
DTSTART:20210113T180000Z
DTEND:20210113T190000Z
DTSTAMP:20260423T154529
CREATED:20201207T184504Z
LAST-MODIFIED:20201207T184504Z
UID:18833-1610539200-1610542800@hdpusergroup.org
SUMMARY:Low Ag Alloy Solder Paste project meeting
DESCRIPTION:Meeting 
URL:https://hdpusergroup.org/event/low-ag-alloy-solder-paste-project-meeting-4/
CATEGORIES:Low Ag Alloy Solderpaste Reliability – BGA Leg
ORGANIZER;CN=HDP:mailto:webmaster@hdpug.org
END:VEVENT
BEGIN:VEVENT
DTSTART:20210113T190000Z
DTEND:20210113T200000Z
DTSTAMP:20260423T154529
CREATED:20201228T233523Z
LAST-MODIFIED:20201228T233523Z
UID:18930-1610542800-1610546400@hdpusergroup.org
SUMMARY:Glass Type Composition Jan 13\, 2021 project meeting
DESCRIPTION:Glass Type Composition Jan 13\, 2021 project meeting 
URL:https://hdpusergroup.org/event/glass-type-composition-jan-13-2021-project-meeting/
LOCATION:WebEx
CATEGORIES:Glass Type Composition
ORGANIZER;CN=HDP:mailto:webmaster@hdpug.org
END:VEVENT
BEGIN:VEVENT
DTSTART:20210114T143000Z
DTEND:20210114T150000Z
DTSTAMP:20260423T154529
CREATED:20210106T145057Z
LAST-MODIFIED:20210106T145057Z
UID:18956-1610613000-1610614800@hdpusergroup.org
SUMMARY:DISC2A
DESCRIPTION:Status of several action items 
URL:https://hdpusergroup.org/event/disc2a-19/
CATEGORIES:Digital Speckle Correlation (DSC) 2
ORGANIZER;CN=HDP:mailto:webmaster@hdpug.org
END:VEVENT
BEGIN:VEVENT
DTSTART:20210114T170000Z
DTEND:20210114T180000Z
DTSTAMP:20260423T154529
CREATED:20210110T190834Z
LAST-MODIFIED:20210110T190834Z
UID:19006-1610622000-1610625600@hdpusergroup.org
SUMMARY:Cu Surface Treatment Vs Loss Jan 14\, 2021 project meeting
DESCRIPTION:Cu Surface Treatment Vs Loss Jan 14\, 2021 project meeting 
URL:https://hdpusergroup.org/event/cu-surface-treatment-vs-loss-jan-14-2021-project-meeting/
LOCATION:WebEx
CATEGORIES:Cu Grain Structure
ORGANIZER;CN=HDP:mailto:webmaster@hdpug.org
END:VEVENT
BEGIN:VEVENT
DTSTART:20210114T180000Z
DTEND:20210114T190000Z
DTSTAMP:20260423T154529
CREATED:20210113T195815Z
LAST-MODIFIED:20210113T195815Z
UID:19013-1610625600-1610629200@hdpusergroup.org
SUMMARY:Introductory discussions with HDP and Chemours
DESCRIPTION:Introductory discussions with HDP and Chemours 
URL:https://hdpusergroup.org/event/introductory-discussions-with-hdp-and-chemours/
LOCATION:WebEx
CATEGORIES:Staff Calendar
ORGANIZER;CN=HDP:mailto:webmaster@hdpug.org
END:VEVENT
BEGIN:VEVENT
DTSTART:20210114T190000Z
DTEND:20210114T200000Z
DTSTAMP:20260423T154529
CREATED:20210107T192921Z
LAST-MODIFIED:20210107T192921Z
UID:18963-1610629200-1610632800@hdpusergroup.org
SUMMARY:Cu Peel Strength Phase 2 Jan 14\, 2021 project meeting
DESCRIPTION:Cu Peel Strength Phase 2 Jan 14\, 2021 project meeting 
URL:https://hdpusergroup.org/event/cu-peel-strength-phase-2-jan-14-2021-project-meeting/
LOCATION:WebEx
CATEGORIES:Cu Peel Strength 2
ORGANIZER;CN=HDP:mailto:webmaster@hdpug.org
END:VEVENT
BEGIN:VEVENT
DTSTART:20210114T200000Z
DTEND:20210114T210000Z
DTSTAMP:20260423T154529
CREATED:20201217T165415Z
LAST-MODIFIED:20201217T165415Z
UID:18918-1610632800-1610636400@hdpusergroup.org
SUMMARY:Board Thickness II
DESCRIPTION:Where do we go? 
URL:https://hdpusergroup.org/event/board-thickness-ii-11/
CATEGORIES:Board Thickness Effect on ATC Reliability II
ORGANIZER;CN=HDP:mailto:webmaster@hdpug.org
END:VEVENT
BEGIN:VEVENT
DTSTART:20210114T210000Z
DTEND:20210114T220000Z
DTSTAMP:20260423T154529
CREATED:20210107T223234Z
LAST-MODIFIED:20210107T223234Z
UID:19001-1610636400-1610640000@hdpusergroup.org
SUMMARY:Photonic Soldering
DESCRIPTION:Status update of rework 
URL:https://hdpusergroup.org/event/photonic-soldering-20/
CATEGORIES:Photonic Soldering
ORGANIZER;CN=HDP:mailto:webmaster@hdpug.org
END:VEVENT
BEGIN:VEVENT
DTSTART:20210115T220000Z
DTEND:20210115T230000Z
DTSTAMP:20260423T154529
CREATED:20210114T185936Z
LAST-MODIFIED:20210114T185936Z
UID:19024-1610726400-1610730000@hdpusergroup.org
SUMMARY:Test
DESCRIPTION:Testing WebEx call set up and reminders.  
URL:https://hdpusergroup.org/event/test-6/
CATEGORIES:Staff Calendar
ORGANIZER;CN=HDP:mailto:webmaster@hdpug.org
END:VEVENT
BEGIN:VEVENT
DTSTART:20210118T200000Z
DTEND:20210118T230000Z
DTSTAMP:20260423T154529
CREATED:20210118T192416Z
LAST-MODIFIED:20210118T192416Z
UID:19033-1610978400-1610989200@hdpusergroup.org
SUMMARY:reminder meeting test – edited part 2
DESCRIPTION:Please ignore\, this is to test the meeting reminder emails. 
URL:https://hdpusergroup.org/event/reminder-meeting-test/
CATEGORIES:Staff Calendar
ORGANIZER;CN=HDP:mailto:webmaster@hdpug.org
END:VEVENT
BEGIN:VEVENT
DTSTART:20210119T160000Z
DTEND:20210119T170000Z
DTSTAMP:20260423T154529
CREATED:20210108T201118Z
LAST-MODIFIED:20210108T201118Z
UID:19004-1611050400-1611054000@hdpusergroup.org
SUMMARY:Backdrill Under BGA telecom
DESCRIPTION:Baqckdrill Under BGA telecom 
URL:https://hdpusergroup.org/event/backdrill-under-bga-telecom-14/
CATEGORIES:Backdrill Under BGA
ORGANIZER;CN=HDP:mailto:webmaster@hdpug.org
END:VEVENT
BEGIN:VEVENT
DTSTART:20210119T180000Z
DTEND:20210119T190000Z
DTSTAMP:20260423T154529
CREATED:20210106T191748Z
LAST-MODIFIED:20210106T191748Z
UID:18961-1611057600-1611061200@hdpusergroup.org
SUMMARY:Harsh Use Alloy 2
DESCRIPTION:Discuss implementation schedule 
URL:https://hdpusergroup.org/event/harsh-use-alloy-2/
CATEGORIES:Harsh Use Alloy Evaluation 2
ORGANIZER;CN=HDP:mailto:webmaster@hdpug.org
END:VEVENT
BEGIN:VEVENT
DTSTART:20210121T140000Z
DTEND:20210121T150000Z
DTSTAMP:20260423T154529
CREATED:20210114T144645Z
LAST-MODIFIED:20210114T144645Z
UID:19017-1611216000-1611219600@hdpusergroup.org
SUMMARY:DISC2A
DESCRIPTION:Status with IMEC \nSamples to Hua? \nHua's lab status? 
URL:https://hdpusergroup.org/event/disc2a-20/
CATEGORIES:Digital Speckle Correlation (DSC) 2
ORGANIZER;CN=HDP:mailto:webmaster@hdpug.org
END:VEVENT
BEGIN:VEVENT
DTSTART:20210121T210000Z
DTEND:20210121T220000Z
DTSTAMP:20260423T154529
CREATED:20210114T213032Z
LAST-MODIFIED:20210114T213032Z
UID:19027-1611241200-1611244800@hdpusergroup.org
SUMMARY:Photonic Soldering
DESCRIPTION:Status on expt and paper 
URL:https://hdpusergroup.org/event/photonic-soldering-21/
CATEGORIES:Photonic Soldering
ORGANIZER;CN=HDP:mailto:webmaster@hdpug.org
END:VEVENT
BEGIN:VEVENT
DTSTART:20210122T160000Z
DTEND:20210122T170000Z
DTSTAMP:20260423T154529
CREATED:20210108T201334Z
LAST-MODIFIED:20210108T201334Z
UID:19005-1611309600-1611313200@hdpusergroup.org
SUMMARY:Ultra Low Dk Glass Telecom
DESCRIPTION:Ultra Low Dk Glass Telecom 
URL:https://hdpusergroup.org/event/ultra-low-dk-glass-telecom-6/
CATEGORIES:Glass Weave
ORGANIZER;CN=HDP:mailto:webmaster@hdpug.org
END:VEVENT
BEGIN:VEVENT
DTSTART:20210125T160000Z
DTEND:20210125T170000Z
DTSTAMP:20260423T154529
CREATED:20210119T135535Z
LAST-MODIFIED:20210119T135535Z
UID:19122-1611568800-1611572400@hdpusergroup.org
SUMMARY:Reliability and Power Cycles
DESCRIPTION:Reliability and Power Cycles telecom 
URL:https://hdpusergroup.org/event/reliability-and-power-cycles-4/
CATEGORIES:Reliability and Power Cycles
ORGANIZER;CN=HDP:mailto:webmaster@hdpug.org
END:VEVENT
BEGIN:VEVENT
DTSTART:20210127T010000Z
DTEND:20210127T020000Z
DTSTAMP:20260423T154529
CREATED:20210106T015840Z
LAST-MODIFIED:20210106T015840Z
UID:18955-1611687600-1611691200@hdpusergroup.org
SUMMARY:High Speed Hybrid PWB Project Call
DESCRIPTION:High Speed Hybrid PWB Project Call 
URL:https://hdpusergroup.org/event/high-speed-hybrid-pwb-project-call-28/
CATEGORIES:High Speed Hybrid PWB
ORGANIZER;CN=HDP:mailto:webmaster@hdpug.org
END:VEVENT
BEGIN:VEVENT
DTSTART:20210127T190000Z
DTEND:20210127T210000Z
DTSTAMP:20260423T154529
CREATED:20210120T200605Z
LAST-MODIFIED:20210120T200605Z
UID:19011-1611752400-1611759600@hdpusergroup.org
SUMMARY:HDP Board of Directors – Project Closure Review Call
DESCRIPTION:Agenda – \nCopper Peel Strength – John Davignon \nDesign Related Material Damage – Smitty \nMini-Power Cycles – Larry 
URL:https://hdpusergroup.org/event/hdp-board-of-directors-project-closure-review-call/
CATEGORIES:Board Calendar
ORGANIZER;CN=HDP:mailto:webmaster@hdpug.org
END:VEVENT
END:VCALENDAR