BEGIN:VCALENDAR
VERSION:2.0
PRODID:-//HDP User Group - ECPv6.10.1.1//NONSGML v1.0//EN
CALSCALE:GREGORIAN
METHOD:PUBLISH
X-ORIGINAL-URL:https://hdpusergroup.org
X-WR-CALDESC:Events for HDP User Group
REFRESH-INTERVAL;VALUE=DURATION:PT1H
X-Robots-Tag:noindex
X-PUBLISHED-TTL:PT1H
BEGIN:VTIMEZONE
TZID:America/Chicago
BEGIN:DAYLIGHT
TZOFFSETFROM:-0600
TZOFFSETTO:-0500
TZNAME:CDT
DTSTART:20200308T080000
END:DAYLIGHT
BEGIN:STANDARD
TZOFFSETFROM:-0500
TZOFFSETTO:-0600
TZNAME:CST
DTSTART:20201101T070000
END:STANDARD
END:VTIMEZONE
BEGIN:VEVENT
DTSTART:20201202T140000Z
DTEND:20201202T150000Z
DTSTAMP:20260423T172655
CREATED:20201105T021924Z
LAST-MODIFIED:20201105T021924Z
UID:18499-1606896000-1606899600@hdpusergroup.org
SUMMARY:Component Rework Reliability Project Call
DESCRIPTION:Component Rework Reliability Project Call 
URL:https://hdpusergroup.org/event/component-rework-reliability-project-call-16/
CATEGORIES:Component Rework Reliability
ORGANIZER;CN=HDP:mailto:webmaster@hdpug.org
END:VEVENT
BEGIN:VEVENT
DTSTART:20201202T160000Z
DTEND:20201202T170000Z
DTSTAMP:20260423T172655
CREATED:20201111T162947Z
LAST-MODIFIED:20201111T162947Z
UID:18533-1606903200-1606906800@hdpusergroup.org
SUMMARY:Materials #6 Call
DESCRIPTION:Meeting 
URL:https://hdpusergroup.org/event/materials-6-call-13/
CATEGORIES:Lead Free PWB Materials Reliability Phase 6
ORGANIZER;CN=HDP:mailto:webmaster@hdpug.org
END:VEVENT
BEGIN:VEVENT
DTSTART:20201202T190000Z
DTEND:20201202T200000Z
DTSTAMP:20260423T172655
CREATED:20201118T181400Z
LAST-MODIFIED:20201118T181400Z
UID:18584-1606914000-1606917600@hdpusergroup.org
SUMMARY:Glass Type Comparison telecom
DESCRIPTION:Glass Type Comparison telecom 
URL:https://hdpusergroup.org/event/glass-type-comparison-telecom-2/
CATEGORIES:Glass Type Composition
ORGANIZER;CN=HDP:mailto:webmaster@hdpug.org
END:VEVENT
BEGIN:VEVENT
DTSTART:20201203T120000Z
DTEND:20201203T130000Z
DTSTAMP:20260423T172655
CREATED:20201202T193402Z
LAST-MODIFIED:20201202T193402Z
UID:18802-1606975200-1606978800@hdpusergroup.org
SUMMARY:Shunichi Call
DESCRIPTION:Discuss Performance 
URL:https://hdpusergroup.org/event/shunichi-call/
CATEGORIES:Staff Calendar
ORGANIZER;CN=HDP:mailto:webmaster@hdpug.org
END:VEVENT
BEGIN:VEVENT
DTSTART:20201203T160000Z
DTEND:20201203T170000Z
DTSTAMP:20260423T172655
CREATED:20201202T160207Z
LAST-MODIFIED:20201202T160207Z
UID:18552-1606989600-1606993200@hdpusergroup.org
SUMMARY:DISC2A
DESCRIPTION:Status of Contracts 
URL:https://hdpusergroup.org/event/disc2a-16/
CATEGORIES:Digital Speckle Correlation (DSC) 2
ORGANIZER;CN=HDP:mailto:webmaster@hdpug.org
END:VEVENT
BEGIN:VEVENT
DTSTART:20201203T190000Z
DTEND:20201203T200000Z
DTSTAMP:20260423T172655
CREATED:20201118T134642Z
LAST-MODIFIED:20201118T134642Z
UID:18501-1607000400-1607004000@hdpusergroup.org
SUMMARY:Cu Peel
DESCRIPTION:See where Jim is on the final report for the Cu Peel project. \nContinue discussion about Cu Peel II 
URL:https://hdpusergroup.org/event/cu-peel-3/
CATEGORIES:Cu Properties
ORGANIZER;CN=HDP:mailto:webmaster@hdpug.org
END:VEVENT
BEGIN:VEVENT
DTSTART:20201203T200000Z
DTEND:20201203T210000Z
DTSTAMP:20260423T172655
CREATED:20201112T202144Z
LAST-MODIFIED:20201112T202144Z
UID:18535-1607004000-1607007600@hdpusergroup.org
SUMMARY:Photonic Soldering
DESCRIPTION:Have Juniper boards arrived? \nAny sign of Flex boards? \nStatus of paper? 
URL:https://hdpusergroup.org/event/photonic-soldering-17/
CATEGORIES:Photonic Soldering
ORGANIZER;CN=HDP:mailto:webmaster@hdpug.org
END:VEVENT
BEGIN:VEVENT
DTSTART:20201204T180000Z
DTEND:20201204T190000Z
DTSTAMP:20260423T172655
CREATED:20201111T153831Z
LAST-MODIFIED:20201111T153831Z
UID:18531-1607083200-1607086800@hdpusergroup.org
SUMMARY:Ultra Low Dk Glass Analysis telecom
DESCRIPTION:Ultra Low Dk Glass Analysis telecom 
URL:https://hdpusergroup.org/event/ultra-low-dk-glass-analysis-telecom-5/
CATEGORIES:Glass Weave
ORGANIZER;CN=HDP:mailto:webmaster@hdpug.org
END:VEVENT
BEGIN:VEVENT
DTSTART:20201207T160000Z
DTEND:20201207T170000Z
DTSTAMP:20260423T172655
CREATED:20201124T042858Z
LAST-MODIFIED:20201124T042858Z
UID:18774-1607335200-1607338800@hdpusergroup.org
SUMMARY:Reliability and Power Cycles telecom
DESCRIPTION:Reliability and Power Cycles telecom 
URL:https://hdpusergroup.org/event/reliability-and-power-cycles-telecom-9/
CATEGORIES:Reliability and Power Cycles
ORGANIZER;CN=HDP:mailto:webmaster@hdpug.org
END:VEVENT
BEGIN:VEVENT
DTSTART:20201207T190000Z
DTEND:20201207T200000Z
DTSTAMP:20260423T172655
CREATED:20201201T173038Z
LAST-MODIFIED:20201201T173038Z
UID:18794-1607346000-1607349600@hdpusergroup.org
SUMMARY:Mike Buetow call
DESCRIPTION:Call to discuss HDP 
URL:https://hdpusergroup.org/event/mike-buetow-call/
CATEGORIES:Staff Calendar
ORGANIZER;CN=HDP:mailto:webmaster@hdpug.org
END:VEVENT
BEGIN:VEVENT
DTSTART:20201208T160000Z
DTEND:20201208T170000Z
DTSTAMP:20260423T172655
CREATED:20201117T165623Z
LAST-MODIFIED:20201117T165623Z
UID:18555-1607421600-1607425200@hdpusergroup.org
SUMMARY:Better CAF Eq
DESCRIPTION:Status of project 
URL:https://hdpusergroup.org/event/better-caf-eq-7/
CATEGORIES:Better CAF Acceleration Equation
ORGANIZER;CN=HDP:mailto:webmaster@hdpug.org
END:VEVENT
BEGIN:VEVENT
DTSTART:20201208T160000Z
DTEND:20201208T170000Z
DTSTAMP:20260423T172655
CREATED:20201201T140303Z
LAST-MODIFIED:20201201T140303Z
UID:18781-1607421600-1607425200@hdpusergroup.org
SUMMARY:Backdrill Under BGA telecom
DESCRIPTION:Backdrill Under BGA telecom 
URL:https://hdpusergroup.org/event/backdrill-under-bga-telecom-12/
CATEGORIES:Backdrill Under BGA
ORGANIZER;CN=HDP:mailto:webmaster@hdpug.org
END:VEVENT
BEGIN:VEVENT
DTSTART:20201208T180000Z
DTEND:20201208T190000Z
DTSTAMP:20260423T172655
CREATED:20201201T183651Z
LAST-MODIFIED:20201201T183651Z
UID:18797-1607428800-1607432400@hdpusergroup.org
SUMMARY:Harsh Use Alloy 2 call
DESCRIPTION:Review go to Implementation charts 
URL:https://hdpusergroup.org/event/harsh-use-alloy-2-call/
CATEGORIES:Harsh Use Alloy Evaluation 2
ORGANIZER;CN=HDP:mailto:webmaster@hdpug.org
END:VEVENT
BEGIN:VEVENT
DTSTART:20201208T200000Z
DTEND:20201208T210000Z
DTSTAMP:20260423T172655
CREATED:20201201T200926Z
LAST-MODIFIED:20201201T200926Z
UID:18798-1607436000-1607439600@hdpusergroup.org
SUMMARY:PCB Features
DESCRIPTION:Paul to give update on possible companies ot buid test vehicle. 
URL:https://hdpusergroup.org/event/pcb-features-2/
CATEGORIES:PCB Feature Miniaturization
ORGANIZER;CN=HDP:mailto:webmaster@hdpug.org
END:VEVENT
BEGIN:VEVENT
DTSTART:20201209T010000Z
DTEND:20201209T020000Z
DTSTAMP:20260423T172655
CREATED:20201111T013826Z
LAST-MODIFIED:20201111T013826Z
UID:18529-1607454000-1607457600@hdpusergroup.org
SUMMARY:High Speed Hybrid PWB Project Call
DESCRIPTION:High Speed Hybrid PWB Project Call 
URL:https://hdpusergroup.org/event/high-speed-hybrid-pwb-project-call-26/
CATEGORIES:High Speed Hybrid PWB
ORGANIZER;CN=HDP:mailto:webmaster@hdpug.org
END:VEVENT
BEGIN:VEVENT
DTSTART:20201209T160000Z
DTEND:20201209T170000Z
DTSTAMP:20260423T172655
CREATED:20201118T170615Z
LAST-MODIFIED:20201118T170615Z
UID:18582-1607508000-1607511600@hdpusergroup.org
SUMMARY:ECM2 Project call
DESCRIPTION:Meeting 
URL:https://hdpusergroup.org/event/ecm2-project-call-19/
CATEGORIES:Electro-Chemical Migration 2
ORGANIZER;CN=HDP:mailto:webmaster@hdpug.org
END:VEVENT
BEGIN:VEVENT
DTSTART:20201210T140000Z
DTEND:20201210T150000Z
DTSTAMP:20260423T172655
CREATED:20201124T073033Z
LAST-MODIFIED:20201124T073033Z
UID:18266-1607587200-1607590800@hdpusergroup.org
SUMMARY:PFH Technology Phase 2
DESCRIPTION:PFH Technology Phase 2 
URL:https://hdpusergroup.org/event/pfh-technology-phase-2/
CATEGORIES:PFH Technology 2
ORGANIZER;CN=HDP:mailto:webmaster@hdpug.org
END:VEVENT
BEGIN:VEVENT
DTSTART:20201210T180000Z
DTEND:20201210T190000Z
DTSTAMP:20260423T172655
CREATED:20201201T183411Z
LAST-MODIFIED:20201201T183411Z
UID:18796-1607601600-1607605200@hdpusergroup.org
SUMMARY:VeCS Project Call reschedule
DESCRIPTION:Discuss FA results 
URL:https://hdpusergroup.org/event/vecs-project-call-reschedule/
CATEGORIES:VeCS Technology Evaluation
ORGANIZER;CN=HDP:mailto:webmaster@hdpug.org
END:VEVENT
BEGIN:VEVENT
DTSTART:20201210T190000Z
DTEND:20201210T200000Z
DTSTAMP:20260423T172655
CREATED:20201203T202655Z
LAST-MODIFIED:20201203T202655Z
UID:18820-1607605200-1607608800@hdpusergroup.org
SUMMARY:Cu Peel
DESCRIPTION:Report finalization? \nPeel 2 continuing 
URL:https://hdpusergroup.org/event/cu-peel-4/
CATEGORIES:Cu Properties
ORGANIZER;CN=HDP:mailto:webmaster@hdpug.org
END:VEVENT
BEGIN:VEVENT
DTSTART:20201216T190000Z
DTEND:20201216T220000Z
DTSTAMP:20260423T172655
CREATED:20201207T200629Z
LAST-MODIFIED:20201207T200629Z
UID:18834-1608123600-1608134400@hdpusergroup.org
SUMMARY:Board of Directors End of Year 2020 Review with Staff
DESCRIPTION:HDP Staff review of 2020 accomplishments and status for Board of Directors 
URL:https://hdpusergroup.org/event/board-of-directors-end-of-year-2020-review-with-staff/
CATEGORIES:Board Calendar
ORGANIZER;CN=HDP:mailto:webmaster@hdpug.org
END:VEVENT
BEGIN:VEVENT
DTSTART:20201217T140000Z
DTEND:20201217T160000Z
DTSTAMP:20260423T172655
CREATED:20201203T162446Z
LAST-MODIFIED:20201203T162446Z
UID:18819-1608192000-1608199200@hdpusergroup.org
SUMMARY:DISC2A
DESCRIPTION:Dr. Hua Lu's workshop. \nWhere Thilo is on obtaining background sample info. 
URL:https://hdpusergroup.org/event/disc2a-17/
CATEGORIES:Digital Speckle Correlation (DSC) 2
ORGANIZER;CN=HDP:mailto:webmaster@hdpug.org
END:VEVENT
BEGIN:VEVENT
DTSTART:20201217T160000Z
DTEND:20201217T170000Z
DTSTAMP:20260423T172655
CREATED:20201208T163621Z
LAST-MODIFIED:20201208T163621Z
UID:18873-1608199200-1608202800@hdpusergroup.org
SUMMARY:Innerlayer Copper Balancing
DESCRIPTION:Innerlayer Copper Balancing 
URL:https://hdpusergroup.org/event/innerlayer-copper-balancing/
CATEGORIES:Local Copper Density
ORGANIZER;CN=HDP:mailto:webmaster@hdpug.org
END:VEVENT
BEGIN:VEVENT
DTSTART:20201217T170000Z
DTEND:20201217T180000Z
DTSTAMP:20260423T172655
CREATED:20201123T204511Z
LAST-MODIFIED:20201123T204511Z
UID:18753-1608202800-1608206400@hdpusergroup.org
SUMMARY:Cu Foil Surface Treatment vs. Loss project ca;;
DESCRIPTION:Review TV build results 
URL:https://hdpusergroup.org/event/cu-foil-surface-treatment-vs-loss-project-ca/
CATEGORIES:Cu Grain Structure
ORGANIZER;CN=HDP:mailto:webmaster@hdpug.org
END:VEVENT
BEGIN:VEVENT
DTSTART:20201217T190000Z
DTEND:20201217T200000Z
DTSTAMP:20260423T172655
CREATED:20201208T221138Z
LAST-MODIFIED:20201208T221138Z
UID:18877-1608210000-1608213600@hdpusergroup.org
SUMMARY:Glass Type Composition Telecom
DESCRIPTION:Glass Type Composition Telecom 
URL:https://hdpusergroup.org/event/glass-type-composition-telecom/
CATEGORIES:Glass Type Composition
ORGANIZER;CN=HDP:mailto:webmaster@hdpug.org
END:VEVENT
BEGIN:VEVENT
DTSTART:20201217T200000Z
DTEND:20201217T210000Z
DTSTAMP:20260423T172655
CREATED:20201203T202942Z
LAST-MODIFIED:20201203T202942Z
UID:18821-1608213600-1608217200@hdpusergroup.org
SUMMARY:Photonic Soldering
DESCRIPTION:Progress report from Novacentrix on experimental work. \nReview of draft APEX paper 
URL:https://hdpusergroup.org/event/photonic-soldering-18/
CATEGORIES:Photonic Soldering
ORGANIZER;CN=HDP:mailto:webmaster@hdpug.org
END:VEVENT
BEGIN:VEVENT
DTSTART:20201218T020000Z
DTEND:20201218T030000Z
DTSTAMP:20260423T172655
CREATED:20201123T204743Z
LAST-MODIFIED:20201123T204743Z
UID:18760-1608235200-1608238800@hdpusergroup.org
SUMMARY:Reliability of Wettable Flank in Routable QFN for Automotive Project Call
DESCRIPTION:Call to discuss project testing 
URL:https://hdpusergroup.org/event/reliability-of-wettable-flank-in-routable-qfn-for-automotive-project-call-10/
CATEGORIES:Reliability of Wettable Flank in Routable QFN for Automotive
ORGANIZER;CN=HDP:mailto:webmaster@hdpug.org
END:VEVENT
BEGIN:VEVENT
DTSTART:20201222T200000Z
DTEND:20201222T210000Z
DTSTAMP:20260423T172655
CREATED:20201209T154730Z
LAST-MODIFIED:20201209T154730Z
UID:18882-1608645600-1608649200@hdpusergroup.org
SUMMARY:PCB Feature Miniaturization
DESCRIPTION:Progress on moving to Implementation 
URL:https://hdpusergroup.org/event/pcb-feature-miniaturization-2/
CATEGORIES:PCB Feature Miniaturization
ORGANIZER;CN=HDP:mailto:webmaster@hdpug.org
END:VEVENT
BEGIN:VEVENT
DTSTART:20201228T160000Z
DTEND:20201228T170000Z
DTSTAMP:20260423T172655
CREATED:20201208T221505Z
LAST-MODIFIED:20201208T221505Z
UID:18878-1609149600-1609153200@hdpusergroup.org
SUMMARY:Reliability and Power Cycles telecom
DESCRIPTION:Reliability and Power Cycles telecom 
URL:https://hdpusergroup.org/event/reliability-and-power-cycles-telecom-10/
CATEGORIES:Reliability and Power Cycles
ORGANIZER;CN=HDP:mailto:webmaster@hdpug.org
END:VEVENT
BEGIN:VEVENT
DTSTART:20201231T130000Z
DTEND:20201231T230000Z
DTSTAMP:20260423T172655
CREATED:20201229T191018Z
LAST-MODIFIED:20201229T191018Z
UID:18945-1609398000-1609434000@hdpusergroup.org
SUMMARY:test ICS file #3 - edited
DESCRIPTION:test ICS file #3 - edited 
URL:https://hdpusergroup.org/event/test-ics-file-3/
CATEGORIES:Caffeine – Test Project
ORGANIZER;CN=HDP:mailto:webmaster@hdpug.org
END:VEVENT
BEGIN:VEVENT
DTSTART:20201231T150000Z
DTEND:20201231T160000Z
DTSTAMP:20260423T172655
CREATED:20201230T140023Z
LAST-MODIFIED:20201230T140023Z
UID:18947-1609405200-1609408800@hdpusergroup.org
SUMMARY:Danielle Test ics
DESCRIPTION:Danielle is running a test 
URL:https://hdpusergroup.org/event/danielle-test-ics/
CATEGORIES:Caffeine – Test Project
ORGANIZER;CN=HDP:mailto:webmaster@hdpug.org
END:VEVENT
END:VCALENDAR