BEGIN:VCALENDAR
VERSION:2.0
PRODID:-//HDP User Group - ECPv6.10.1.1//NONSGML v1.0//EN
CALSCALE:GREGORIAN
METHOD:PUBLISH
X-ORIGINAL-URL:https://hdpusergroup.org
X-WR-CALDESC:Events for HDP User Group
REFRESH-INTERVAL;VALUE=DURATION:PT1H
X-Robots-Tag:noindex
X-PUBLISHED-TTL:PT1H
BEGIN:VTIMEZONE
TZID:America/Chicago
BEGIN:DAYLIGHT
TZOFFSETFROM:-0600
TZOFFSETTO:-0500
TZNAME:CDT
DTSTART:20200308T080000
END:DAYLIGHT
BEGIN:STANDARD
TZOFFSETFROM:-0500
TZOFFSETTO:-0600
TZNAME:CST
DTSTART:20201101T070000
END:STANDARD
END:VTIMEZONE
BEGIN:VEVENT
DTSTART:20201104T140000Z
DTEND:20201104T150000Z
DTSTAMP:20260423T190650
CREATED:20201014T143728Z
LAST-MODIFIED:20201014T143728Z
UID:18352-1604476800-1604480400@hdpusergroup.org
SUMMARY:Component Rework Reliability Project Call
DESCRIPTION:Component Rework Reliability Project Call 
URL:https://hdpusergroup.org/event/component-rework-reliability-project-call-15/
CATEGORIES:Component Rework Reliability
ORGANIZER;CN=HDP:mailto:webmaster@hdpug.org
END:VEVENT
BEGIN:VEVENT
DTSTART:20201104T160000Z
DTEND:20201104T170000Z
DTSTAMP:20260423T190650
CREATED:20201015T145848Z
LAST-MODIFIED:20201015T145848Z
UID:18395-1604484000-1604487600@hdpusergroup.org
SUMMARY:ECM2 Project call
DESCRIPTION:Meeting 
URL:https://hdpusergroup.org/event/ecm2-project-call-18/
CATEGORIES:Electro-Chemical Migration 2
ORGANIZER;CN=HDP:mailto:webmaster@hdpug.org
END:VEVENT
BEGIN:VEVENT
DTSTART:20201105T160000Z
DTEND:20201105T170000Z
DTSTAMP:20260423T190650
CREATED:20201014T161424Z
LAST-MODIFIED:20201014T161424Z
UID:18354-1604570400-1604574000@hdpusergroup.org
SUMMARY:HDP Innerlayer Copper Balancing telecom
DESCRIPTION:HDP Innerlayer Copper Balancing telecom 
URL:https://hdpusergroup.org/event/hdp-innerlayer-copper-balancing-telecom/
CATEGORIES:Local Copper Density
ORGANIZER;CN=HDP:mailto:webmaster@hdpug.org
END:VEVENT
BEGIN:VEVENT
DTSTART:20201105T170000Z
DTEND:20201105T180000Z
DTSTAMP:20260423T190650
CREATED:20201015T174547Z
LAST-MODIFIED:20201015T174547Z
UID:18396-1604574000-1604577600@hdpusergroup.org
SUMMARY:Cu Surface Treatment vs Loss Project Call
DESCRIPTION:Call to discuss TV build progress  
URL:https://hdpusergroup.org/event/cu-surface-treatment-vs-loss-project-call/
CATEGORIES:Cu Grain Structure
ORGANIZER;CN=HDP:mailto:webmaster@hdpug.org
END:VEVENT
BEGIN:VEVENT
DTSTART:20201105T190000Z
DTEND:20201105T200000Z
DTSTAMP:20260423T190650
CREATED:20201022T185018Z
LAST-MODIFIED:20201022T185018Z
UID:18429-1604581200-1604584800@hdpusergroup.org
SUMMARY:Cu Peel Strength
DESCRIPTION:Review first draft of Cu Peel report.  Continue initial discussion of direction of Cu Peel II. 
URL:https://hdpusergroup.org/event/cu-peel-strength/
CATEGORIES:Cu Properties
ORGANIZER;CN=HDP:mailto:webmaster@hdpug.org
END:VEVENT
BEGIN:VEVENT
DTSTART:20201105T200000Z
DTEND:20201105T210000Z
DTSTAMP:20260423T190650
CREATED:20201103T130801Z
LAST-MODIFIED:20201103T130801Z
UID:18478-1604584800-1604588400@hdpusergroup.org
SUMMARY:Board Thickness II Tiger Team
DESCRIPTION:How do we want to approach this? 
URL:https://hdpusergroup.org/event/board-thickness-ii-tiger-team-2/
CATEGORIES:Staff Calendar
ORGANIZER;CN=HDP:mailto:webmaster@hdpug.org
END:VEVENT
BEGIN:VEVENT
DTSTART:20201109T150000Z
DTEND:20201109T160000Z
DTSTAMP:20260423T190650
CREATED:20201104T165609Z
LAST-MODIFIED:20201104T165609Z
UID:18483-1604912400-1604916000@hdpusergroup.org
SUMMARY:ECM2 Planning mtg
DESCRIPTION:Discussion on inspection criteria 
URL:https://hdpusergroup.org/event/ecm2-planning-mtg/
CATEGORIES:Staff Calendar
ORGANIZER;CN=HDP:mailto:webmaster@hdpug.org
END:VEVENT
BEGIN:VEVENT
DTSTART:20201109T160000Z
DTEND:20201109T170000Z
DTSTAMP:20260423T190650
CREATED:20201027T125303Z
LAST-MODIFIED:20201027T125303Z
UID:18438-1604916000-1604919600@hdpusergroup.org
SUMMARY:HDP Reliability and Power Cycles telecom
DESCRIPTION:HDP Reliability and Power Cycles telecom 
URL:https://hdpusergroup.org/event/hdp-reliability-and-power-cycles-telecom-2/
CATEGORIES:Reliability and Power Cycles
ORGANIZER;CN=HDP:mailto:webmaster@hdpug.org
END:VEVENT
BEGIN:VEVENT
DTSTART:20201109T220000Z
DTEND:20201109T230000Z
DTSTAMP:20260423T190650
CREATED:20201109T143803Z
LAST-MODIFIED:20201109T143803Z
UID:18519-1604937600-1604941200@hdpusergroup.org
SUMMARY:Call to discuss Cu Surface vs loss project
DESCRIPTION:Call to discuss TV builds 
URL:https://hdpusergroup.org/event/call-to-discuss-cu-surface-vs-loss-project/
CATEGORIES:Staff Calendar
ORGANIZER;CN=HDP:mailto:webmaster@hdpug.org
END:VEVENT
BEGIN:VEVENT
DTSTART:20201110T160000Z
DTEND:20201110T170000Z
DTSTAMP:20260423T190650
CREATED:20201027T203129Z
LAST-MODIFIED:20201027T203129Z
UID:18455-1605002400-1605006000@hdpusergroup.org
SUMMARY:Backdrill Under BGA telecom
DESCRIPTION:Backdrill Under BGA telecom 
URL:https://hdpusergroup.org/event/backdrill-under-bga-telecom-10/
CATEGORIES:Backdrill Under BGA
ORGANIZER;CN=HDP:mailto:webmaster@hdpug.org
END:VEVENT
BEGIN:VEVENT
DTSTART:20201110T180000Z
DTEND:20201110T190000Z
DTSTAMP:20260423T190650
CREATED:20201028T161431Z
LAST-MODIFIED:20201028T161431Z
UID:18460-1605009600-1605013200@hdpusergroup.org
SUMMARY:Harsh Use Alloy 2 Project call
DESCRIPTION:Call to discuss resource project flow 
URL:https://hdpusergroup.org/event/harsh-use-alloy-2-project-call-2/
CATEGORIES:Harsh Use Environment Alloy Evaluation
ORGANIZER;CN=HDP:mailto:webmaster@hdpug.org
END:VEVENT
BEGIN:VEVENT
DTSTART:20201111T010000Z
DTEND:20201111T020000Z
DTSTAMP:20260423T190650
CREATED:20201021T020722Z
LAST-MODIFIED:20201021T020722Z
UID:18427-1605034800-1605038400@hdpusergroup.org
SUMMARY:High Speed Hybrid PWB Project Call
DESCRIPTION:High Speed Hybrid PWB Project Call 
URL:https://hdpusergroup.org/event/high-speed-hybrid-pwb-project-call-25/
CATEGORIES:High Speed Hybrid PWB
ORGANIZER;CN=HDP:mailto:webmaster@hdpug.org
END:VEVENT
BEGIN:VEVENT
DTSTART:20201111T160000Z
DTEND:20201111T170000Z
DTSTAMP:20260423T190650
CREATED:20201028T152639Z
LAST-MODIFIED:20201028T152639Z
UID:18459-1605088800-1605092400@hdpusergroup.org
SUMMARY:Materials #6 Call
DESCRIPTION:Meeting 
URL:https://hdpusergroup.org/event/materials-6-call-12/
CATEGORIES:Lead Free PWB Materials Reliability Phase 6
ORGANIZER;CN=HDP:mailto:webmaster@hdpug.org
END:VEVENT
BEGIN:VEVENT
DTSTART:20201112T140000Z
DTEND:20201112T180000Z
DTSTAMP:20260423T190650
CREATED:20210825T012743Z
LAST-MODIFIED:20210825T012743Z
UID:18186-1605168000-1605182400@hdpusergroup.org
SUMMARY:HDP November 2020 Aerospace Electronics Webinar
DESCRIPTION:  \nHigh-Density Packaging (HDP) User Group is pleased to announce it is hosting a free webinar that will provide its members and others in the electronic industry the latest information on issues facing Aerospace electronics.  Worldwide Experts in the field will share their knowledge and concerns during the 3-hour Webinar\, which is open to all interested parties. \nThe Webinar will be held on November 12\, 2020\, starting at 8 AM USA Central Time.  \nThe Webinar is in the English language.  \nPlease register for webinar log-in and call details by emailing your contact info (name\, Company Info\, Email) to one of the following people\, or using the register now button on this page. \nkima77@hdpug.org  martinc@hdpug.org larrym@hdpug.org
URL:https://hdpusergroup.org/event/hdp-november-2020-aerospace-electronics-webinar/
CATEGORIES:Member Meetings
ORGANIZER;CN=HDP:mailto:webmaster@hdpug.org
END:VEVENT
BEGIN:VEVENT
DTSTART:20201112T200000Z
DTEND:20201112T210000Z
DTSTAMP:20260423T190650
CREATED:20201029T222319Z
LAST-MODIFIED:20201029T222319Z
UID:18473-1605189600-1605193200@hdpusergroup.org
SUMMARY:Photonic Soldering
DESCRIPTION:Samples to Vahid? 
URL:https://hdpusergroup.org/event/photonic-soldering-16/
CATEGORIES:Photonic Soldering
ORGANIZER;CN=HDP:mailto:webmaster@hdpug.org
END:VEVENT
BEGIN:VEVENT
DTSTART:20201116T150000Z
DTEND:20201116T160000Z
DTSTAMP:20260423T190650
CREATED:20201028T142254Z
LAST-MODIFIED:20201028T142254Z
UID:18457-1605517200-1605520800@hdpusergroup.org
SUMMARY:DISC2A
DESCRIPTION:Status on sampling gathering and preparation 
URL:https://hdpusergroup.org/event/disc2a-15/
CATEGORIES:Digital Speckle Correlation (DSC) 2
ORGANIZER;CN=HDP:mailto:webmaster@hdpug.org
END:VEVENT
BEGIN:VEVENT
DTSTART:20201116T200000Z
DTEND:20201116T210000Z
DTSTAMP:20260423T190650
CREATED:20201028T193018Z
LAST-MODIFIED:20201028T193018Z
UID:18465-1605535200-1605538800@hdpusergroup.org
SUMMARY:PCB Feature Miniaturization
DESCRIPTION:Any progress in getting a shop to build? 
URL:https://hdpusergroup.org/event/pcb-feature-miniaturization/
CATEGORIES:PCB Feature Miniaturization
ORGANIZER;CN=HDP:mailto:webmaster@hdpug.org
END:VEVENT
BEGIN:VEVENT
DTSTART:20201117T160000Z
DTEND:20201118T050000Z
DTSTAMP:20260423T190650
CREATED:20201020T151802Z
LAST-MODIFIED:20201020T151802Z
UID:18423-1605607200-1605654000@hdpusergroup.org
SUMMARY:Better CF Equation
DESCRIPTION:Updates from our 3 test houes.  Talk about drop dead date.  Any new test houses? 
URL:https://hdpusergroup.org/event/better-cf-equation/
CATEGORIES:Better CAF Acceleration Equation
ORGANIZER;CN=HDP:mailto:webmaster@hdpug.org
END:VEVENT
BEGIN:VEVENT
DTSTART:20201118T160000Z
DTEND:20201118T170000Z
DTSTAMP:20260423T190650
CREATED:20201104T170207Z
LAST-MODIFIED:20201104T170207Z
UID:18484-1605693600-1605697200@hdpusergroup.org
SUMMARY:ECM2 Project call
DESCRIPTION:Meeting 
URL:https://hdpusergroup.org/event/1100am-1200pm-ecm2-project-call/
CATEGORIES:Electro-Chemical Migration 2
ORGANIZER;CN=HDP:mailto:webmaster@hdpug.org
END:VEVENT
BEGIN:VEVENT
DTSTART:20201118T180000Z
DTEND:20201118T190000Z
DTSTAMP:20260423T190650
CREATED:20201020T200631Z
LAST-MODIFIED:20201020T200631Z
UID:18425-1605700800-1605704400@hdpusergroup.org
SUMMARY:Low Ag Alloy Solder Paste project meeting
DESCRIPTION:meeting 
URL:https://hdpusergroup.org/event/low-ag-alloy-solder-paste-project-meeting-3/
CATEGORIES:Low Ag Alloy Solderpaste Reliability – BGA Leg
ORGANIZER;CN=HDP:mailto:webmaster@hdpug.org
END:VEVENT
BEGIN:VEVENT
DTSTART:20201119T150000Z
DTEND:20201119T160000Z
DTSTAMP:20260423T190650
CREATED:20201029T160340Z
LAST-MODIFIED:20201029T160340Z
UID:18468-1605776400-1605780000@hdpusergroup.org
SUMMARY:Automotive PWB Meeting
DESCRIPTION:Meeting 
URL:https://hdpusergroup.org/event/automotive-pwb-meeting-6/
CATEGORIES:Automotive PCB – Hi Voltage/Hi Current
ORGANIZER;CN=HDP:mailto:webmaster@hdpug.org
END:VEVENT
BEGIN:VEVENT
DTSTART:20201119T160000Z
DTEND:20201119T170000Z
DTSTAMP:20260423T190650
CREATED:20201110T135108Z
LAST-MODIFIED:20201110T135108Z
UID:18528-1605780000-1605783600@hdpusergroup.org
SUMMARY:Innerlayer copper balancing telecom
DESCRIPTION:Innerlayer copper balancing telecom 
URL:https://hdpusergroup.org/event/innerlayer-copper-balancing-telecom/
CATEGORIES:Local Copper Density
ORGANIZER;CN=HDP:mailto:webmaster@hdpug.org
END:VEVENT
BEGIN:VEVENT
DTSTART:20201119T170000Z
DTEND:20201119T180000Z
DTSTAMP:20260423T190650
CREATED:20201109T222637Z
LAST-MODIFIED:20201109T222637Z
UID:18525-1605783600-1605787200@hdpusergroup.org
SUMMARY:Cu Surface Treatment vs Loss Call
DESCRIPTION:Call to discuss TV progress 
URL:https://hdpusergroup.org/event/cu-surface-treatment-vs-loss-call/
CATEGORIES:Cu Grain Structure
ORGANIZER;CN=HDP:mailto:webmaster@hdpug.org
END:VEVENT
BEGIN:VEVENT
DTSTART:20201119T200000Z
DTEND:20201119T210000Z
DTSTAMP:20260423T190650
CREATED:20201105T204039Z
LAST-MODIFIED:20201105T204039Z
UID:18502-1605794400-1605798000@hdpusergroup.org
SUMMARY:Board Thickness II Tiger Team
DESCRIPTION:Further discussion 
URL:https://hdpusergroup.org/event/board-thickness-ii-tiger-team-3/
CATEGORIES:Staff Calendar
ORGANIZER;CN=HDP:mailto:webmaster@hdpug.org
END:VEVENT
BEGIN:VEVENT
DTSTART:20201120T020000Z
DTEND:20201120T030000Z
DTSTAMP:20260423T190650
CREATED:20201026T122119Z
LAST-MODIFIED:20201026T122119Z
UID:18432-1605816000-1605819600@hdpusergroup.org
SUMMARY:Reliability of Wettable Flank in Routable QFN for Automotive  - Project Call
DESCRIPTION:Call to discuss project status 
URL:https://hdpusergroup.org/event/reliability-of-wettable-flank-in-routable-qfn-for-automotive-project-call-9/
CATEGORIES:Reliability of Wettable Flank in Routable QFN for Automotive
ORGANIZER;CN=HDP:mailto:webmaster@hdpug.org
END:VEVENT
BEGIN:VEVENT
DTSTART:20201123T160000Z
DTEND:20201123T170000Z
DTSTAMP:20260423T190650
CREATED:20201110T134751Z
LAST-MODIFIED:20201110T134751Z
UID:18527-1606125600-1606129200@hdpusergroup.org
SUMMARY:Reliability and Power Cycles telecom
DESCRIPTION:Reliability and Power Cycles telecom 
URL:https://hdpusergroup.org/event/reliability-and-power-cycles-telecom-8/
CATEGORIES:Reliability and Power Cycles
ORGANIZER;CN=HDP:mailto:webmaster@hdpug.org
END:VEVENT
BEGIN:VEVENT
DTSTART:20201124T160000Z
DTEND:20201124T170000Z
DTSTAMP:20260423T190650
CREATED:20201124T044138Z
LAST-MODIFIED:20201124T044138Z
UID:18554-1606212000-1606215600@hdpusergroup.org
SUMMARY:Backdrill Under BGA telecom
DESCRIPTION:Backdrill Under BGA telecom 
URL:https://hdpusergroup.org/event/backdrill-under-bga-telecom-11/
CATEGORIES:Backdrill Under BGA
ORGANIZER;CN=HDP:mailto:webmaster@hdpug.org
END:VEVENT
END:VCALENDAR