BEGIN:VCALENDAR
VERSION:2.0
PRODID:-//HDP User Group - ECPv6.10.1.1//NONSGML v1.0//EN
CALSCALE:GREGORIAN
METHOD:PUBLISH
X-ORIGINAL-URL:https://hdpusergroup.org
X-WR-CALDESC:Events for HDP User Group
REFRESH-INTERVAL;VALUE=DURATION:PT1H
X-Robots-Tag:noindex
X-PUBLISHED-TTL:PT1H
BEGIN:VTIMEZONE
TZID:America/Chicago
BEGIN:DAYLIGHT
TZOFFSETFROM:-0600
TZOFFSETTO:-0500
TZNAME:CDT
DTSTART:20200308T080000
END:DAYLIGHT
BEGIN:STANDARD
TZOFFSETFROM:-0500
TZOFFSETTO:-0600
TZNAME:CST
DTSTART:20201101T070000
END:STANDARD
END:VTIMEZONE
BEGIN:VEVENT
DTSTART:20200901T150000Z
DTEND:20200901T160000Z
DTSTAMP:20260423T234401
CREATED:20200824T165511Z
LAST-MODIFIED:20200824T165511Z
UID:17815-1598954400-1598958000@hdpusergroup.org
SUMMARY:Backdrill under BGA telecom
DESCRIPTION:Backdrill under BGA telecom 
URL:https://hdpusergroup.org/event/backdrill-under-bga-telecom-8/
CATEGORIES:Backdrill Under BGA
ORGANIZER;CN=HDP:mailto:webmaster@hdpug.org
END:VEVENT
BEGIN:VEVENT
DTSTART:20200902T150000Z
DTEND:20200902T160000Z
DTSTAMP:20260423T234401
CREATED:20200812T161046Z
LAST-MODIFIED:20200812T161046Z
UID:17777-1599040800-1599044400@hdpusergroup.org
SUMMARY:Materials #6 Call
DESCRIPTION:Meeting \n  
URL:https://hdpusergroup.org/event/materials-6-call-9/
CATEGORIES:Lead Free PWB Materials Reliability Phase 6
ORGANIZER;CN=HDP:mailto:webmaster@hdpug.org
END:VEVENT
BEGIN:VEVENT
DTSTART:20200902T170000Z
DTEND:20200902T180000Z
DTSTAMP:20260423T234401
CREATED:20200819T172143Z
LAST-MODIFIED:20200819T172143Z
UID:17800-1599048000-1599051600@hdpusergroup.org
SUMMARY:Low Ag Alloy Solder Paste  project meeting
DESCRIPTION:Meeting \n  
URL:https://hdpusergroup.org/event/low-ag-alloy-solder-paste-project-meeting/
CATEGORIES:Low Ag Alloy Solderpaste Reliability – BGA Leg
ORGANIZER;CN=HDP:mailto:webmaster@hdpug.org
END:VEVENT
BEGIN:VEVENT
DTSTART:20200903T070000Z
DTEND:20200903T080000Z
DTSTAMP:20260423T234401
CREATED:20200826T102905Z
LAST-MODIFIED:20200826T102905Z
UID:17468-1599098400-1599102000@hdpusergroup.org
SUMMARY:Component Rework Reliability Project Call
DESCRIPTION:Component Rework Reliability Project Call 
URL:https://hdpusergroup.org/event/component-rework-reliability-project-call-11/
CATEGORIES:Component Rework Reliability
ORGANIZER;CN=HDP:mailto:webmaster@hdpug.org
END:VEVENT
BEGIN:VEVENT
DTSTART:20200903T140000Z
DTEND:20200903T150000Z
DTSTAMP:20260423T234401
CREATED:20200820T145213Z
LAST-MODIFIED:20200820T145213Z
UID:17805-1599123600-1599127200@hdpusergroup.org
SUMMARY:DISC2A
DESCRIPTION:See where we are on finding samples. 
URL:https://hdpusergroup.org/event/disc2a-11/
CATEGORIES:Digital Speckle Correlation (DSC) 2
ORGANIZER;CN=HDP:mailto:webmaster@hdpug.org
END:VEVENT
BEGIN:VEVENT
DTSTART:20200903T170000Z
DTEND:20200903T180000Z
DTSTAMP:20260423T234401
CREATED:20200820T181615Z
LAST-MODIFIED:20200820T181615Z
UID:17809-1599134400-1599138000@hdpusergroup.org
SUMMARY:VeCS Project Call
DESCRIPTION:Review Jason's High Temp IST results 
URL:https://hdpusergroup.org/event/vecs-project-call/
CATEGORIES:VeCS Technology Evaluation
ORGANIZER;CN=HDP:mailto:webmaster@hdpug.org
END:VEVENT
BEGIN:VEVENT
DTSTART:20200903T180000Z
DTEND:20200903T190000Z
DTSTAMP:20260423T234401
CREATED:20200821T185504Z
LAST-MODIFIED:20200821T185504Z
UID:17812-1599138000-1599141600@hdpusergroup.org
SUMMARY:Cu Peel
DESCRIPTION:Examine Panasonic results 
URL:https://hdpusergroup.org/event/cu-peel/
CATEGORIES:Cu Properties
ORGANIZER;CN=HDP:mailto:webmaster@hdpug.org
END:VEVENT
BEGIN:VEVENT
DTSTART:20200903T200000Z
DTEND:20200903T210000Z
DTSTAMP:20260423T234401
CREATED:20200825T175655Z
LAST-MODIFIED:20200825T175655Z
UID:17818-1599145200-1599148800@hdpusergroup.org
SUMMARY:Photonic Soldering
DESCRIPTION:Discuss major change in who does what. 
URL:https://hdpusergroup.org/event/photonic-soldering-11/
CATEGORIES:Photonic Soldering
ORGANIZER;CN=HDP:mailto:webmaster@hdpug.org
END:VEVENT
BEGIN:VEVENT
DTSTART:20200908T150000Z
DTEND:20200908T160000Z
DTSTAMP:20260423T234401
CREATED:20200728T155321Z
LAST-MODIFIED:20200728T155321Z
UID:17722-1599559200-1599562800@hdpusergroup.org
SUMMARY:CAF Equation
DESCRIPTION:Review of latest testing 
URL:https://hdpusergroup.org/event/caf-equation-3/
CATEGORIES:Better CAF Acceleration Equation
ORGANIZER;CN=HDP:mailto:webmaster@hdpug.org
END:VEVENT
BEGIN:VEVENT
DTSTART:20200908T170000Z
DTEND:20200908T180000Z
DTSTAMP:20260423T234401
CREATED:20200825T175430Z
LAST-MODIFIED:20200825T175430Z
UID:17817-1599566400-1599570000@hdpusergroup.org
SUMMARY:Semi-additive
DESCRIPTION:Discuss who is doing what and hopefully complete the Powerpoint for the BoD 
URL:https://hdpusergroup.org/event/semi-additive-2/
CATEGORIES:PCB Feature Miniaturization
ORGANIZER;CN=HDP:mailto:webmaster@hdpug.org
END:VEVENT
BEGIN:VEVENT
DTSTART:20200909T010000Z
DTEND:20200909T020000Z
DTSTAMP:20260423T234401
CREATED:20200819T021904Z
LAST-MODIFIED:20200819T021904Z
UID:17799-1599595200-1599598800@hdpusergroup.org
SUMMARY:High Speed Hybrid PWB Project Call
DESCRIPTION:High Speed Hybrid PWB Project Call 
URL:https://hdpusergroup.org/event/high-speed-hybrid-pwb-project-call-22/
CATEGORIES:High Speed Hybrid PWB
ORGANIZER;CN=HDP:mailto:webmaster@hdpug.org
END:VEVENT
BEGIN:VEVENT
DTSTART:20200909T133000Z
DTEND:20200909T143000Z
DTSTAMP:20260423T234401
CREATED:20200907T164846Z
LAST-MODIFIED:20200907T164846Z
UID:17846-1599640200-1599643800@hdpusergroup.org
SUMMARY:Logo Call
DESCRIPTION:Martin\, Kim\, Smitty logo roll-out call 
URL:https://hdpusergroup.org/event/logo-call-13/
CATEGORIES:Staff Calendar
ORGANIZER;CN=HDP:mailto:webmaster@hdpug.org
END:VEVENT
BEGIN:VEVENT
DTSTART:20200909T150000Z
DTEND:20200909T160000Z
DTSTAMP:20260423T234401
CREATED:20200813T154310Z
LAST-MODIFIED:20200813T154310Z
UID:17789-1599645600-1599649200@hdpusergroup.org
SUMMARY:Automotive PWB – Placeholder
DESCRIPTION:Placeholder \n  
URL:https://hdpusergroup.org/event/automotive-pwb-placeholder/
CATEGORIES:Automotive PCB – Hi Voltage/Hi Current
ORGANIZER;CN=HDP:mailto:webmaster@hdpug.org
END:VEVENT
BEGIN:VEVENT
DTSTART:20200909T150000Z
DTEND:20200909T160000Z
DTSTAMP:20260423T234401
CREATED:20200826T154944Z
LAST-MODIFIED:20200826T154944Z
UID:17822-1599645600-1599649200@hdpusergroup.org
SUMMARY:Automotive PWB – Meeting
DESCRIPTION:Meeting 
URL:https://hdpusergroup.org/event/automotive-pwb-meeting-3/
CATEGORIES:Automotive PCB – Hi Voltage/Hi Current
ORGANIZER;CN=HDP:mailto:webmaster@hdpug.org
END:VEVENT
BEGIN:VEVENT
DTSTART:20200909T160000Z
DTEND:20200909T170000Z
DTSTAMP:20260423T234401
CREATED:20200820T125315Z
LAST-MODIFIED:20200820T125315Z
UID:17804-1599649200-1599652800@hdpusergroup.org
SUMMARY:Cu foil surface treatment vs loss Project Call
DESCRIPTION:Update on project progress 
URL:https://hdpusergroup.org/event/cu-foil-surface-treatment-vs-loss-project-call/
CATEGORIES:Cu Grain Structure
ORGANIZER;CN=HDP:mailto:webmaster@hdpug.org
END:VEVENT
BEGIN:VEVENT
DTSTART:20200910T010000Z
DTEND:20200910T020000Z
DTSTAMP:20260423T234401
CREATED:20210825T235741Z
LAST-MODIFIED:20210825T235741Z
UID:17762-1599681600-1599685200@hdpusergroup.org
SUMMARY:LVH Lifetime Predictor for TC Project Call
DESCRIPTION:LVH Lifetime Predictor for TC Project Call 
URL:https://hdpusergroup.org/event/lvh-lifetime-predictor-for-tc-project-call-3/
CATEGORIES:LVH Lifetime Predictor for TC
ORGANIZER;CN=HDP:mailto:webmaster@hdpug.org
END:VEVENT
BEGIN:VEVENT
DTSTART:20200910T070000Z
DTEND:20200910T080000Z
DTSTAMP:20260423T234401
CREATED:20200904T023134Z
LAST-MODIFIED:20200904T023134Z
UID:17842-1599703200-1599706800@hdpusergroup.org
SUMMARY:Component Rework Reliability Project Call
DESCRIPTION:Component Rework Reliability Project Call 
URL:https://hdpusergroup.org/event/component-rework-reliability-project-call-12/
CATEGORIES:Component Rework Reliability
ORGANIZER;CN=HDP:mailto:webmaster@hdpug.org
END:VEVENT
BEGIN:VEVENT
DTSTART:20200910T150000Z
DTEND:20200910T160000Z
DTSTAMP:20260423T234401
CREATED:20200820T155234Z
LAST-MODIFIED:20200820T155234Z
UID:17807-1599732000-1599735600@hdpusergroup.org
SUMMARY:ECM2 Project call
DESCRIPTION:Meeting \n  
URL:https://hdpusergroup.org/event/ecm2-project-call-15/
CATEGORIES:Electro-Chemical Migration 2
ORGANIZER;CN=HDP:mailto:webmaster@hdpug.org
END:VEVENT
BEGIN:VEVENT
DTSTART:20200914T150000Z
DTEND:20200914T160000Z
DTSTAMP:20260423T234401
CREATED:20200831T151003Z
LAST-MODIFIED:20200831T151003Z
UID:17828-1600077600-1600081200@hdpusergroup.org
SUMMARY:HDP Reliability and Power Cycles telecom
DESCRIPTION:HDP Reliability and Power Cycles telecom 
URL:https://hdpusergroup.org/event/hdp-reliability-and-power-cycles-telecom/
CATEGORIES:Reliability and Power Cycles
ORGANIZER;CN=HDP:mailto:webmaster@hdpug.org
END:VEVENT
BEGIN:VEVENT
DTSTART:20200915T150000Z
DTEND:20200915T160000Z
DTSTAMP:20260423T234401
CREATED:20200908T123057Z
LAST-MODIFIED:20200908T123057Z
UID:18176-1600164000-1600167600@hdpusergroup.org
SUMMARY:Backdrill Under BGA
DESCRIPTION:Backdrill Under BGA 
URL:https://hdpusergroup.org/event/backdrill-under-bga-6/
CATEGORIES:Backdrill Under BGA
ORGANIZER;CN=HDP:mailto:webmaster@hdpug.org
END:VEVENT
BEGIN:VEVENT
DTSTART:20200915T170000Z
DTEND:20200915T180000Z
DTSTAMP:20260423T234401
CREATED:20200908T174812Z
LAST-MODIFIED:20200908T174812Z
UID:18181-1600171200-1600174800@hdpusergroup.org
SUMMARY:Semi-add
DESCRIPTION:See if we can lock down project variables and get some volunteers do work on the project. 
URL:https://hdpusergroup.org/event/semi-add-4/
CATEGORIES:PCB Feature Miniaturization
ORGANIZER;CN=HDP:mailto:webmaster@hdpug.org
END:VEVENT
BEGIN:VEVENT
DTSTART:20200915T200000Z
DTEND:20200915T210000Z
DTSTAMP:20260423T234401
CREATED:20200911T215824Z
LAST-MODIFIED:20200911T215824Z
UID:18199-1600182000-1600185600@hdpusergroup.org
SUMMARY:Call to Discuss SIT Contract
DESCRIPTION:Discuss and finalize proposed changees to the $11K Contract with SIT for work oin the PFH Technology Project 
URL:https://hdpusergroup.org/event/call-to-discuss-sit-contract/
CATEGORIES:Board Calendar
ORGANIZER;CN=HDP:mailto:webmaster@hdpug.org
END:VEVENT
BEGIN:VEVENT
DTSTART:20200916T140000Z
DTEND:20200916T150000Z
DTSTAMP:20260423T234401
CREATED:20200915T153952Z
LAST-MODIFIED:20200915T153952Z
UID:18204-1600246800-1600250400@hdpusergroup.org
SUMMARY:Logo Call
DESCRIPTION:Martin\, Smitty\, Kim Logo Call 
URL:https://hdpusergroup.org/event/logo-call-14/
CATEGORIES:Staff Calendar
ORGANIZER;CN=HDP:mailto:webmaster@hdpug.org
END:VEVENT
BEGIN:VEVENT
DTSTART:20200916T180000Z
DTEND:20200916T190000Z
DTSTAMP:20260423T234401
CREATED:20200810T024207Z
LAST-MODIFIED:20200810T024207Z
UID:17772-1600261200-1600264800@hdpusergroup.org
SUMMARY:Glass Type Comparison telecom
DESCRIPTION:Glass Type Comparison telecom 
URL:https://hdpusergroup.org/event/glass-type-comparison-telecom/
CATEGORIES:Glass Type Composition
ORGANIZER;CN=HDP:mailto:webmaster@hdpug.org
END:VEVENT
BEGIN:VEVENT
DTSTART:20200917T140000Z
DTEND:20200917T150000Z
DTSTAMP:20260423T234401
CREATED:20200903T150218Z
LAST-MODIFIED:20200903T150218Z
UID:17840-1600333200-1600336800@hdpusergroup.org
SUMMARY:DISC2A
DESCRIPTION:Discuss more about sample prep and the possiblity of modelling. 
URL:https://hdpusergroup.org/event/disc2a-12/
CATEGORIES:Digital Speckle Correlation (DSC) 2
ORGANIZER;CN=HDP:mailto:webmaster@hdpug.org
END:VEVENT
BEGIN:VEVENT
DTSTART:20200917T150000Z
DTEND:20200917T160000Z
DTSTAMP:20260423T234401
CREATED:20200824T165128Z
LAST-MODIFIED:20200824T165128Z
UID:17814-1600336800-1600340400@hdpusergroup.org
SUMMARY:Local Copper Density Project telecom
DESCRIPTION:Local Copper Density Project telecom 
URL:https://hdpusergroup.org/event/local-copper-density-project-telecom/
CATEGORIES:Local Copper Density
ORGANIZER;CN=HDP:mailto:webmaster@hdpug.org
END:VEVENT
BEGIN:VEVENT
DTSTART:20200917T180000Z
DTEND:20200917T190000Z
DTSTAMP:20260423T234401
CREATED:20200903T181606Z
LAST-MODIFIED:20200903T181606Z
UID:17841-1600347600-1600351200@hdpusergroup.org
SUMMARY:Copper Peel
DESCRIPTION:Look at the second set of data from Panasonic and if avaiable Jim's first cut of the final report. 
URL:https://hdpusergroup.org/event/copper-peel/
CATEGORIES:Cu Properties
ORGANIZER;CN=HDP:mailto:webmaster@hdpug.org
END:VEVENT
BEGIN:VEVENT
DTSTART:20200917T190000Z
DTEND:20200917T200000Z
DTSTAMP:20260423T234401
CREATED:20200828T164022Z
LAST-MODIFIED:20200828T164022Z
UID:17827-1600351200-1600354800@hdpusergroup.org
SUMMARY:Mini Power Cycles - Project Call
DESCRIPTION:Review data and discuss final report 
URL:https://hdpusergroup.org/event/mini-power-cycles-project-call/
CATEGORIES:Mini Power Cycles
ORGANIZER;CN=HDP:mailto:webmaster@hdpug.org
END:VEVENT
BEGIN:VEVENT
DTSTART:20200917T200000Z
DTEND:20200917T210000Z
DTSTAMP:20260423T234401
CREATED:20200915T140330Z
LAST-MODIFIED:20200915T140330Z
UID:18203-1600354800-1600358400@hdpusergroup.org
SUMMARY:Photonic Soldering
DESCRIPTION:Hear from Celestica and if bad news\, talk about plan B. 
URL:https://hdpusergroup.org/event/photonic-soldering-12/
CATEGORIES:Photonic Soldering
ORGANIZER;CN=HDP:mailto:webmaster@hdpug.org
END:VEVENT
BEGIN:VEVENT
DTSTART:20200918T150000Z
DTEND:20200918T160000Z
DTSTAMP:20260423T234401
CREATED:20200824T165823Z
LAST-MODIFIED:20200824T165823Z
UID:17816-1600423200-1600426800@hdpusergroup.org
SUMMARY:Ultra Low Dk Glass Analysis project telecom
DESCRIPTION:Ultra Low Dk Glass Analysis project telecom 
URL:https://hdpusergroup.org/event/ultra-low-dk-glass-analysis-project-telecom/
CATEGORIES:Glass Weave
ORGANIZER;CN=HDP:mailto:webmaster@hdpug.org
END:VEVENT
END:VCALENDAR