BEGIN:VCALENDAR
VERSION:2.0
PRODID:-//HDP User Group - ECPv6.10.1.1//NONSGML v1.0//EN
CALSCALE:GREGORIAN
METHOD:PUBLISH
X-ORIGINAL-URL:https://hdpusergroup.org
X-WR-CALDESC:Events for HDP User Group
REFRESH-INTERVAL;VALUE=DURATION:PT1H
X-Robots-Tag:noindex
X-PUBLISHED-TTL:PT1H
BEGIN:VTIMEZONE
TZID:America/Chicago
BEGIN:DAYLIGHT
TZOFFSETFROM:-0600
TZOFFSETTO:-0500
TZNAME:CDT
DTSTART:20200308T080000
END:DAYLIGHT
BEGIN:STANDARD
TZOFFSETFROM:-0500
TZOFFSETTO:-0600
TZNAME:CST
DTSTART:20201101T070000
END:STANDARD
END:VTIMEZONE
BEGIN:VEVENT
DTSTART:20200601T140000Z
DTEND:20200601T150000Z
DTSTAMP:20260424T035146
CREATED:20200526T141817Z
LAST-MODIFIED:20200526T141817Z
UID:17461-1591002000-1591005600@hdpusergroup.org
SUMMARY:Auto Webinar Test
DESCRIPTION:Test for connection and log in 
URL:https://hdpusergroup.org/event/auto-webinar-test/
CATEGORIES:Staff Calendar
ORGANIZER;CN=HDP:mailto:webmaster@hdpug.org
END:VEVENT
BEGIN:VEVENT
DTSTART:20200601T150000Z
DTEND:20200601T160000Z
DTSTAMP:20260424T035146
CREATED:20200519T155918Z
LAST-MODIFIED:20200519T155918Z
UID:17409-1591005600-1591009200@hdpusergroup.org
SUMMARY:HDP Reliability and Power Cycles project telecom
DESCRIPTION:HDP Reliability and Power Cycles project telecom 
URL:https://hdpusergroup.org/event/hdp-reliability-and-power-cycles-project-telecom/
CATEGORIES:Reliability and Power Cycles
ORGANIZER;CN=HDP:mailto:webmaster@hdpug.org
END:VEVENT
BEGIN:VEVENT
DTSTART:20200602T150000Z
DTEND:20200602T160000Z
DTSTAMP:20260424T035146
CREATED:20200519T160400Z
LAST-MODIFIED:20200519T160400Z
UID:17411-1591092000-1591095600@hdpusergroup.org
SUMMARY:Backdrill Under BGA project
DESCRIPTION:Backdrill Under BGA project 
URL:https://hdpusergroup.org/event/backdrill-under-bga-project/
CATEGORIES:Backdrill Under BGA
ORGANIZER;CN=HDP:mailto:webmaster@hdpug.org
END:VEVENT
BEGIN:VEVENT
DTSTART:20200603T150000Z
DTEND:20200603T160000Z
DTSTAMP:20260424T035146
CREATED:20200519T172515Z
LAST-MODIFIED:20200519T172515Z
UID:17414-1591178400-1591182000@hdpusergroup.org
SUMMARY:HDP Local Copper Density project KO
DESCRIPTION:HDP Local Copper Density project KO 
URL:https://hdpusergroup.org/event/hdp-local-copper-density-project-ko/
CATEGORIES:Local Copper Density
ORGANIZER;CN=HDP:mailto:webmaster@hdpug.org
END:VEVENT
BEGIN:VEVENT
DTSTART:20200603T170000Z
DTEND:20200603T180000Z
DTSTAMP:20260424T035146
CREATED:20200602T211403Z
LAST-MODIFIED:20200602T211403Z
UID:17491-1591185600-1591189200@hdpusergroup.org
SUMMARY:Crane Labs Call
DESCRIPTION:Call to discuss new projects and Labs interest 
URL:https://hdpusergroup.org/event/crane-labs-call/
CATEGORIES:Staff Calendar
ORGANIZER;CN=HDP:mailto:webmaster@hdpug.org
END:VEVENT
BEGIN:VEVENT
DTSTART:20200603T200000Z
DTEND:20200603T210000Z
DTSTAMP:20260424T035146
CREATED:20200529T181404Z
LAST-MODIFIED:20200529T181404Z
UID:17478-1591196400-1591200000@hdpusergroup.org
SUMMARY:Photonic Soldering Team Call
DESCRIPTION:Weekly Team Call 
URL:https://hdpusergroup.org/event/photonic-soldering-team-call-4/
CATEGORIES:Photonic Soldering
ORGANIZER;CN=HDP:mailto:webmaster@hdpug.org
END:VEVENT
BEGIN:VEVENT
DTSTART:20200604T140000Z
DTEND:20200604T150000Z
DTSTAMP:20260424T035146
CREATED:20200602T154903Z
LAST-MODIFIED:20200602T154903Z
UID:17484-1591261200-1591264800@hdpusergroup.org
SUMMARY:NPL HDP call
DESCRIPTION:Discuss exchange membership 
URL:https://hdpusergroup.org/event/npl-hdp-call/
CATEGORIES:Staff Calendar
ORGANIZER;CN=HDP:mailto:webmaster@hdpug.org
END:VEVENT
BEGIN:VEVENT
DTSTART:20200604T150000Z
DTEND:20200604T160000Z
DTSTAMP:20260424T035146
CREATED:20200520T161837Z
LAST-MODIFIED:20200520T161837Z
UID:17417-1591264800-1591268400@hdpusergroup.org
SUMMARY:Materials #6 Call
DESCRIPTION:Meeting \n  
URL:https://hdpusergroup.org/event/materials-6-call-4/
CATEGORIES:Lead Free PWB Materials Reliability Phase 6
ORGANIZER;CN=HDP:mailto:webmaster@hdpug.org
END:VEVENT
BEGIN:VEVENT
DTSTART:20200605T170000Z
DTEND:20200605T180000Z
DTSTAMP:20260424T035146
CREATED:20200522T204954Z
LAST-MODIFIED:20200522T204954Z
UID:17442-1591358400-1591362000@hdpusergroup.org
SUMMARY:Ultra Low Dk Glass Analysis
DESCRIPTION:Ultra Low Dk Glass Analysis 
URL:https://hdpusergroup.org/event/ultra-low-dk-glass-analysis-6/
CATEGORIES:Glass Weave
ORGANIZER;CN=HDP:mailto:webmaster@hdpug.org
END:VEVENT
BEGIN:VEVENT
DTSTART:20200609T180000Z
DTEND:20200609T190000Z
DTSTAMP:20260424T035146
CREATED:20200604T164314Z
LAST-MODIFIED:20200604T164314Z
UID:17495-1591707600-1591711200@hdpusergroup.org
SUMMARY:Backdrill Under BGA Testing discussion
DESCRIPTION:Backdrill Under BGA Testing discussion 
URL:https://hdpusergroup.org/event/backdrill-under-bga-testing-discussion/
CATEGORIES:Backdrill Under BGA
ORGANIZER;CN=HDP:mailto:webmaster@hdpug.org
END:VEVENT
BEGIN:VEVENT
DTSTART:20200610T010000Z
DTEND:20200610T020000Z
DTSTAMP:20260424T035146
CREATED:20200520T025738Z
LAST-MODIFIED:20200520T025738Z
UID:17415-1591732800-1591736400@hdpusergroup.org
SUMMARY:High Speed Hybrid PWB Project Call
DESCRIPTION:High Speed Hybrid PWB Project Call 
URL:https://hdpusergroup.org/event/high-speed-hybrid-pwb-project-call-18/
CATEGORIES:High Speed Hybrid PWB
ORGANIZER;CN=HDP:mailto:webmaster@hdpug.org
END:VEVENT
BEGIN:VEVENT
DTSTART:20200610T150000Z
DTEND:20200610T160000Z
DTSTAMP:20260424T035146
CREATED:20200520T163340Z
LAST-MODIFIED:20200520T163340Z
UID:17420-1591783200-1591786800@hdpusergroup.org
SUMMARY:SAC Aging 3-84 project call
DESCRIPTION:Meeting \n  
URL:https://hdpusergroup.org/event/sac-aging-3-84-project-call-6/
CATEGORIES:SAC Aging 3 84
ORGANIZER;CN=HDP:mailto:webmaster@hdpug.org
END:VEVENT
BEGIN:VEVENT
DTSTART:20200610T160000Z
DTEND:20200610T170000Z
DTSTAMP:20260424T035146
CREATED:20200606T222039Z
LAST-MODIFIED:20200606T222039Z
UID:17498-1591786800-1591790400@hdpusergroup.org
SUMMARY:Cu Surface Treatment VS. Loss June 10\, 2020 project meeting
DESCRIPTION:Cu Surface Treatment VS. Loss June 10\, 2020 project meeting 
URL:https://hdpusergroup.org/event/cu-surface-treatment-vs-loss-june-10-2020-project-meeting/
LOCATION:WebEx
CATEGORIES:Cu Grain Structure
ORGANIZER;CN=HDP:mailto:webmaster@hdpug.org
END:VEVENT
BEGIN:VEVENT
DTSTART:20200610T170000Z
DTEND:20200610T180000Z
DTSTAMP:20260424T035146
CREATED:20200602T181338Z
LAST-MODIFIED:20200602T181338Z
UID:17486-1591790400-1591794000@hdpusergroup.org
SUMMARY:Low Ag Alloy Solderpaste June 10\, 2020 project meeting
DESCRIPTION:Low Ag Alloy Solderpaste June 10\, 2020 project meeting 
URL:https://hdpusergroup.org/event/low-ag-alloy-solderpaste-june-10-2020-project-meeting/
LOCATION:WebEx
CATEGORIES:Low Ag Alloy Solderpaste Reliability – BGA Leg
ORGANIZER;CN=HDP:mailto:webmaster@hdpug.org
END:VEVENT
BEGIN:VEVENT
DTSTART:20200610T200000Z
DTEND:20200610T210000Z
DTSTAMP:20260424T035146
CREATED:20200603T210107Z
LAST-MODIFIED:20200603T210107Z
UID:17493-1591801200-1591804800@hdpusergroup.org
SUMMARY:Photonic Soldering Team Call
DESCRIPTION:Weekly Photonic Soldering Team Call 
URL:https://hdpusergroup.org/event/photonic-soldering-team-call-5/
CATEGORIES:Photonic Soldering
ORGANIZER;CN=HDP:mailto:webmaster@hdpug.org
END:VEVENT
BEGIN:VEVENT
DTSTART:20200611T010000Z
DTEND:20200611T020000Z
DTSTAMP:20260424T035146
CREATED:20200514T021911Z
LAST-MODIFIED:20200514T021911Z
UID:17394-1591819200-1591822800@hdpusergroup.org
SUMMARY:PTH Creep Fatigue Under Roughness Influence Project Call
DESCRIPTION:PTH Creep Fatigue Under Roughness Influence Project Call 
URL:https://hdpusergroup.org/event/pth-creep-fatigue-under-roughness-influence-project-call-12/
CATEGORIES:PTH Creep Fatigue Under Roughness Influence
ORGANIZER;CN=HDP:mailto:webmaster@hdpug.org
END:VEVENT
BEGIN:VEVENT
DTSTART:20200611T160000Z
DTEND:20200611T170000Z
DTSTAMP:20260424T035146
CREATED:20200602T191832Z
LAST-MODIFIED:20200602T191832Z
UID:17490-1591873200-1591876800@hdpusergroup.org
SUMMARY:Cu Peel Strength June 11\, 2020 project meeting
DESCRIPTION:Cu Peel Strength June 11\, 2020 project meeting 
URL:https://hdpusergroup.org/event/cu-peel-strength-june-11-2020-project-meeting/
LOCATION:WebEx
CATEGORIES:Cu Properties
ORGANIZER;CN=HDP:mailto:webmaster@hdpug.org
END:VEVENT
BEGIN:VEVENT
DTSTART:20200611T170000Z
DTEND:20200611T180000Z
DTSTAMP:20260424T035146
CREATED:20200606T214540Z
LAST-MODIFIED:20200606T214540Z
UID:17497-1591876800-1591880400@hdpusergroup.org
SUMMARY:VeCS Technology Evaluation June 11\, 2020 project meeting
DESCRIPTION:VeCS Technology Evaluation June 11\, 2020 project meeting 
URL:https://hdpusergroup.org/event/vecs-technology-evaluation-june-11-2020-project-meeting/
LOCATION:WebEx
CATEGORIES:VeCS Technology Evaluation
ORGANIZER;CN=HDP:mailto:webmaster@hdpug.org
END:VEVENT
BEGIN:VEVENT
DTSTART:20200615T150000Z
DTEND:20200615T160000Z
DTSTAMP:20260424T035146
CREATED:20200602T034746Z
LAST-MODIFIED:20200602T034746Z
UID:17480-1592215200-1592218800@hdpusergroup.org
SUMMARY:Reliability and Power Cycles
DESCRIPTION:Reliability and Power Cycles 
URL:https://hdpusergroup.org/event/reliability-and-power-cycles/
CATEGORIES:Reliability and Power Cycles
ORGANIZER;CN=HDP:mailto:webmaster@hdpug.org
END:VEVENT
BEGIN:VEVENT
DTSTART:20200615T200000Z
DTEND:20200615T210000Z
DTSTAMP:20260424T035146
CREATED:20200610T193411Z
LAST-MODIFIED:20200610T193411Z
UID:17521-1592233200-1592236800@hdpusergroup.org
SUMMARY:Board Thickness II
DESCRIPTION:We have no team leader. \nWe have no one to design the test board. \nWe have no site now to do the -40 to 125C thermal cycling. \nDo we kill the project? 
URL:https://hdpusergroup.org/event/board-thickness-ii-10/
CATEGORIES:Board Thickness Effect on ATC Reliability II
ORGANIZER;CN=HDP:mailto:webmaster@hdpug.org
END:VEVENT
BEGIN:VEVENT
DTSTART:20200616T123000Z
DTEND:20200616T220000Z
DTSTAMP:20260424T035146
CREATED:20200616T235648Z
LAST-MODIFIED:20200616T235648Z
UID:17554-1592292600-1592326800@hdpusergroup.org
SUMMARY:QFN call
DESCRIPTION:Call tonight 
URL:https://hdpusergroup.org/event/qfn-call/
CATEGORIES:Reliability of Wettable Flank in Routable QFN for Automotive
ORGANIZER;CN=HDP:mailto:webmaster@hdpug.org
END:VEVENT
BEGIN:VEVENT
DTSTART:20200616T150000Z
DTEND:20200616T160000Z
DTSTAMP:20260424T035146
CREATED:20200514T131551Z
LAST-MODIFIED:20200514T131551Z
UID:17395-1592301600-1592305200@hdpusergroup.org
SUMMARY:Better CAF Eq
DESCRIPTION:Next project update \nDiscusss project leader 
URL:https://hdpusergroup.org/event/better-caf-eq-5/
CATEGORIES:Better CAF Acceleration Equation
ORGANIZER;CN=HDP:mailto:webmaster@hdpug.org
END:VEVENT
BEGIN:VEVENT
DTSTART:20200617T000000Z
DTEND:20200617T010000Z
DTSTAMP:20260424T035146
CREATED:20200616T235357Z
LAST-MODIFIED:20200616T235357Z
UID:17535-1592334000-1592337600@hdpusergroup.org
SUMMARY:Reliability of Wettable Flank in Routable QFN for Automotive
DESCRIPTION:Discuss thermal cycling status 
URL:https://hdpusergroup.org/event/reliability-of-wettable-flank-in-routable-qfn-for-automotive-9/
CATEGORIES:Reliability of Wettable Flank in Routable QFN for Automotive
ORGANIZER;CN=HDP:mailto:webmaster@hdpug.org
END:VEVENT
BEGIN:VEVENT
DTSTART:20200617T150000Z
DTEND:20200617T160000Z
DTSTAMP:20260424T035146
CREATED:20200527T154410Z
LAST-MODIFIED:20200527T154410Z
UID:17465-1592388000-1592391600@hdpusergroup.org
SUMMARY:ECM2 Project call
DESCRIPTION:Meeting \n  
URL:https://hdpusergroup.org/event/ecm2-project-call-12/
CATEGORIES:Electro-Chemical Migration 2
ORGANIZER;CN=HDP:mailto:webmaster@hdpug.org
END:VEVENT
BEGIN:VEVENT
DTSTART:20200617T160000Z
DTEND:20200617T170000Z
DTSTAMP:20260424T035146
CREATED:20200617T150711Z
LAST-MODIFIED:20200617T150711Z
UID:17499-1592391600-1592395200@hdpusergroup.org
SUMMARY:Local Copper Density Telecom
DESCRIPTION:Local Copper Density Telecom 
URL:https://hdpusergroup.org/event/local-copper-density-telecom/
CATEGORIES:Local Copper Density
ORGANIZER;CN=HDP:mailto:webmaster@hdpug.org
END:VEVENT
BEGIN:VEVENT
DTSTART:20200618T140000Z
DTEND:20200618T150000Z
DTSTAMP:20260424T035146
CREATED:20200528T163304Z
LAST-MODIFIED:20200528T163304Z
UID:17470-1592470800-1592474400@hdpusergroup.org
SUMMARY:PFH Technology Phase 2 Project Call
DESCRIPTION:PFH Technology Phase 2 Project Call 
URL:https://hdpusergroup.org/event/pfh-technology-phase-2-project-call/
CATEGORIES:PFH Technology 2
ORGANIZER;CN=HDP:mailto:webmaster@hdpug.org
END:VEVENT
BEGIN:VEVENT
DTSTART:20200618T190000Z
DTEND:20200618T200000Z
DTSTAMP:20260424T035146
CREATED:20200521T194553Z
LAST-MODIFIED:20200521T194553Z
UID:17430-1592488800-1592492400@hdpusergroup.org
SUMMARY:Mini Power Cycle Call
DESCRIPTION:Project Call Mini Power Cycle 
URL:https://hdpusergroup.org/event/mini-power-cycle-call-6/
CATEGORIES:Mini Power Cycles
ORGANIZER;CN=HDP:mailto:webmaster@hdpug.org
END:VEVENT
BEGIN:VEVENT
DTSTART:20200618T200000Z
DTEND:20200618T210000Z
DTSTAMP:20260424T035146
CREATED:20200610T210042Z
LAST-MODIFIED:20200610T210042Z
UID:17525-1592492400-1592496000@hdpusergroup.org
SUMMARY:Photonic Soldering
DESCRIPTION:See if we can finalize submission for BoD 
URL:https://hdpusergroup.org/event/photonic-soldering-9/
CATEGORIES:Photonic Soldering
ORGANIZER;CN=HDP:mailto:webmaster@hdpug.org
END:VEVENT
BEGIN:VEVENT
DTSTART:20200618T230000Z
DTEND:20200618T233000Z
DTSTAMP:20260424T035146
CREATED:20200618T145253Z
LAST-MODIFIED:20200618T145253Z
UID:17574-1592503200-1592505000@hdpusergroup.org
SUMMARY:Testing System
DESCRIPTION:Testing WebEx fix. 
URL:https://hdpusergroup.org/event/testing-system-2/
CATEGORIES:Staff Calendar
ORGANIZER;CN=HDP:mailto:webmaster@hdpug.org
END:VEVENT
BEGIN:VEVENT
DTSTART:20200619T003000Z
DTEND:20200619T010000Z
DTSTAMP:20260424T035146
CREATED:20200618T193115Z
LAST-MODIFIED:20200618T193115Z
UID:17580-1592508600-1592510400@hdpusergroup.org
SUMMARY:Testing Again
DESCRIPTION:Testing WebEx fix. 
URL:https://hdpusergroup.org/event/testing-again/
CATEGORIES:Staff Calendar
ORGANIZER;CN=HDP:mailto:webmaster@hdpug.org
END:VEVENT
END:VCALENDAR