BEGIN:VCALENDAR
VERSION:2.0
PRODID:-//HDP User Group - ECPv6.10.1.1//NONSGML v1.0//EN
CALSCALE:GREGORIAN
METHOD:PUBLISH
X-ORIGINAL-URL:https://hdpusergroup.org
X-WR-CALDESC:Events for HDP User Group
REFRESH-INTERVAL;VALUE=DURATION:PT1H
X-Robots-Tag:noindex
X-PUBLISHED-TTL:PT1H
BEGIN:VTIMEZONE
TZID:America/Chicago
BEGIN:DAYLIGHT
TZOFFSETFROM:-0600
TZOFFSETTO:-0500
TZNAME:CDT
DTSTART:20200308T080000
END:DAYLIGHT
BEGIN:STANDARD
TZOFFSETFROM:-0500
TZOFFSETTO:-0600
TZNAME:CST
DTSTART:20201101T070000
END:STANDARD
END:VTIMEZONE
BEGIN:VEVENT
DTSTART:20200302T160000Z
DTEND:20200302T170000Z
DTSTAMP:20260424T095513
CREATED:20200210T164545Z
LAST-MODIFIED:20200210T164545Z
UID:15746-1583143200-1583146800@hdpusergroup.org
SUMMARY:Better CAF Equation
DESCRIPTION:Review results from Nik\, Hubert and Eric. 
URL:https://hdpusergroup.org/event/better-caf-equation-11/
CATEGORIES:Better CAF Acceleration Equation
ORGANIZER;CN=HDP:mailto:webmaster@hdpug.org
END:VEVENT
BEGIN:VEVENT
DTSTART:20200303T170000Z
DTEND:20200303T180000Z
DTSTAMP:20260424T095513
CREATED:20200223T165518Z
LAST-MODIFIED:20200223T165518Z
UID:15790-1583233200-1583236800@hdpusergroup.org
SUMMARY:Photonic Soldering
DESCRIPTION:Start building a flow chart\, put in dates and volunteers for various actions. 
URL:https://hdpusergroup.org/event/photonic-soldering-3/
CATEGORIES:Photonic Soldering
ORGANIZER;CN=HDP:mailto:webmaster@hdpug.org
END:VEVENT
BEGIN:VEVENT
DTSTART:20200303T180000Z
DTEND:20200303T190000Z
DTSTAMP:20260424T095513
CREATED:20200206T152536Z
LAST-MODIFIED:20200206T152536Z
UID:15745-1583236800-1583240400@hdpusergroup.org
SUMMARY:Harsh Use Alloy
DESCRIPTION:Discuss Phase 2 
URL:https://hdpusergroup.org/event/harsh-use-alloy/
CATEGORIES:Harsh Use Environment Alloy Evaluation
ORGANIZER;CN=HDP:mailto:webmaster@hdpug.org
END:VEVENT
BEGIN:VEVENT
DTSTART:20200303T190000Z
DTEND:20200303T200000Z
DTSTAMP:20260424T095513
CREATED:20200225T145607Z
LAST-MODIFIED:20200225T145607Z
UID:15807-1583240400-1583244000@hdpusergroup.org
SUMMARY:RF Failure Detection
DESCRIPTION:Work on final report 
URL:https://hdpusergroup.org/event/rf-failure-detection-13/
CATEGORIES:RF Failure Detection
ORGANIZER;CN=HDP:mailto:webmaster@hdpug.org
END:VEVENT
BEGIN:VEVENT
DTSTART:20200304T010000Z
DTEND:20200304T020000Z
DTSTAMP:20260424T095513
CREATED:20200218T032005Z
LAST-MODIFIED:20200218T032005Z
UID:15785-1583262000-1583265600@hdpusergroup.org
SUMMARY:High Speed Hybrid PWB - Screening Test for Adhesion Project Call
DESCRIPTION:High Speed Hybrid PWB - Screening Test for Adhesion Project Call 
URL:https://hdpusergroup.org/event/high-speed-hybrid-pwb-screening-test-for-adhesion-project-call/
CATEGORIES:High Speed Hybrid PWB
ORGANIZER;CN=HDP:mailto:webmaster@hdpug.org
END:VEVENT
BEGIN:VEVENT
DTSTART:20200304T140000Z
DTEND:20200304T150000Z
DTSTAMP:20260424T095513
CREATED:20200212T151458Z
LAST-MODIFIED:20200212T151458Z
UID:15773-1583308800-1583312400@hdpusergroup.org
SUMMARY:PFH Technology Project Call
DESCRIPTION:PFH Technology Project Call 
URL:https://hdpusergroup.org/event/pfh-technology-project-call-13/
CATEGORIES:PFH Technology
ORGANIZER;CN=HDP:mailto:webmaster@hdpug.org
END:VEVENT
BEGIN:VEVENT
DTSTART:20200304T170000Z
DTEND:20200304T180000Z
DTSTAMP:20260424T095513
CREATED:20200227T001026Z
LAST-MODIFIED:20200227T001026Z
UID:15828-1583319600-1583323200@hdpusergroup.org
SUMMARY:Cu Grain Structure Mar 4th project meeting
DESCRIPTION:Cu Grain Structure Mar 4th project meeting 
URL:https://hdpusergroup.org/event/cu-grain-structure-mar-4th-project-meeting/
LOCATION:WebEx
CATEGORIES:Cu Grain Structure
ORGANIZER;CN=HDP:mailto:webmaster@hdpug.org
END:VEVENT
BEGIN:VEVENT
DTSTART:20200304T180000Z
DTEND:20200304T190000Z
DTSTAMP:20260424T095513
CREATED:20200227T001912Z
LAST-MODIFIED:20200227T001912Z
UID:15830-1583323200-1583326800@hdpusergroup.org
SUMMARY:Low Ag Alloy Solderpaste Mar 4th Project meeting
DESCRIPTION:Low Ag Alloy Solderpaste Mar 4th Project meeting 
URL:https://hdpusergroup.org/event/low-ag-alloy-solderpaste-mar-4th-project-meeting/
LOCATION:WebEx
CATEGORIES:Low Ag Alloy Solderpaste Reliability – BGA Leg
ORGANIZER;CN=HDP:mailto:webmaster@hdpug.org
END:VEVENT
BEGIN:VEVENT
DTSTART:20200305T010000Z
DTEND:20200305T020000Z
DTSTAMP:20260424T095513
CREATED:20200205T022409Z
LAST-MODIFIED:20200205T022409Z
UID:15743-1583348400-1583352000@hdpusergroup.org
SUMMARY:PTH Creep Fatigue Under Roughness Influence Project Call
DESCRIPTION:PTH Creep Fatigue Under Roughness Influence Project Call 
URL:https://hdpusergroup.org/event/pth-creep-fatigue-under-roughness-influence-project-call-9/
CATEGORIES:PTH Creep Fatigue Under Roughness Influence
ORGANIZER;CN=HDP:mailto:webmaster@hdpug.org
END:VEVENT
BEGIN:VEVENT
DTSTART:20200305T140000Z
DTEND:20200305T150000Z
DTSTAMP:20260424T095513
CREATED:20200304T144948Z
LAST-MODIFIED:20200304T144948Z
UID:15892-1583395200-1583398800@hdpusergroup.org
SUMMARY:Discussion on European Auto Workshop and Member meeting
DESCRIPTION:Discuss upcoming meeting and possible postponement 
URL:https://hdpusergroup.org/event/discussion-on-european-auto-workshop-and-member-meeting/
CATEGORIES:Staff Calendar
ORGANIZER;CN=HDP:mailto:webmaster@hdpug.org
END:VEVENT
BEGIN:VEVENT
DTSTART:20200305T160000Z
DTEND:20200305T170000Z
DTSTAMP:20260424T095513
CREATED:20200226T160708Z
LAST-MODIFIED:20200226T160708Z
UID:15817-1583402400-1583406000@hdpusergroup.org
SUMMARY:ECM2 Project Call
DESCRIPTION:Meeting \n  
URL:https://hdpusergroup.org/event/ecm2-project-call-3/
CATEGORIES:Electro-Chemical Migration 2
ORGANIZER;CN=HDP:mailto:webmaster@hdpug.org
END:VEVENT
BEGIN:VEVENT
DTSTART:20200305T170000Z
DTEND:20200305T180000Z
DTSTAMP:20260424T095513
CREATED:20200227T001359Z
LAST-MODIFIED:20200227T001359Z
UID:15829-1583406000-1583409600@hdpusergroup.org
SUMMARY:Cu Peel Strength vs Loss Mar 5th project meeting
DESCRIPTION:Cu Peel Strength vs Loss Mar 5th project meeting 
URL:https://hdpusergroup.org/event/cu-peel-strength-vs-loss-mar-5th-project-meeting/
LOCATION:WebEx
CATEGORIES:Cu Properties
ORGANIZER;CN=HDP:mailto:webmaster@hdpug.org
END:VEVENT
BEGIN:VEVENT
DTSTART:20200305T180000Z
DTEND:20200305T190000Z
DTSTAMP:20260424T095513
CREATED:20200227T002451Z
LAST-MODIFIED:20200227T002451Z
UID:15831-1583409600-1583413200@hdpusergroup.org
SUMMARY:VeCS Technology Evaluation Mar 5th project meeting
DESCRIPTION:VeCS Technology Evaluation Mar 5th project meeting 
URL:https://hdpusergroup.org/event/vecs-technology-evaluation-mar-5th-project-meeting/
LOCATION:WebEx
CATEGORIES:VeCS Technology Evaluation
ORGANIZER;CN=HDP:mailto:webmaster@hdpug.org
END:VEVENT
BEGIN:VEVENT
DTSTART:20200306T190000Z
DTEND:20200306T200000Z
DTSTAMP:20260424T095513
CREATED:20200224T172959Z
LAST-MODIFIED:20200224T172959Z
UID:15800-1583499600-1583503200@hdpusergroup.org
SUMMARY:Board Thickness II
DESCRIPTION:See where we are on task assignments. 
URL:https://hdpusergroup.org/event/board-thickness-ii-5/
CATEGORIES:Board Thickness Effect on ATC Reliability II
ORGANIZER;CN=HDP:mailto:webmaster@hdpug.org
END:VEVENT
BEGIN:VEVENT
DTSTART:20200310T010000Z
DTEND:20200310T020000Z
DTSTAMP:20260424T095513
CREATED:20200227T062955Z
LAST-MODIFIED:20200227T062955Z
UID:15852-1583784000-1583787600@hdpusergroup.org
SUMMARY:Mitsui-HDP Discussion on Hosting Asia Member Meeting in Japan\, December 2020
DESCRIPTION:Mitsui-HDP Discussion on Hosting Asia Member Meeting in Japan\, December 2020 
URL:https://hdpusergroup.org/event/mitsui-hdp-discussion-on-hosting-asia-member-meeting-in-japan-december-2020/
CATEGORIES:Staff Calendar
ORGANIZER;CN=HDP:mailto:webmaster@hdpug.org
END:VEVENT
BEGIN:VEVENT
DTSTART:20200311T010000Z
DTEND:20200311T020000Z
DTSTAMP:20260424T095513
CREATED:20200212T053008Z
LAST-MODIFIED:20200212T053008Z
UID:15772-1583870400-1583874000@hdpusergroup.org
SUMMARY:High Speed Hybrid PWB
DESCRIPTION:High Speed Hybrid PWB 
URL:https://hdpusergroup.org/event/high-speed-hybrid-pwb/
CATEGORIES:High Speed Hybrid PWB
ORGANIZER;CN=HDP:mailto:webmaster@hdpug.org
END:VEVENT
BEGIN:VEVENT
DTSTART:20200311T150000Z
DTEND:20200311T160000Z
DTSTAMP:20260424T095513
CREATED:20200212T162705Z
LAST-MODIFIED:20200212T162705Z
UID:15774-1583920800-1583924400@hdpusergroup.org
SUMMARY:Materials #6 Prtoject call
DESCRIPTION:Project Meeting \n  
URL:https://hdpusergroup.org/event/materials-6-prtoject-call/
CATEGORIES:Lead Free PWB Materials Reliability Phase 6
ORGANIZER;CN=HDP:mailto:webmaster@hdpug.org
END:VEVENT
BEGIN:VEVENT
DTSTART:20200311T170000Z
DTEND:20200311T180000Z
DTSTAMP:20260424T095513
CREATED:20200215T011412Z
LAST-MODIFIED:20200215T011412Z
UID:15784-1583928000-1583931600@hdpusergroup.org
SUMMARY:SAC Aging 3-84 project call
DESCRIPTION:Project call \n  
URL:https://hdpusergroup.org/event/sac-aging-3-84-project-call-3/
CATEGORIES:SAC Aging 3 84
ORGANIZER;CN=HDP:mailto:webmaster@hdpug.org
END:VEVENT
BEGIN:VEVENT
DTSTART:20200312T140000Z
DTEND:20200312T150000Z
DTSTAMP:20260424T095513
CREATED:20200305T170134Z
LAST-MODIFIED:20200305T170134Z
UID:15921-1584003600-1584007200@hdpusergroup.org
SUMMARY:ECM2 Project Call
DESCRIPTION:Meeting \n  
URL:https://hdpusergroup.org/event/ecm2-project-call-4/
CATEGORIES:Electro-Chemical Migration 2
ORGANIZER;CN=HDP:mailto:webmaster@hdpug.org
END:VEVENT
BEGIN:VEVENT
DTSTART:20200312T150000Z
DTEND:20200312T160000Z
DTSTAMP:20260424T095513
CREATED:20200228T002549Z
LAST-MODIFIED:20200228T002549Z
UID:15862-1584007200-1584010800@hdpusergroup.org
SUMMARY:Backdrill Under BGA telecom
DESCRIPTION:Backdrill Under BGA telecom 
URL:https://hdpusergroup.org/event/backdrill-under-bga-telecom-2/
CATEGORIES:Backdrill Under BGA
ORGANIZER;CN=HDP:mailto:webmaster@hdpug.org
END:VEVENT
BEGIN:VEVENT
DTSTART:20200312T190000Z
DTEND:20200312T200000Z
DTSTAMP:20260424T095513
CREATED:20200224T180018Z
LAST-MODIFIED:20200224T180018Z
UID:15801-1584021600-1584025200@hdpusergroup.org
SUMMARY:Mini Power Cycle Project call
DESCRIPTION:Review Corner only data 
URL:https://hdpusergroup.org/event/mini-power-cycle-project-call-9/
CATEGORIES:Mini Power Cycles
ORGANIZER;CN=HDP:mailto:webmaster@hdpug.org
END:VEVENT
BEGIN:VEVENT
DTSTART:20200313T000000Z
DTEND:20200313T010000Z
DTSTAMP:20260424T095513
CREATED:20200224T181223Z
LAST-MODIFIED:20200224T181223Z
UID:15803-1584039600-1584043200@hdpusergroup.org
SUMMARY:Lead Frame Surface Finish Project call
DESCRIPTION:Update on finding OSAT and schedule 
URL:https://hdpusergroup.org/event/lead-frame-surface-finish-project-call/
CATEGORIES:Lead Frame Surface Finish
ORGANIZER;CN=HDP:mailto:webmaster@hdpug.org
END:VEVENT
BEGIN:VEVENT
DTSTART:20200313T170000Z
DTEND:20200313T180000Z
DTSTAMP:20260424T095513
CREATED:20200229T025732Z
LAST-MODIFIED:20200229T025732Z
UID:15878-1584100800-1584104400@hdpusergroup.org
SUMMARY:Low Dk Glass  Analysis Telecom
DESCRIPTION:Low Dk Glass  Analysis Telecom 
URL:https://hdpusergroup.org/event/low-dk-glass-analysis-telecom/
CATEGORIES:Glass Weave
ORGANIZER;CN=HDP:mailto:webmaster@hdpug.org
END:VEVENT
BEGIN:VEVENT
DTSTART:20200313T180000Z
DTEND:20200313T190000Z
DTSTAMP:20260424T095513
CREATED:20200306T202041Z
LAST-MODIFIED:20200306T202041Z
UID:15965-1584104400-1584108000@hdpusergroup.org
SUMMARY:Board Thickness II
DESCRIPTION:To see where we are on assigning responsibilites. 
URL:https://hdpusergroup.org/event/board-thickness-ii-6/
CATEGORIES:Board Thickness Effect on ATC Reliability II
ORGANIZER;CN=HDP:mailto:webmaster@hdpug.org
END:VEVENT
BEGIN:VEVENT
DTSTART:20200317T010000Z
DTEND:20200317T020000Z
DTSTAMP:20260424T095513
CREATED:20200224T180607Z
LAST-MODIFIED:20200224T180607Z
UID:15802-1584388800-1584392400@hdpusergroup.org
SUMMARY:Reliability of Wettable Flank in Routable QFN for Automotive
DESCRIPTION:Review Project status and schedule update 
URL:https://hdpusergroup.org/event/reliability-of-wettable-flank-in-routable-qfn-for-automotive-8/
CATEGORIES:Reliability of Wettable Flank in Routable QFN for Automotive
ORGANIZER;CN=HDP:mailto:webmaster@hdpug.org
END:VEVENT
BEGIN:VEVENT
DTSTART:20200317T160000Z
DTEND:20200317T170000Z
DTSTAMP:20260424T095513
CREATED:20200303T210755Z
LAST-MODIFIED:20200303T210755Z
UID:15891-1584442800-1584446400@hdpusergroup.org
SUMMARY:Photonnic Soldering
DESCRIPTION:Continue working on the project plan 
URL:https://hdpusergroup.org/event/photonnic-soldering/
CATEGORIES:Photonic Soldering
ORGANIZER;CN=HDP:mailto:webmaster@hdpug.org
END:VEVENT
BEGIN:VEVENT
DTSTART:20200318T160000Z
DTEND:20200318T170000Z
DTSTAMP:20260424T095513
CREATED:20200309T220241Z
LAST-MODIFIED:20200309T220241Z
UID:15968-1584529200-1584532800@hdpusergroup.org
SUMMARY:Cu Grain Sructure Project Meeting of March 18\, 2020
DESCRIPTION:Cu Grain Sructure Project Meeting of March 18\, 2020 
URL:https://hdpusergroup.org/event/cu-grain-sructure-project-meeting-of-march-18-2020/
LOCATION:WebEx
CATEGORIES:Cu Grain Structure
ORGANIZER;CN=HDP:mailto:webmaster@hdpug.org
END:VEVENT
BEGIN:VEVENT
DTSTART:20200318T170000Z
DTEND:20200318T180000Z
DTSTAMP:20260424T095513
CREATED:20200309T221055Z
LAST-MODIFIED:20200309T221055Z
UID:15970-1584532800-1584536400@hdpusergroup.org
SUMMARY:Low Ag Alloy Solderpaste project meeting of March18\, 2020
DESCRIPTION:Low Ag Alloy Solderpaste project meeting of March 18\, 2020 
URL:https://hdpusergroup.org/event/low-ag-alloy-solderpaste-project-meeting-of-march18-2020/
LOCATION:WebEx
CATEGORIES:Low Ag Alloy Solderpaste Reliability – BGA Leg
ORGANIZER;CN=HDP:mailto:webmaster@hdpug.org
END:VEVENT
BEGIN:VEVENT
DTSTART:20200319T160000Z
DTEND:20200319T170000Z
DTSTAMP:20260424T095513
CREATED:20200309T220649Z
LAST-MODIFIED:20200309T220649Z
UID:15969-1584615600-1584619200@hdpusergroup.org
SUMMARY:Cu Peel Strength vs Loss project meeting of March 19\, 2020
DESCRIPTION:Cu Peel Strength vs Loss project meeting of March 19\, 2020 
URL:https://hdpusergroup.org/event/cu-peel-strength-vs-loss-project-meeting-of-march-19-2020/
LOCATION:WebEx
CATEGORIES:Cu Properties
ORGANIZER;CN=HDP:mailto:webmaster@hdpug.org
END:VEVENT
BEGIN:VEVENT
DTSTART:20200320T180000Z
DTEND:20200320T190000Z
DTSTAMP:20260424T095513
CREATED:20200317T203557Z
LAST-MODIFIED:20200317T203557Z
UID:16003-1584709200-1584712800@hdpusergroup.org
SUMMARY:DISC2A
DESCRIPTION:Restarting project 
URL:https://hdpusergroup.org/event/disc2a/
CATEGORIES:Digital Speckle Correlation (DSC) 2
ORGANIZER;CN=HDP:mailto:webmaster@hdpug.org
END:VEVENT
END:VCALENDAR