BEGIN:VCALENDAR
VERSION:2.0
PRODID:-//HDP User Group - ECPv6.10.1.1//NONSGML v1.0//EN
CALSCALE:GREGORIAN
METHOD:PUBLISH
X-ORIGINAL-URL:https://hdpusergroup.org
X-WR-CALDESC:Events for HDP User Group
REFRESH-INTERVAL;VALUE=DURATION:PT1H
X-Robots-Tag:noindex
X-PUBLISHED-TTL:PT1H
BEGIN:VTIMEZONE
TZID:America/Chicago
BEGIN:DAYLIGHT
TZOFFSETFROM:-0600
TZOFFSETTO:-0500
TZNAME:CDT
DTSTART:20250309T080000
END:DAYLIGHT
BEGIN:STANDARD
TZOFFSETFROM:-0500
TZOFFSETTO:-0600
TZNAME:CST
DTSTART:20251102T070000
END:STANDARD
END:VTIMEZONE
BEGIN:VEVENT
DTSTART:20251111T160000Z
DTEND:20251111T170000Z
DTSTAMP:20260421T045818
CREATED:20251024T142346Z
LAST-MODIFIED:20251024T142346Z
UID:37964-1762855200-1762858800@hdpusergroup.org
SUMMARY:Stacked Microvia Capability Improvement
DESCRIPTION:Meeting 
URL:https://hdpusergroup.org/event/stacked-microvia-capability-improvement-4/
CATEGORIES:Staff Calendar
ORGANIZER;CN=HDP:mailto:webmaster@hdpug.org
END:VEVENT
BEGIN:VEVENT
DTSTART:20251112T000000Z
DTEND:20251112T010000Z
DTSTAMP:20260421T045818
CREATED:20251110T171609Z
LAST-MODIFIED:20251110T171609Z
UID:38223-1762884000-1762887600@hdpusergroup.org
SUMMARY:Porosity
DESCRIPTION:X-ray results \nNext steps 
URL:https://hdpusergroup.org/event/porosity-26/
CATEGORIES:Porosity Testing
ORGANIZER;CN=HDP:mailto:webmaster@hdpug.org
END:VEVENT
END:VCALENDAR