BEGIN:VCALENDAR
VERSION:2.0
PRODID:-//HDP User Group - ECPv6.10.1.1//NONSGML v1.0//EN
CALSCALE:GREGORIAN
METHOD:PUBLISH
X-ORIGINAL-URL:https://hdpusergroup.org
X-WR-CALDESC:Events for HDP User Group
REFRESH-INTERVAL;VALUE=DURATION:PT1H
X-Robots-Tag:noindex
X-PUBLISHED-TTL:PT1H
BEGIN:VTIMEZONE
TZID:America/Chicago
BEGIN:DAYLIGHT
TZOFFSETFROM:-0600
TZOFFSETTO:-0500
TZNAME:CDT
DTSTART:20250309T080000
END:DAYLIGHT
BEGIN:STANDARD
TZOFFSETFROM:-0500
TZOFFSETTO:-0600
TZNAME:CST
DTSTART:20251102T070000
END:STANDARD
END:VTIMEZONE
BEGIN:VEVENT
DTSTART:20251110T180000Z
DTEND:20251110T190000Z
DTSTAMP:20260421T045745
CREATED:20251107T195605Z
LAST-MODIFIED:20251107T195605Z
UID:38221-1762776000-1762779600@hdpusergroup.org
SUMMARY:Advanced Packaging Discussion
DESCRIPTION:Discuss advanced packaging current and potential projects. 
URL:https://hdpusergroup.org/event/advanced-packaging-discussion/
CATEGORIES:Staff Calendar
ORGANIZER;CN=HDP:mailto:webmaster@hdpug.org
END:VEVENT
BEGIN:VEVENT
DTSTART:20251110T210000Z
DTEND:20251110T220000Z
DTSTAMP:20260421T045745
CREATED:20251028T202618Z
LAST-MODIFIED:20251028T202618Z
UID:38017-1762786800-1762790400@hdpusergroup.org
SUMMARY:Cu Outer Trace Adhesion
DESCRIPTION:Lcation of materials and progress on build\, if started 
URL:https://hdpusergroup.org/event/cu-outer-trace-adhesion-20/
CATEGORIES:Cu Outer Trace Adhesion
ORGANIZER;CN=HDP:mailto:webmaster@hdpug.org
END:VEVENT
END:VCALENDAR