BEGIN:VCALENDAR
VERSION:2.0
PRODID:-//HDP User Group - ECPv6.10.1.1//NONSGML v1.0//EN
CALSCALE:GREGORIAN
METHOD:PUBLISH
X-ORIGINAL-URL:https://hdpusergroup.org
X-WR-CALDESC:Events for HDP User Group
REFRESH-INTERVAL;VALUE=DURATION:PT1H
X-Robots-Tag:noindex
X-PUBLISHED-TTL:PT1H
BEGIN:VTIMEZONE
TZID:America/Chicago
BEGIN:DAYLIGHT
TZOFFSETFROM:-0600
TZOFFSETTO:-0500
TZNAME:CDT
DTSTART:20250309T080000
END:DAYLIGHT
BEGIN:STANDARD
TZOFFSETFROM:-0500
TZOFFSETTO:-0600
TZNAME:CST
DTSTART:20251102T070000
END:STANDARD
END:VTIMEZONE
BEGIN:VEVENT
DTSTART:20250605T150000Z
DTEND:20250605T160000Z
DTSTAMP:20260419T093156
CREATED:20250508T151737Z
LAST-MODIFIED:20250508T151737Z
UID:30277-1749117600-1749121200@hdpusergroup.org
SUMMARY:What is Good Enough Microvia Reliability?
DESCRIPTION:Project Call to gauge members interest in this proposed project. 
URL:https://hdpusergroup.org/event/what-is-good-enough-microvia-reliability/
CATEGORIES:Staff Calendar
ORGANIZER;CN=HDP:mailto:webmaster@hdpug.org
END:VEVENT
BEGIN:VEVENT
DTSTART:20250605T170000Z
DTEND:20250605T180000Z
DTSTAMP:20260419T093156
CREATED:20250529T125512Z
LAST-MODIFIED:20250529T125512Z
UID:35863-1749124800-1749128400@hdpusergroup.org
SUMMARY:Investigate Electrical Performance of Stacked vs. Staggered Microvias
DESCRIPTION:Meeting 
URL:https://hdpusergroup.org/event/investigate-electrical-performance-of-stacked-vs-staggered-microvias-4/
CATEGORIES:Staff Calendar
ORGANIZER;CN=HDP:mailto:webmaster@hdpug.org
END:VEVENT
END:VCALENDAR