BEGIN:VCALENDAR
VERSION:2.0
PRODID:-//HDP User Group - ECPv6.10.1.1//NONSGML v1.0//EN
CALSCALE:GREGORIAN
METHOD:PUBLISH
X-ORIGINAL-URL:https://hdpusergroup.org
X-WR-CALDESC:Events for HDP User Group
REFRESH-INTERVAL;VALUE=DURATION:PT1H
X-Robots-Tag:noindex
X-PUBLISHED-TTL:PT1H
BEGIN:VTIMEZONE
TZID:America/Chicago
BEGIN:DAYLIGHT
TZOFFSETFROM:-0600
TZOFFSETTO:-0500
TZNAME:CDT
DTSTART:20250309T080000
END:DAYLIGHT
BEGIN:STANDARD
TZOFFSETFROM:-0500
TZOFFSETTO:-0600
TZNAME:CST
DTSTART:20251102T070000
END:STANDARD
END:VTIMEZONE
BEGIN:VEVENT
DTSTART:20250507T130000Z
DTEND:20250507T140000Z
DTSTAMP:20260421T035736
CREATED:20250507T130753Z
LAST-MODIFIED:20250507T130753Z
UID:30264-1746604800-1746608400@hdpusergroup.org
SUMMARY:training
DESCRIPTION:meeting 
URL:https://hdpusergroup.org/event/training-2/
CATEGORIES:Staff Calendar
ORGANIZER;CN=HDP:mailto:webmaster@hdpug.org
END:VEVENT
BEGIN:VEVENT
DTSTART:20250507T140000Z
DTEND:20250507T150000Z
DTSTAMP:20260421T035736
CREATED:20250506T145233Z
LAST-MODIFIED:20250506T145233Z
UID:30199-1746608400-1746612000@hdpusergroup.org
SUMMARY:Reflow Cycle Via Reliability Impact Project Call
DESCRIPTION:Reflow Cycle Via Reliability Impact Project Call 
URL:https://hdpusergroup.org/event/reflow-cycle-via-reliability-impact-project-call-18/
CATEGORIES:Reflow Cycle Via Reliability Impact
ORGANIZER;CN=HDP:mailto:webmaster@hdpug.org
END:VEVENT
BEGIN:VEVENT
DTSTART:20250507T150000Z
DTEND:20250507T160000Z
DTSTAMP:20260421T035736
CREATED:20250423T163931Z
LAST-MODIFIED:20250423T163931Z
UID:30204-1746612000-1746615600@hdpusergroup.org
SUMMARY:SIR Testing meeting
DESCRIPTION:Meeting 
URL:https://hdpusergroup.org/event/sir-testing-meeting-31/
CATEGORIES:Surface Insulation Resistance (SIR) Testing the Next Evolution
ORGANIZER;CN=HDP:mailto:webmaster@hdpug.org
END:VEVENT
BEGIN:VEVENT
DTSTART:20250507T200000Z
DTEND:20250507T210000Z
DTSTAMP:20260421T035736
CREATED:20250430T204026Z
LAST-MODIFIED:20250430T204026Z
UID:30236-1746630000-1746633600@hdpusergroup.org
SUMMARY:Cu Trace Adhesion Call
DESCRIPTION:Review clarified data set 
URL:https://hdpusergroup.org/event/cu-trace-adhesion-call/
CATEGORIES:Cu Outer Trace Adhesion
ORGANIZER;CN=HDP:mailto:webmaster@hdpug.org
END:VEVENT
BEGIN:VEVENT
DTSTART:20250508T000000Z
DTEND:20250508T010000Z
DTSTAMP:20260421T035736
CREATED:20250424T013430Z
LAST-MODIFIED:20250424T013430Z
UID:30206-1746644400-1746648000@hdpusergroup.org
SUMMARY:Investigate New Test Methods for Copper Foil Adhesion Project Call
DESCRIPTION:Investigate New Test Methods for Copper Foil Adhesion Project Call 
URL:https://hdpusergroup.org/event/investigate-new-test-methods-for-copper-foil-adhesion-project-call-2/
CATEGORIES:Investigate New Test Methods for Copper Foil Adhesion
ORGANIZER;CN=HDP:mailto:webmaster@hdpug.org
END:VEVENT
BEGIN:VEVENT
DTSTART:20250508T010000Z
DTEND:20250508T020000Z
DTSTAMP:20260421T035736
CREATED:20250417T014502Z
LAST-MODIFIED:20250417T014502Z
UID:30130-1746648000-1746651600@hdpusergroup.org
SUMMARY:Correlating CF Profile to Signal Integrity Project Call
DESCRIPTION:Correlating CF Profile to Signal Integrity Project Call 
URL:https://hdpusergroup.org/event/correlating-cf-profile-to-signal-integrity-project-call-18/
CATEGORIES:Correlating Copper Foil Profile to Signal Integrity
ORGANIZER;CN=HDP:mailto:webmaster@hdpug.org
END:VEVENT
END:VCALENDAR