BEGIN:VCALENDAR
VERSION:2.0
PRODID:-//HDP User Group - ECPv6.10.1.1//NONSGML v1.0//EN
CALSCALE:GREGORIAN
METHOD:PUBLISH
X-ORIGINAL-URL:https://hdpusergroup.org
X-WR-CALDESC:Events for HDP User Group
REFRESH-INTERVAL;VALUE=DURATION:PT1H
X-Robots-Tag:noindex
X-PUBLISHED-TTL:PT1H
BEGIN:VTIMEZONE
TZID:America/Chicago
BEGIN:DAYLIGHT
TZOFFSETFROM:-0600
TZOFFSETTO:-0500
TZNAME:CDT
DTSTART:20250309T080000
END:DAYLIGHT
BEGIN:STANDARD
TZOFFSETFROM:-0500
TZOFFSETTO:-0600
TZNAME:CST
DTSTART:20251102T070000
END:STANDARD
END:VTIMEZONE
BEGIN:VEVENT
DTSTART:20250430T140000Z
DTEND:20250430T150000Z
DTSTAMP:20260421T051835
CREATED:20250326T141826Z
LAST-MODIFIED:20250326T141826Z
UID:29566-1746003600-1746007200@hdpusergroup.org
SUMMARY:Better CAF Eq
DESCRIPTION:Updates from Hubert and Jason. \nStart discussion on FA? 
URL:https://hdpusergroup.org/event/better-caf-eq-48/
CATEGORIES:Better CAF Acceleration Equation
ORGANIZER;CN=HDP:mailto:webmaster@hdpug.org
END:VEVENT
BEGIN:VEVENT
DTSTART:20250430T160000Z
DTEND:20250430T170000Z
DTSTAMP:20260421T051835
CREATED:20250428T143958Z
LAST-MODIFIED:20250428T143958Z
UID:30224-1746010800-1746014400@hdpusergroup.org
SUMMARY:Investigate Electrical Performance of Stacked vs. staggered Microvias
DESCRIPTION:Meeting 
URL:https://hdpusergroup.org/event/investigate-electrical-performance-of-stacked-vs-staggered-microvias-2/
CATEGORIES:Staff Calendar
ORGANIZER;CN=HDP:mailto:webmaster@hdpug.org
END:VEVENT
BEGIN:VEVENT
DTSTART:20250430T200000Z
DTEND:20250430T210000Z
DTSTAMP:20260421T051835
CREATED:20250408T203909Z
LAST-MODIFIED:20250408T203909Z
UID:29798-1746025200-1746028800@hdpusergroup.org
SUMMARY:Cu Outer Trace Adhesion
DESCRIPTION:Examination of further results 
URL:https://hdpusergroup.org/event/cu-outer-trace-adhesion-14/
CATEGORIES:Cu Outer Trace Adhesion
ORGANIZER;CN=HDP:mailto:webmaster@hdpug.org
END:VEVENT
END:VCALENDAR