BEGIN:VCALENDAR
VERSION:2.0
PRODID:-//HDP User Group - ECPv6.10.1.1//NONSGML v1.0//EN
CALSCALE:GREGORIAN
METHOD:PUBLISH
X-ORIGINAL-URL:https://hdpusergroup.org
X-WR-CALDESC:Events for HDP User Group
REFRESH-INTERVAL;VALUE=DURATION:PT1H
X-Robots-Tag:noindex
X-PUBLISHED-TTL:PT1H
BEGIN:VTIMEZONE
TZID:America/Chicago
BEGIN:DAYLIGHT
TZOFFSETFROM:-0600
TZOFFSETTO:-0500
TZNAME:CDT
DTSTART:20250309T080000
END:DAYLIGHT
BEGIN:STANDARD
TZOFFSETFROM:-0500
TZOFFSETTO:-0600
TZNAME:CST
DTSTART:20251102T070000
END:STANDARD
END:VTIMEZONE
BEGIN:VEVENT
DTSTART:20250417T150000Z
DTEND:20250417T160000Z
DTSTAMP:20260421T051710
CREATED:20250327T151249Z
LAST-MODIFIED:20250327T151249Z
UID:29610-1744884000-1744887600@hdpusergroup.org
SUMMARY:Materials #7 meeting
DESCRIPTION:Meeting 
URL:https://hdpusergroup.org/event/materials-7-meeting-41/
CATEGORIES:Materials #7
ORGANIZER;CN=HDP:mailto:webmaster@hdpug.org
END:VEVENT
BEGIN:VEVENT
DTSTART:20250417T170000Z
DTEND:20250417T180000Z
DTSTAMP:20260421T051710
CREATED:20250410T140309Z
LAST-MODIFIED:20250410T140309Z
UID:29619-1744891200-1744894800@hdpusergroup.org
SUMMARY:Non-Glass Microvia Build-ups
DESCRIPTION:Build update 
URL:https://hdpusergroup.org/event/non-glass-microvia-build-ups-7/
CATEGORIES:Non-Glass Microvia Build-ups
ORGANIZER;CN=HDP:mailto:webmaster@hdpug.org
END:VEVENT
BEGIN:VEVENT
DTSTART:20250417T210000Z
DTEND:20250417T220000Z
DTSTAMP:20260421T051710
CREATED:20250403T213308Z
LAST-MODIFIED:20250403T213308Z
UID:29787-1744905600-1744909200@hdpusergroup.org
SUMMARY:Glass Substrate Reliability Analysis
DESCRIPTION:Glass Substrate Reliability Analysis 
URL:https://hdpusergroup.org/event/glass-substrate-reliability-analysis-15/
CATEGORIES:Glass Substrate Reliability Analysis
ORGANIZER;CN=HDP:mailto:webmaster@hdpug.org
END:VEVENT
BEGIN:VEVENT
DTSTART:20250417T230000Z
DTEND:20250418T000000Z
DTSTAMP:20260421T051710
CREATED:20250410T140127Z
LAST-MODIFIED:20250410T140127Z
UID:29545-1744912800-1744916400@hdpusergroup.org
SUMMARY:Porosity
DESCRIPTION:Progress reports 
URL:https://hdpusergroup.org/event/porosity-17/
CATEGORIES:Porosity Testing
ORGANIZER;CN=HDP:mailto:webmaster@hdpug.org
END:VEVENT
BEGIN:VEVENT
DTSTART:20250418T010000Z
DTEND:20250418T020000Z
DTSTAMP:20260421T051710
CREATED:20250411T170424Z
LAST-MODIFIED:20250411T170424Z
UID:29872-1744920000-1744923600@hdpusergroup.org
SUMMARY:Cu Surface Roughness Model
DESCRIPTION:NA 
URL:https://hdpusergroup.org/event/cu-surface-roughness-model-15/
CATEGORIES:Cu Surface Rougness Model
ORGANIZER;CN=HDP:mailto:webmaster@hdpug.org
END:VEVENT
END:VCALENDAR