BEGIN:VCALENDAR
VERSION:2.0
PRODID:-//HDP User Group - ECPv6.10.1.1//NONSGML v1.0//EN
CALSCALE:GREGORIAN
METHOD:PUBLISH
X-ORIGINAL-URL:https://hdpusergroup.org
X-WR-CALDESC:Events for HDP User Group
REFRESH-INTERVAL;VALUE=DURATION:PT1H
X-Robots-Tag:noindex
X-PUBLISHED-TTL:PT1H
BEGIN:VTIMEZONE
TZID:America/Chicago
BEGIN:DAYLIGHT
TZOFFSETFROM:-0600
TZOFFSETTO:-0500
TZNAME:CDT
DTSTART:20250309T080000
END:DAYLIGHT
BEGIN:STANDARD
TZOFFSETFROM:-0500
TZOFFSETTO:-0600
TZNAME:CST
DTSTART:20251102T070000
END:STANDARD
END:VTIMEZONE
BEGIN:VEVENT
DTSTART:20250327T140000Z
DTEND:20250327T150000Z
DTSTAMP:20260421T045608
CREATED:20250313T221119Z
LAST-MODIFIED:20250313T221119Z
UID:29543-1743066000-1743069600@hdpusergroup.org
SUMMARY:TCE Materials-x-y dimensions onm reliability
DESCRIPTION:Determine best course of action to investigate CTE of select materials in the x-y axis-and possible effect on solder joint reliability. In addition\, develop a reliable and repeatable test method to measure CTE in the X-Y dimensions. 
URL:https://hdpusergroup.org/event/tce-materials-x-y-dimensions-onm-reliability/
CATEGORIES:TCE Materials Dimensional Properties
ORGANIZER;CN=HDP:mailto:webmaster@hdpug.org
END:VEVENT
BEGIN:VEVENT
DTSTART:20250327T150000Z
DTEND:20250327T160000Z
DTSTAMP:20260421T045608
CREATED:20250220T161428Z
LAST-MODIFIED:20250220T161428Z
UID:29323-1743069600-1743073200@hdpusergroup.org
SUMMARY:Materials #7 meeting
DESCRIPTION:Meeting 
URL:https://hdpusergroup.org/event/materials-7-meeting-40/
CATEGORIES:Materials #7
ORGANIZER;CN=HDP:mailto:webmaster@hdpug.org
END:VEVENT
BEGIN:VEVENT
DTSTART:20250327T170000Z
DTEND:20250327T180000Z
DTSTAMP:20260421T045608
CREATED:20250305T203943Z
LAST-MODIFIED:20250305T203943Z
UID:29489-1743076800-1743080400@hdpusergroup.org
SUMMARY:Non-Glass Microvia Build-ups
DESCRIPTION:Update on build 
URL:https://hdpusergroup.org/event/non-glass-microvia-build-ups-6/
CATEGORIES:Non-Glass Microvia Build-ups
ORGANIZER;CN=HDP:mailto:webmaster@hdpug.org
END:VEVENT
BEGIN:VEVENT
DTSTART:20250328T010000Z
DTEND:20250328T013000Z
DTSTAMP:20260421T045608
CREATED:20250327T224515Z
LAST-MODIFIED:20250327T224515Z
UID:29654-1743105600-1743107400@hdpusergroup.org
SUMMARY:Testing Notifications on New Email
DESCRIPTION:Testing meeting notifications with new email server. 
URL:https://hdpusergroup.org/event/testing-notifications-on-new-email/
CATEGORIES:Staff Calendar
ORGANIZER;CN=HDP:mailto:webmaster@hdpug.org
END:VEVENT
END:VCALENDAR