BEGIN:VCALENDAR
VERSION:2.0
PRODID:-//HDP User Group - ECPv6.10.1.1//NONSGML v1.0//EN
CALSCALE:GREGORIAN
METHOD:PUBLISH
X-ORIGINAL-URL:https://hdpusergroup.org
X-WR-CALDESC:Events for HDP User Group
REFRESH-INTERVAL;VALUE=DURATION:PT1H
X-Robots-Tag:noindex
X-PUBLISHED-TTL:PT1H
BEGIN:VTIMEZONE
TZID:America/Chicago
BEGIN:DAYLIGHT
TZOFFSETFROM:-0600
TZOFFSETTO:-0500
TZNAME:CDT
DTSTART:20250309T080000
END:DAYLIGHT
BEGIN:STANDARD
TZOFFSETFROM:-0500
TZOFFSETTO:-0600
TZNAME:CST
DTSTART:20251102T070000
END:STANDARD
END:VTIMEZONE
BEGIN:VEVENT
DTSTART:20250313T210000Z
DTEND:20250313T220000Z
DTSTAMP:20260421T045608
CREATED:20250218T133319Z
LAST-MODIFIED:20250218T133319Z
UID:29316-1741881600-1741885200@hdpusergroup.org
SUMMARY:Glass Substrate Reliability Analysis
DESCRIPTION:Glass Substrate Reliability Analysis 
URL:https://hdpusergroup.org/event/glass-substrate-reliability-analysis-13/
CATEGORIES:Glass Substrate Reliability Analysis
ORGANIZER;CN=HDP:mailto:webmaster@hdpug.org
END:VEVENT
BEGIN:VEVENT
DTSTART:20250313T223000Z
DTEND:20250313T230000Z
DTSTAMP:20260421T045608
CREATED:20250313T222227Z
LAST-MODIFIED:20250313T222227Z
UID:29544-1741887000-1741888800@hdpusergroup.org
SUMMARY:Glass Substrate call with Dr. Lin
DESCRIPTION:Glass Substrate call with Dr. Lin 
URL:https://hdpusergroup.org/event/glass-substrate-call-with-dr-lin/
CATEGORIES:Staff Calendar
ORGANIZER;CN=HDP:mailto:webmaster@hdpug.org
END:VEVENT
BEGIN:VEVENT
DTSTART:20250313T230000Z
DTEND:20250314T000000Z
DTSTAMP:20260421T045608
CREATED:20250213T002846Z
LAST-MODIFIED:20250213T002846Z
UID:29311-1741888800-1741892400@hdpusergroup.org
SUMMARY:Porosity Testing
DESCRIPTION:Status on current testing and new sample acquisition 
URL:https://hdpusergroup.org/event/porosity-testing-5/
CATEGORIES:Porosity Testing
ORGANIZER;CN=HDP:mailto:webmaster@hdpug.org
END:VEVENT
END:VCALENDAR