BEGIN:VCALENDAR
VERSION:2.0
PRODID:-//HDP User Group - ECPv6.10.1.1//NONSGML v1.0//EN
CALSCALE:GREGORIAN
METHOD:PUBLISH
X-ORIGINAL-URL:https://hdpusergroup.org
X-WR-CALDESC:Events for HDP User Group
REFRESH-INTERVAL;VALUE=DURATION:PT1H
X-Robots-Tag:noindex
X-PUBLISHED-TTL:PT1H
BEGIN:VTIMEZONE
TZID:America/Chicago
BEGIN:DAYLIGHT
TZOFFSETFROM:-0600
TZOFFSETTO:-0500
TZNAME:CDT
DTSTART:20250309T080000
END:DAYLIGHT
BEGIN:STANDARD
TZOFFSETFROM:-0500
TZOFFSETTO:-0600
TZNAME:CST
DTSTART:20251102T070000
END:STANDARD
END:VTIMEZONE
BEGIN:VEVENT
DTSTART:20250225T140000Z
DTEND:20250225T230000Z
DTSTAMP:20260421T051848
CREATED:20250211T155328Z
LAST-MODIFIED:20250211T155328Z
UID:29142-1740470400-1740502800@hdpusergroup.org
SUMMARY:HDP Board of Directors February 2025
DESCRIPTION:Annual February HDP Board of Directors Meeting. \nMeeting Call Information (the meeting ics file is available for download at the bottom of this page): \n \nWhen it’s time\, join the Webex meeting here:Join meetingMore ways to join:Join from the meeting linkhttps://hdpug.webex.com/hdpug/j.php?MTID=mb1133665b9705ac0d8f1ac84cd197e14Join by meeting numberMeeting number (access code): 2555 079 6107Meeting password: BoredofDirectorsJoin by phone1-650-479-3208 Call-in toll number (US/Canada)Global call-in numbers 
URL:https://hdpusergroup.org/event/hdp-board-of-directors-february-2025/
LOCATION:San Jose\, California
CATEGORIES:Board Meetings
ORGANIZER;CN=HDP:mailto:webmaster@hdpug.org
END:VEVENT
END:VCALENDAR