BEGIN:VCALENDAR
VERSION:2.0
PRODID:-//HDP User Group - ECPv6.10.1.1//NONSGML v1.0//EN
CALSCALE:GREGORIAN
METHOD:PUBLISH
X-ORIGINAL-URL:https://hdpusergroup.org
X-WR-CALDESC:Events for HDP User Group
REFRESH-INTERVAL;VALUE=DURATION:PT1H
X-Robots-Tag:noindex
X-PUBLISHED-TTL:PT1H
BEGIN:VTIMEZONE
TZID:America/Chicago
BEGIN:DAYLIGHT
TZOFFSETFROM:-0600
TZOFFSETTO:-0500
TZNAME:CDT
DTSTART:20250309T080000
END:DAYLIGHT
BEGIN:STANDARD
TZOFFSETFROM:-0500
TZOFFSETTO:-0600
TZNAME:CST
DTSTART:20251102T070000
END:STANDARD
END:VTIMEZONE
BEGIN:VEVENT
DTSTART:20250204T180000Z
DTEND:20250204T190000Z
DTSTAMP:20260420T000955
CREATED:20250114T170900Z
LAST-MODIFIED:20250114T170900Z
UID:28788-1738670400-1738674000@hdpusergroup.org
SUMMARY:HDP Harsh Use Alloy Evaluations Project Call
DESCRIPTION:Periodic Project Call 
URL:https://hdpusergroup.org/event/hdp-harsh-use-alloy-evaluations-project-call-12/
CATEGORIES:Harsh Use Alloy Evaluation 2
ORGANIZER;CN=HDP:mailto:webmaster@hdpug.org
END:VEVENT
BEGIN:VEVENT
DTSTART:20250204T210000Z
DTEND:20250204T220000Z
DTSTAMP:20260420T000955
CREATED:20250203T160441Z
LAST-MODIFIED:20250203T160441Z
UID:29132-1738681200-1738684800@hdpusergroup.org
SUMMARY:A/V Dry Run for February 2025 Member Meeting
DESCRIPTION:Test the connectivity and sound in the meeting room and with online participants. 
URL:https://hdpusergroup.org/event/a-v-dry-run-for-february-2025-member-meeting/
CATEGORIES:Staff Calendar
ORGANIZER;CN=HDP:mailto:webmaster@hdpug.org
END:VEVENT
END:VCALENDAR