BEGIN:VCALENDAR
VERSION:2.0
PRODID:-//HDP User Group - ECPv6.10.1.1//NONSGML v1.0//EN
CALSCALE:GREGORIAN
METHOD:PUBLISH
X-ORIGINAL-URL:https://hdpusergroup.org
X-WR-CALDESC:Events for HDP User Group
REFRESH-INTERVAL;VALUE=DURATION:PT1H
X-Robots-Tag:noindex
X-PUBLISHED-TTL:PT1H
BEGIN:VTIMEZONE
TZID:America/Chicago
BEGIN:DAYLIGHT
TZOFFSETFROM:-0600
TZOFFSETTO:-0500
TZNAME:CDT
DTSTART:20250309T080000
END:DAYLIGHT
BEGIN:STANDARD
TZOFFSETFROM:-0500
TZOFFSETTO:-0600
TZNAME:CST
DTSTART:20251102T070000
END:STANDARD
END:VTIMEZONE
BEGIN:VEVENT
DTSTART:20250116T150000Z
DTEND:20250116T160000Z
DTSTAMP:20260420T031512
CREATED:20241218T141208Z
LAST-MODIFIED:20241218T141208Z
UID:28606-1737018000-1737021600@hdpusergroup.org
SUMMARY:Better CAF Eq
DESCRIPTION:Upfates from Hubert and Jason 
URL:https://hdpusergroup.org/event/better-caf-eq-45/
CATEGORIES:Better CAF Acceleration Equation
ORGANIZER;CN=HDP:mailto:webmaster@hdpug.org
END:VEVENT
BEGIN:VEVENT
DTSTART:20250116T160000Z
DTEND:20250116T170000Z
DTSTAMP:20260420T031512
CREATED:20241216T165210Z
LAST-MODIFIED:20241216T165210Z
UID:28596-1737021600-1737025200@hdpusergroup.org
SUMMARY:Single Surface Finish 2
DESCRIPTION:Meeting 
URL:https://hdpusergroup.org/event/single-surface-finish-2-4/
CATEGORIES:Single PCB Surface Finish for Soldered & Compression Contact Pads – 2
ORGANIZER;CN=HDP:mailto:webmaster@hdpug.org
END:VEVENT
BEGIN:VEVENT
DTSTART:20250116T170000Z
DTEND:20250116T180000Z
DTSTAMP:20260420T031512
CREATED:20250109T165026Z
LAST-MODIFIED:20250109T165026Z
UID:28724-1737025200-1737028800@hdpusergroup.org
SUMMARY:Non-Glass Microvia Build-ups
DESCRIPTION:Confirm materials \nTalk about schedule 
URL:https://hdpusergroup.org/event/non-glass-microvia-build-ups-5/
CATEGORIES:Non-Glass Microvia Build-ups
ORGANIZER;CN=HDP:mailto:webmaster@hdpug.org
END:VEVENT
END:VCALENDAR