BEGIN:VCALENDAR
VERSION:2.0
PRODID:-//HDP User Group - ECPv6.10.1.1//NONSGML v1.0//EN
CALSCALE:GREGORIAN
METHOD:PUBLISH
X-ORIGINAL-URL:https://hdpusergroup.org
X-WR-CALDESC:Events for HDP User Group
REFRESH-INTERVAL;VALUE=DURATION:PT1H
X-Robots-Tag:noindex
X-PUBLISHED-TTL:PT1H
BEGIN:VTIMEZONE
TZID:America/Chicago
BEGIN:DAYLIGHT
TZOFFSETFROM:-0600
TZOFFSETTO:-0500
TZNAME:CDT
DTSTART:20240310T080000
END:DAYLIGHT
BEGIN:STANDARD
TZOFFSETFROM:-0500
TZOFFSETTO:-0600
TZNAME:CST
DTSTART:20241103T070000
END:STANDARD
END:VTIMEZONE
BEGIN:VEVENT
DTSTART:20241217T190000Z
DTEND:20241217T213000Z
DTSTAMP:20260420T014025
CREATED:20241112T152019Z
LAST-MODIFIED:20241112T152019Z
UID:28381-1734440400-1734449400@hdpusergroup.org
SUMMARY:HDP Board of Directors 2024 Performance to Op Plan Review
DESCRIPTION:HDP Board of Directors  2024 Performance to Op Plan Review\n  \n  \nCall Information (the call ics is available for download at the bottom of this page) \n \nJoin meetingJoin from the meeting linkhttps://hdpug.webex.com/hdpug/j.php?MTID=m570042f99cb3190ac7dff5c5803a4d4dJoin by meeting numberMeeting number (access code): 2558 491 7294Meeting password: Perform2024Join by phone1-650-479-3208 Call-in toll number (US/Canada)Global call-in numbers 
URL:https://hdpusergroup.org/event/hdp-board-of-directors-2024-performance-to-op-plan-review/
LOCATION:Virtual
CATEGORIES:Board Meetings
ORGANIZER;CN=HDP:mailto:webmaster@hdpug.org
END:VEVENT
END:VCALENDAR