BEGIN:VCALENDAR
VERSION:2.0
PRODID:-//HDP User Group - ECPv6.10.1.1//NONSGML v1.0//EN
CALSCALE:GREGORIAN
METHOD:PUBLISH
X-ORIGINAL-URL:https://hdpusergroup.org
X-WR-CALDESC:Events for HDP User Group
REFRESH-INTERVAL;VALUE=DURATION:PT1H
X-Robots-Tag:noindex
X-PUBLISHED-TTL:PT1H
BEGIN:VTIMEZONE
TZID:America/Chicago
BEGIN:DAYLIGHT
TZOFFSETFROM:-0600
TZOFFSETTO:-0500
TZNAME:CDT
DTSTART:20240310T080000
END:DAYLIGHT
BEGIN:STANDARD
TZOFFSETFROM:-0500
TZOFFSETTO:-0600
TZNAME:CST
DTSTART:20241103T070000
END:STANDARD
END:VTIMEZONE
BEGIN:VEVENT
DTSTART:20241015T150000Z
DTEND:20241015T160000Z
DTSTAMP:20260419T184934
CREATED:20240923T130912Z
LAST-MODIFIED:20240923T130912Z
UID:28051-1728986400-1728990000@hdpusergroup.org
SUMMARY:Gene Weiner Test Run
DESCRIPTION:Test run with Gene Weiner. 
URL:https://hdpusergroup.org/event/gene-weiner-test-run/
LOCATION:Virtual
CATEGORIES:Staff Calendar
ORGANIZER;CN=HDP:mailto:webmaster@hdpug.org
END:VEVENT
BEGIN:VEVENT
DTSTART:20241015T180000Z
DTEND:20241015T190000Z
DTSTAMP:20260419T184934
CREATED:20241010T205633Z
LAST-MODIFIED:20241010T205633Z
UID:28097-1728997200-1729000800@hdpusergroup.org
SUMMARY:Bylaws Review
DESCRIPTION:Review of Bylaws - Vacancy Sections 
URL:https://hdpusergroup.org/event/bylaws-review/
CATEGORIES:Board Calendar
ORGANIZER;CN=HDP:mailto:webmaster@hdpug.org
END:VEVENT
END:VCALENDAR