BEGIN:VCALENDAR
VERSION:2.0
PRODID:-//HDP User Group - ECPv6.10.1.1//NONSGML v1.0//EN
CALSCALE:GREGORIAN
METHOD:PUBLISH
X-ORIGINAL-URL:https://hdpusergroup.org
X-WR-CALDESC:Events for HDP User Group
REFRESH-INTERVAL;VALUE=DURATION:PT1H
X-Robots-Tag:noindex
X-PUBLISHED-TTL:PT1H
BEGIN:VTIMEZONE
TZID:America/Chicago
BEGIN:DAYLIGHT
TZOFFSETFROM:-0600
TZOFFSETTO:-0500
TZNAME:CDT
DTSTART:20240310T080000
END:DAYLIGHT
BEGIN:STANDARD
TZOFFSETFROM:-0500
TZOFFSETTO:-0600
TZNAME:CST
DTSTART:20241103T070000
END:STANDARD
END:VTIMEZONE
BEGIN:VEVENT
DTSTART:20240919T150000Z
DTEND:20240919T160000Z
DTSTAMP:20260419T222602
CREATED:20240822T162135Z
LAST-MODIFIED:20240822T162135Z
UID:27233-1726740000-1726743600@hdpusergroup.org
SUMMARY:Single Surface Finish 2 meeting
DESCRIPTION:Meeting 
URL:https://hdpusergroup.org/event/single-surface-finish-2-meeting-15/
CATEGORIES:Single PCB Surface Finish for Soldered & Compression Contact Pads – 2
ORGANIZER;CN=HDP:mailto:webmaster@hdpug.org
END:VEVENT
BEGIN:VEVENT
DTSTART:20240919T160000Z
DTEND:20240919T170000Z
DTSTAMP:20260419T222602
CREATED:20240830T185123Z
LAST-MODIFIED:20240830T185123Z
UID:27298-1726743600-1726747200@hdpusergroup.org
SUMMARY:Copper Surface Roughness Model
DESCRIPTION:Review progres with Dr. Fan. 
URL:https://hdpusergroup.org/event/copper-surface-roughness-model-15/
CATEGORIES:Cu Surface Rougness Model
ORGANIZER;CN=HDP:mailto:webmaster@hdpug.org
END:VEVENT
BEGIN:VEVENT
DTSTART:20240920T020000Z
DTEND:20240920T030000Z
DTSTAMP:20260419T222602
CREATED:20240906T144455Z
LAST-MODIFIED:20240906T144455Z
UID:27428-1726779600-1726783200@hdpusergroup.org
SUMMARY:TTM-HDP Call on February 2025 Member Meeting
DESCRIPTION:TTM-HDP Call on February 2025 Member Meeting 
URL:https://hdpusergroup.org/event/ttm-hdp-call-on-february-2025-member-meeting/
CATEGORIES:Staff Calendar
ORGANIZER;CN=HDP:mailto:webmaster@hdpug.org
END:VEVENT
END:VCALENDAR