BEGIN:VCALENDAR
VERSION:2.0
PRODID:-//HDP User Group - ECPv6.10.1.1//NONSGML v1.0//EN
CALSCALE:GREGORIAN
METHOD:PUBLISH
X-ORIGINAL-URL:https://hdpusergroup.org
X-WR-CALDESC:Events for HDP User Group
REFRESH-INTERVAL;VALUE=DURATION:PT1H
X-Robots-Tag:noindex
X-PUBLISHED-TTL:PT1H
BEGIN:VTIMEZONE
TZID:America/Chicago
BEGIN:DAYLIGHT
TZOFFSETFROM:-0600
TZOFFSETTO:-0500
TZNAME:CDT
DTSTART:20240310T080000
END:DAYLIGHT
BEGIN:STANDARD
TZOFFSETFROM:-0500
TZOFFSETTO:-0600
TZNAME:CST
DTSTART:20241103T070000
END:STANDARD
END:VTIMEZONE
BEGIN:VEVENT
DTSTART:20240917T090000Z
DTEND:20240917T220000Z
DTSTAMP:20260419T222520
CREATED:20240917T083158Z
LAST-MODIFIED:20240917T083158Z
UID:27599-1726545600-1726592400@hdpusergroup.org
SUMMARY:Caffeine Test Event
DESCRIPTION:test 
URL:https://hdpusergroup.org/event/caffeine-test-event/
LOCATION:Virtual
CATEGORIES:Member Meetings
ORGANIZER;CN=HDP:mailto:webmaster@hdpug.org
END:VEVENT
BEGIN:VEVENT
DTSTART:20240917T150000Z
DTEND:20240917T160000Z
DTSTAMP:20260419T222520
CREATED:20240821T142638Z
LAST-MODIFIED:20240821T142638Z
UID:27221-1726567200-1726570800@hdpusergroup.org
SUMMARY:Better CAF Eq
DESCRIPTION:Updates from Hubert and Jason \nReview presentation for Members' Meeting 
URL:https://hdpusergroup.org/event/better-caf-eq-41/
CATEGORIES:Better CAF Acceleration Equation
ORGANIZER;CN=HDP:mailto:webmaster@hdpug.org
END:VEVENT
BEGIN:VEVENT
DTSTART:20240917T170000Z
DTEND:20240917T180000Z
DTSTAMP:20260419T222520
CREATED:20240917T144357Z
LAST-MODIFIED:20240917T144357Z
UID:27743-1726574400-1726578000@hdpusergroup.org
SUMMARY:BOD explantion w/Karl
DESCRIPTION:Meeting 
URL:https://hdpusergroup.org/event/bod-explantion-w-karl/
CATEGORIES:Staff Calendar
ORGANIZER;CN=HDP:mailto:webmaster@hdpug.org
END:VEVENT
END:VCALENDAR