BEGIN:VCALENDAR
VERSION:2.0
PRODID:-//HDP User Group - ECPv6.10.1.1//NONSGML v1.0//EN
CALSCALE:GREGORIAN
METHOD:PUBLISH
X-ORIGINAL-URL:https://hdpusergroup.org
X-WR-CALDESC:Events for HDP User Group
REFRESH-INTERVAL;VALUE=DURATION:PT1H
X-Robots-Tag:noindex
X-PUBLISHED-TTL:PT1H
BEGIN:VTIMEZONE
TZID:America/Chicago
BEGIN:DAYLIGHT
TZOFFSETFROM:-0600
TZOFFSETTO:-0500
TZNAME:CDT
DTSTART:20240310T080000
END:DAYLIGHT
BEGIN:STANDARD
TZOFFSETFROM:-0500
TZOFFSETTO:-0600
TZNAME:CST
DTSTART:20241103T070000
END:STANDARD
END:VTIMEZONE
BEGIN:VEVENT
DTSTART:20240903T170000Z
DTEND:20240903T180000Z
DTSTAMP:20260419T222610
CREATED:20240808T134623Z
LAST-MODIFIED:20240808T134623Z
UID:27109-1725364800-1725368400@hdpusergroup.org
SUMMARY:HDP Harsh Use Alloy Evaluations -- Periodic Project Call
DESCRIPTION:Periodic Project Call 
URL:https://hdpusergroup.org/event/hdp-harsh-use-alloy-evaluations-periodic-project-call/
CATEGORIES:Harsh Use Alloy Evaluation 2
ORGANIZER;CN=HDP:mailto:webmaster@hdpug.org
END:VEVENT
BEGIN:VEVENT
DTSTART:20240904T020000Z
DTEND:20240904T030000Z
DTSTAMP:20260419T222610
CREATED:20240826T073225Z
LAST-MODIFIED:20240826T073225Z
UID:27246-1725397200-1725400800@hdpusergroup.org
SUMMARY:High Speed Hybrid PWB Project Call
DESCRIPTION:High Speed Hybrid PWB Project Call 
URL:https://hdpusergroup.org/event/high-speed-hybrid-pwb-project-call-54/
CATEGORIES:High Speed Hybrid PWB
ORGANIZER;CN=HDP:mailto:webmaster@hdpug.org
END:VEVENT
END:VCALENDAR