BEGIN:VCALENDAR
VERSION:2.0
PRODID:-//HDP User Group - ECPv6.10.1.1//NONSGML v1.0//EN
CALSCALE:GREGORIAN
METHOD:PUBLISH
X-ORIGINAL-URL:https://hdpusergroup.org
X-WR-CALDESC:Events for HDP User Group
REFRESH-INTERVAL;VALUE=DURATION:PT1H
X-Robots-Tag:noindex
X-PUBLISHED-TTL:PT1H
BEGIN:VTIMEZONE
TZID:America/Chicago
BEGIN:DAYLIGHT
TZOFFSETFROM:-0600
TZOFFSETTO:-0500
TZNAME:CDT
DTSTART:20240310T080000
END:DAYLIGHT
BEGIN:STANDARD
TZOFFSETFROM:-0500
TZOFFSETTO:-0600
TZNAME:CST
DTSTART:20241103T070000
END:STANDARD
END:VTIMEZONE
BEGIN:VEVENT
DTSTART:20240516T140000Z
DTEND:20240516T150000Z
DTSTAMP:20260420T044306
CREATED:20240502T152547Z
LAST-MODIFIED:20240502T152547Z
UID:26311-1715850000-1715853600@hdpusergroup.org
SUMMARY:ECM-3 Meeting
DESCRIPTION:Meeting 
URL:https://hdpusergroup.org/event/ecm-3-meeting-24/
CATEGORIES:ECM 3
ORGANIZER;CN=HDP:mailto:webmaster@hdpug.org
END:VEVENT
BEGIN:VEVENT
DTSTART:20240517T010000Z
DTEND:20240517T020000Z
DTSTAMP:20260420T044306
CREATED:20240507T135008Z
LAST-MODIFIED:20240507T135008Z
UID:26353-1715889600-1715893200@hdpusergroup.org
SUMMARY:Dry run with linked agenda and final presentations
DESCRIPTION:Dry run on linked presentations and final copies and ID of presenters. 
URL:https://hdpusergroup.org/event/dry-run-with-linked-agenda-and-final-presentations/
CATEGORIES:Staff Calendar
ORGANIZER;CN=HDP:mailto:webmaster@hdpug.org
END:VEVENT
END:VCALENDAR