BEGIN:VCALENDAR
VERSION:2.0
PRODID:-//HDP User Group - ECPv6.10.1.1//NONSGML v1.0//EN
CALSCALE:GREGORIAN
METHOD:PUBLISH
X-ORIGINAL-URL:https://hdpusergroup.org
X-WR-CALDESC:Events for HDP User Group
REFRESH-INTERVAL;VALUE=DURATION:PT1H
X-Robots-Tag:noindex
X-PUBLISHED-TTL:PT1H
BEGIN:VTIMEZONE
TZID:America/Chicago
BEGIN:DAYLIGHT
TZOFFSETFROM:-0600
TZOFFSETTO:-0500
TZNAME:CDT
DTSTART:20240310T080000
END:DAYLIGHT
BEGIN:STANDARD
TZOFFSETFROM:-0500
TZOFFSETTO:-0600
TZNAME:CST
DTSTART:20241103T070000
END:STANDARD
END:VTIMEZONE
BEGIN:VEVENT
DTSTART:20240314T150000Z
DTEND:20240314T160000Z
DTSTAMP:20260420T075515
CREATED:20240214T164351Z
LAST-MODIFIED:20240214T164351Z
UID:25661-1710410400-1710414000@hdpusergroup.org
SUMMARY:ECM-3 Meeting
DESCRIPTION:Meeting 
URL:https://hdpusergroup.org/event/ecm-3-meeting-21/
CATEGORIES:ECM 3
ORGANIZER;CN=HDP:mailto:webmaster@hdpug.org
END:VEVENT
BEGIN:VEVENT
DTSTART:20240314T160000Z
DTEND:20240314T170000Z
DTSTAMP:20260420T075515
CREATED:20240215T184105Z
LAST-MODIFIED:20240215T184105Z
UID:25673-1710414000-1710417600@hdpusergroup.org
SUMMARY:Microvia Rel
DESCRIPTION:Any further analysis? \nReport writing \nNext project? 
URL:https://hdpusergroup.org/event/microvia-rel-44/
CATEGORIES:Microvia Reliability
ORGANIZER;CN=HDP:mailto:webmaster@hdpug.org
END:VEVENT
BEGIN:VEVENT
DTSTART:20240314T170000Z
DTEND:20240314T180000Z
DTSTAMP:20260420T075515
CREATED:20240215T184251Z
LAST-MODIFIED:20240215T184251Z
UID:25674-1710417600-1710421200@hdpusergroup.org
SUMMARY:Photonic Soldering 2
DESCRIPTION:Drop and ATC updates 
URL:https://hdpusergroup.org/event/photonic-soldering-2-19/
CATEGORIES:Photonic Soldering 2
ORGANIZER;CN=HDP:mailto:webmaster@hdpug.org
END:VEVENT
BEGIN:VEVENT
DTSTART:20240314T180000Z
DTEND:20240314T190000Z
DTSTAMP:20260420T075515
CREATED:20240306T201622Z
LAST-MODIFIED:20240306T201622Z
UID:25833-1710421200-1710424800@hdpusergroup.org
SUMMARY:PFAS Discussion
DESCRIPTION:Meeting 
URL:https://hdpusergroup.org/event/march-6-200-pm-300-pm-est-pfas-discussion/
CATEGORIES:Staff Calendar
ORGANIZER;CN=HDP:mailto:webmaster@hdpug.org
END:VEVENT
END:VCALENDAR