BEGIN:VCALENDAR
VERSION:2.0
PRODID:-//HDP User Group - ECPv6.10.1.1//NONSGML v1.0//EN
CALSCALE:GREGORIAN
METHOD:PUBLISH
X-ORIGINAL-URL:https://hdpusergroup.org
X-WR-CALDESC:Events for HDP User Group
REFRESH-INTERVAL;VALUE=DURATION:PT1H
X-Robots-Tag:noindex
X-PUBLISHED-TTL:PT1H
BEGIN:VTIMEZONE
TZID:America/Chicago
BEGIN:DAYLIGHT
TZOFFSETFROM:-0600
TZOFFSETTO:-0500
TZNAME:CDT
DTSTART:20240310T080000
END:DAYLIGHT
BEGIN:STANDARD
TZOFFSETFROM:-0500
TZOFFSETTO:-0600
TZNAME:CST
DTSTART:20241103T070000
END:STANDARD
END:VTIMEZONE
BEGIN:VEVENT
DTSTART:20240109T060000Z
DTEND:20240109T063000Z
DTSTAMP:20260420T110559
CREATED:20240109T045506Z
LAST-MODIFIED:20240109T045506Z
UID:25123-1704758400-1704760200@hdpusergroup.org
SUMMARY:WebEx new functions
DESCRIPTION:New fuctions check 
URL:https://hdpusergroup.org/event/webex-new-functions/
CATEGORIES:Staff Calendar
ORGANIZER;CN=HDP:mailto:webmaster@hdpug.org
END:VEVENT
BEGIN:VEVENT
DTSTART:20240109T170000Z
DTEND:20240109T180000Z
DTSTAMP:20260420T110559
CREATED:20231206T210945Z
LAST-MODIFIED:20231206T210945Z
UID:25069-1704798000-1704801600@hdpusergroup.org
SUMMARY:Copper Surface Roughness Model
DESCRIPTION:Project to model SI as relatrd to surface roughness of the copper 
URL:https://hdpusergroup.org/event/copper-surface-roughness-model-10/
CATEGORIES:Cu Surface Rougness Model
ORGANIZER;CN=HDP:mailto:webmaster@hdpug.org
END:VEVENT
BEGIN:VEVENT
DTSTART:20240109T180000Z
DTEND:20240109T190000Z
DTSTAMP:20260420T110559
CREATED:20231213T210331Z
LAST-MODIFIED:20231213T210331Z
UID:25095-1704801600-1704805200@hdpusergroup.org
SUMMARY:HDP Harsh Use Environment Salder Evaluations
DESCRIPTION:Periodic Project Review 
URL:https://hdpusergroup.org/event/hdp-harsh-use-environment-salder-evaluations/
CATEGORIES:Harsh Use Alloy Evaluation 2
ORGANIZER;CN=HDP:mailto:webmaster@hdpug.org
END:VEVENT
BEGIN:VEVENT
DTSTART:20240109T230000Z
DTEND:20240110T000000Z
DTSTAMP:20260420T110559
CREATED:20231226T152123Z
LAST-MODIFIED:20231226T152123Z
UID:25107-1704819600-1704823200@hdpusergroup.org
SUMMARY:Porosity
DESCRIPTION:Which porosity tests do we pursue? \nWhat are the pass/fail criteria? \nWhich finshes do we test? 
URL:https://hdpusergroup.org/event/porosity/
CATEGORIES:Porosity Testing
ORGANIZER;CN=HDP:mailto:webmaster@hdpug.org
END:VEVENT
END:VCALENDAR