BEGIN:VCALENDAR
VERSION:2.0
PRODID:-//HDP User Group - ECPv6.10.1.1//NONSGML v1.0//EN
CALSCALE:GREGORIAN
METHOD:PUBLISH
X-ORIGINAL-URL:https://hdpusergroup.org
X-WR-CALDESC:Events for HDP User Group
REFRESH-INTERVAL;VALUE=DURATION:PT1H
X-Robots-Tag:noindex
X-PUBLISHED-TTL:PT1H
BEGIN:VTIMEZONE
TZID:America/Chicago
BEGIN:DAYLIGHT
TZOFFSETFROM:-0600
TZOFFSETTO:-0500
TZNAME:CDT
DTSTART:20230312T080000
END:DAYLIGHT
BEGIN:STANDARD
TZOFFSETFROM:-0500
TZOFFSETTO:-0600
TZNAME:CST
DTSTART:20231105T070000
END:STANDARD
END:VTIMEZONE
BEGIN:VEVENT
DTSTART:20231214T160000Z
DTEND:20231214T170000Z
DTSTAMP:20260420T142933
CREATED:20231129T162842Z
LAST-MODIFIED:20231129T162842Z
UID:25008-1702548000-1702551600@hdpusergroup.org
SUMMARY:SIR Testing meeting
DESCRIPTION:Meeting 
URL:https://hdpusergroup.org/event/sir-testing-meeting-15/
CATEGORIES:Surface Insulation Resistance (SIR) Testing the Next Evolution
ORGANIZER;CN=HDP:mailto:webmaster@hdpug.org
END:VEVENT
BEGIN:VEVENT
DTSTART:20231214T180000Z
DTEND:20231214T190000Z
DTSTAMP:20260420T142933
CREATED:20231130T205907Z
LAST-MODIFIED:20231130T205907Z
UID:24963-1702555200-1702558800@hdpusergroup.org
SUMMARY:Non-glass Microvia Buildups
DESCRIPTION:Hopefully finalize presentation to BoD to ask to go to Implementation 
URL:https://hdpusergroup.org/event/non-glass-microvia-buildups-7/
CATEGORIES:Non-Glass Microvia Build-ups
ORGANIZER;CN=HDP:mailto:webmaster@hdpug.org
END:VEVENT
BEGIN:VEVENT
DTSTART:20231214T190000Z
DTEND:20231214T230000Z
DTSTAMP:20260420T142933
CREATED:20231128T132034Z
LAST-MODIFIED:20231128T132034Z
UID:24908-1702558800-1702573200@hdpusergroup.org
SUMMARY:HDP Board of Directors Performance to Op Plan Review
DESCRIPTION:HDP Board of Directors year end Performance to Operating Plan review. \nCall Information \n \nWhen it’s time\, join the Webex meetingJoin meeting \nMore ways to join:Join from the meeting linkhttps://hdpug.webex.com/hdpug/j.php?MTID=m2605351a9ee3d89e2e87cd6e40aca1f4 \nJoin by meeting numberMeeting number (access code): 2554 760 8426Meeting password: Performance2Op \nJoin by phone1-650-479-3208 Call-in toll number (US/Canada)Global call-in numbers 
URL:https://hdpusergroup.org/event/hdp-board-of-directors-performance-to-op-plan-review/
LOCATION:Virtual
CATEGORIES:Board Meetings
ORGANIZER;CN=HDP:mailto:webmaster@hdpug.org
END:VEVENT
END:VCALENDAR