BEGIN:VCALENDAR
VERSION:2.0
PRODID:-//HDP User Group - ECPv6.10.1.1//NONSGML v1.0//EN
CALSCALE:GREGORIAN
METHOD:PUBLISH
X-ORIGINAL-URL:https://hdpusergroup.org
X-WR-CALDESC:Events for HDP User Group
REFRESH-INTERVAL;VALUE=DURATION:PT1H
X-Robots-Tag:noindex
X-PUBLISHED-TTL:PT1H
BEGIN:VTIMEZONE
TZID:America/Chicago
BEGIN:DAYLIGHT
TZOFFSETFROM:-0600
TZOFFSETTO:-0500
TZNAME:CDT
DTSTART:20230312T080000
END:DAYLIGHT
BEGIN:STANDARD
TZOFFSETFROM:-0500
TZOFFSETTO:-0600
TZNAME:CST
DTSTART:20231105T070000
END:STANDARD
END:VTIMEZONE
BEGIN:VEVENT
DTSTART:20231212T170000Z
DTEND:20231212T180000Z
DTSTAMP:20260420T142907
CREATED:20231201T015631Z
LAST-MODIFIED:20231201T015631Z
UID:25035-1702378800-1702382400@hdpusergroup.org
SUMMARY:High Speed Coupon - New Project Idea
DESCRIPTION:A new project idea was proposed during HDP Member Meeting in October: High Speed Coupon Project. The current draft problem statement is:\n\n 	Develop standard test coupon for measuring insertion loss at high frequency (>53 GHz).\n 	This test coupon should address transmission\, redirection\, and reflection losses better than the existing Delta-L 4.0 test coupon footprint. New test coupon may require a special SMA connector.\n\nThe possible project scope:\n\n 	Test several very low loss materials\, by multiple fabricators.\n 	Select most appropriate high frequency test method(s) to evaluate and/or to correlate.\n\nTo participate in this project\, send email to: Karls@hdpug.org\n\nto be added to the project email list and invited to the first call on Dec. 12\,\, 2023\, at 11:00 AM CST.
URL:https://hdpusergroup.org/event/high-speed-coupon-new-project-idea/
CATEGORIES:A new test project
ORGANIZER;CN=HDP:mailto:webmaster@hdpug.org
END:VEVENT
BEGIN:VEVENT
DTSTART:20231212T180000Z
DTEND:20231212T190000Z
DTSTAMP:20260420T142907
CREATED:20231114T181753Z
LAST-MODIFIED:20231114T181753Z
UID:24967-1702382400-1702386000@hdpusergroup.org
SUMMARY:Harsh Use Alloy Evaluations Project Call
DESCRIPTION:Meeting 
URL:https://hdpusergroup.org/event/harsh-use-alloy-evaluations-project-call-5/
CATEGORIES:Harsh Use Alloy Evaluation 2
ORGANIZER;CN=HDP:mailto:webmaster@hdpug.org
END:VEVENT
BEGIN:VEVENT
DTSTART:20231212T210000Z
DTEND:20231212T220000Z
DTSTAMP:20260420T142907
CREATED:20231128T201148Z
LAST-MODIFIED:20231128T201148Z
UID:25003-1702393200-1702396800@hdpusergroup.org
SUMMARY:Photonic Soldering 2
DESCRIPTION:Drop and ATC updates 
URL:https://hdpusergroup.org/event/photonic-soldering-2-16/
CATEGORIES:Photonic Soldering 2
ORGANIZER;CN=HDP:mailto:webmaster@hdpug.org
END:VEVENT
END:VCALENDAR