BEGIN:VCALENDAR
VERSION:2.0
PRODID:-//HDP User Group - ECPv6.10.1.1//NONSGML v1.0//EN
CALSCALE:GREGORIAN
METHOD:PUBLISH
X-ORIGINAL-URL:https://hdpusergroup.org
X-WR-CALDESC:Events for HDP User Group
REFRESH-INTERVAL;VALUE=DURATION:PT1H
X-Robots-Tag:noindex
X-PUBLISHED-TTL:PT1H
BEGIN:VTIMEZONE
TZID:America/Chicago
BEGIN:DAYLIGHT
TZOFFSETFROM:-0600
TZOFFSETTO:-0500
TZNAME:CDT
DTSTART:20230312T080000
END:DAYLIGHT
BEGIN:STANDARD
TZOFFSETFROM:-0500
TZOFFSETTO:-0600
TZNAME:CST
DTSTART:20231105T070000
END:STANDARD
END:VTIMEZONE
BEGIN:VEVENT
DTSTART:20231211T160000Z
DTEND:20231211T170000Z
DTSTAMP:20260420T125013
CREATED:20231205T223718Z
LAST-MODIFIED:20231205T223718Z
UID:25062-1702288800-1702292400@hdpusergroup.org
SUMMARY:IPC / HDP collaboration
DESCRIPTION:Call to discuss collaboration UHDI 
URL:https://hdpusergroup.org/event/ipc-hdp-collaboration/
CATEGORIES:Staff Calendar
ORGANIZER;CN=HDP:mailto:webmaster@hdpug.org
END:VEVENT
BEGIN:VEVENT
DTSTART:20231212T020000Z
DTEND:20231212T030000Z
DTSTAMP:20260420T125013
CREATED:20231124T024927Z
LAST-MODIFIED:20231124T024927Z
UID:24986-1702324800-1702328400@hdpusergroup.org
SUMMARY:Wistron and HDP Introductory Meeting
DESCRIPTION:Wistron and HDP Introductory Meeting 
URL:https://hdpusergroup.org/event/wistron-and-hdp-introductory-meeting/
CATEGORIES:Staff Calendar
ORGANIZER;CN=HDP:mailto:webmaster@hdpug.org
END:VEVENT
END:VCALENDAR