BEGIN:VCALENDAR
VERSION:2.0
PRODID:-//HDP User Group - ECPv6.10.1.1//NONSGML v1.0//EN
CALSCALE:GREGORIAN
METHOD:PUBLISH
X-ORIGINAL-URL:https://hdpusergroup.org
X-WR-CALDESC:Events for HDP User Group
REFRESH-INTERVAL;VALUE=DURATION:PT1H
X-Robots-Tag:noindex
X-PUBLISHED-TTL:PT1H
BEGIN:VTIMEZONE
TZID:America/Chicago
BEGIN:DAYLIGHT
TZOFFSETFROM:-0600
TZOFFSETTO:-0500
TZNAME:CDT
DTSTART:20230312T080000
END:DAYLIGHT
BEGIN:STANDARD
TZOFFSETFROM:-0500
TZOFFSETTO:-0600
TZNAME:CST
DTSTART:20231105T070000
END:STANDARD
END:VTIMEZONE
BEGIN:VEVENT
DTSTART:20231018T130000Z
DTEND:20231018T220000Z
DTSTAMP:20260420T160707
CREATED:20231019T130753Z
LAST-MODIFIED:20231019T130753Z
UID:24381-1697616000-1697648400@hdpusergroup.org
SUMMARY:HDP October 2023 Fall Virtual Meeting
DESCRIPTION: \nThe HDP Fall Member Meeting is scheduled for October 18 and 19\, 2023.\nThis will be a virtual meeting via Webex.  To register\, click the register button on this page.  \nDay 1 is open to members and potential members. Day 2 is members only. \nIn order to assist with identifying non-member and member attendees\, HDP requests that participants join the call by entering first name\, last name\, and company name when prompted by WebEx. \nCall Ics files can be downloaded at the bottom of this page. \nDay 1 Call Infomation Meeting link:https://hdpug.webex.com/hdpug/j.php?MTID=me144e516c448611997e4ed87b200ae8b Meeting number: 2557 669 2955Password: HDPFall1 Join by phone: 1-650-479-3208 Call-in number (US/Canada)Access code: 2557 669 2955Global call-in numbers  \nDay 2 Call Infomation Meeting link:https://hdpug.webex.com/hdpug/j.php?MTID=m9b276b50149fe98e93ab430fde35a0c7 Meeting number: 2552 524 2828Password: HDPFall2  Join by phone:1-650-479-3208 Call-in number (US/Canada)Access code: 2552 524 2828Global call-in numbers  
URL:https://hdpusergroup.org/event/hdp-october-2023-fall-virtual-meeting/2023-10-18/
LOCATION:Virtual
CATEGORIES:Member Meetings
ORGANIZER;CN=HDP:mailto:webmaster@hdpug.org
END:VEVENT
END:VCALENDAR