BEGIN:VCALENDAR
VERSION:2.0
PRODID:-//HDP User Group - ECPv6.10.1.1//NONSGML v1.0//EN
CALSCALE:GREGORIAN
METHOD:PUBLISH
X-ORIGINAL-URL:https://hdpusergroup.org
X-WR-CALDESC:Events for HDP User Group
REFRESH-INTERVAL;VALUE=DURATION:PT1H
X-Robots-Tag:noindex
X-PUBLISHED-TTL:PT1H
BEGIN:VTIMEZONE
TZID:America/Chicago
BEGIN:DAYLIGHT
TZOFFSETFROM:-0600
TZOFFSETTO:-0500
TZNAME:CDT
DTSTART:20230312T080000
END:DAYLIGHT
BEGIN:STANDARD
TZOFFSETFROM:-0500
TZOFFSETTO:-0600
TZNAME:CST
DTSTART:20231105T070000
END:STANDARD
END:VTIMEZONE
BEGIN:VEVENT
DTSTART:20230823T150000Z
DTEND:20230823T160000Z
DTSTAMP:20260420T193703
CREATED:20230726T153115Z
LAST-MODIFIED:20230726T153115Z
UID:24412-1692784800-1692788400@hdpusergroup.org
SUMMARY:Materials #7 meeting
DESCRIPTION:Meeting 
URL:https://hdpusergroup.org/event/materials-7-meeting-20/
CATEGORIES:Materials #7
ORGANIZER;CN=HDP:mailto:webmaster@hdpug.org
END:VEVENT
BEGIN:VEVENT
DTSTART:20230823T170000Z
DTEND:20230823T180000Z
DTSTAMP:20260420T193703
CREATED:20230814T181934Z
LAST-MODIFIED:20230814T181934Z
UID:24384-1692792000-1692795600@hdpusergroup.org
SUMMARY:TA Method
DESCRIPTION:Review progress on final report. \nReview proposed abstract for IPC APEX 2024 \nCritique Bev’s proposed mini-presentation on the project to be given at a one day SMTA Toronto event Oct 16th. 
URL:https://hdpusergroup.org/event/ta-method-16/
CATEGORIES:Thermal Analysis Methodolgy Assessment
ORGANIZER;CN=HDP:mailto:webmaster@hdpug.org
END:VEVENT
END:VCALENDAR