BEGIN:VCALENDAR
VERSION:2.0
PRODID:-//HDP User Group - ECPv6.10.1.1//NONSGML v1.0//EN
CALSCALE:GREGORIAN
METHOD:PUBLISH
X-ORIGINAL-URL:https://hdpusergroup.org
X-WR-CALDESC:Events for HDP User Group
REFRESH-INTERVAL;VALUE=DURATION:PT1H
X-Robots-Tag:noindex
X-PUBLISHED-TTL:PT1H
BEGIN:VTIMEZONE
TZID:America/Chicago
BEGIN:DAYLIGHT
TZOFFSETFROM:-0600
TZOFFSETTO:-0500
TZNAME:CDT
DTSTART:20230312T080000
END:DAYLIGHT
BEGIN:STANDARD
TZOFFSETFROM:-0500
TZOFFSETTO:-0600
TZNAME:CST
DTSTART:20231105T070000
END:STANDARD
END:VTIMEZONE
BEGIN:VEVENT
DTSTART:20230817T140000Z
DTEND:20230817T150000Z
DTSTAMP:20260420T193647
CREATED:20230816T160528Z
LAST-MODIFIED:20230816T160528Z
UID:24507-1692262800-1692266400@hdpusergroup.org
SUMMARY:Call to discuss Cu Peel final report and Board request
DESCRIPTION:Discuss presentation and final report 
URL:https://hdpusergroup.org/event/call-to-discuss-cu-peel-final-report-and-board-request/
CATEGORIES:Staff Calendar
ORGANIZER;CN=HDP:mailto:webmaster@hdpug.org
END:VEVENT
BEGIN:VEVENT
DTSTART:20230817T150000Z
DTEND:20230817T160000Z
DTSTAMP:20260420T193647
CREATED:20230726T184036Z
LAST-MODIFIED:20230726T184036Z
UID:24415-1692266400-1692270000@hdpusergroup.org
SUMMARY:Single Surface Finish meeting
DESCRIPTION:Meeting 
URL:https://hdpusergroup.org/event/single-surface-finish-meeting-29/
CATEGORIES:Single Surface Finish for Soldered & Compression
ORGANIZER;CN=HDP:mailto:webmaster@hdpug.org
END:VEVENT
BEGIN:VEVENT
DTSTART:20230817T190000Z
DTEND:20230817T200000Z
DTSTAMP:20260420T193647
CREATED:20230727T155901Z
LAST-MODIFIED:20230727T155901Z
UID:24422-1692280800-1692284400@hdpusergroup.org
SUMMARY:Sequential Lamination
DESCRIPTION:Meeting 
URL:https://hdpusergroup.org/event/sequential-lamination-6/
CATEGORIES:Sequential Lamination
ORGANIZER;CN=HDP:mailto:webmaster@hdpug.org
END:VEVENT
END:VCALENDAR