BEGIN:VCALENDAR
VERSION:2.0
PRODID:-//HDP User Group - ECPv6.10.1.1//NONSGML v1.0//EN
CALSCALE:GREGORIAN
METHOD:PUBLISH
X-ORIGINAL-URL:https://hdpusergroup.org
X-WR-CALDESC:Events for HDP User Group
REFRESH-INTERVAL;VALUE=DURATION:PT1H
X-Robots-Tag:noindex
X-PUBLISHED-TTL:PT1H
BEGIN:VTIMEZONE
TZID:America/Chicago
BEGIN:DAYLIGHT
TZOFFSETFROM:-0600
TZOFFSETTO:-0500
TZNAME:CDT
DTSTART:20230312T080000
END:DAYLIGHT
BEGIN:STANDARD
TZOFFSETFROM:-0500
TZOFFSETTO:-0600
TZNAME:CST
DTSTART:20231105T070000
END:STANDARD
END:VTIMEZONE
BEGIN:VEVENT
DTSTART:20230816T150000Z
DTEND:20230816T160000Z
DTSTAMP:20260420T193645
CREATED:20230719T151453Z
LAST-MODIFIED:20230719T151453Z
UID:24391-1692180000-1692183600@hdpusergroup.org
SUMMARY:Microvia Rel
DESCRIPTION:Status of progress of the build 
URL:https://hdpusergroup.org/event/microvia-rel-36/
CATEGORIES:Microvia Reliability
ORGANIZER;CN=HDP:mailto:webmaster@hdpug.org
END:VEVENT
BEGIN:VEVENT
DTSTART:20230816T190000Z
DTEND:20230816T200000Z
DTSTAMP:20260420T193645
CREATED:20230802T195308Z
LAST-MODIFIED:20230802T195308Z
UID:24444-1692194400-1692198000@hdpusergroup.org
SUMMARY:Non-glass Microvia Buildups
DESCRIPTION:Examne Bob's layup \nAnyone willing to build? 
URL:https://hdpusergroup.org/event/non-glass-microvia-buildups-2/
CATEGORIES:Non-Glass Microvia Build-ups
ORGANIZER;CN=HDP:mailto:webmaster@hdpug.org
END:VEVENT
END:VCALENDAR