BEGIN:VCALENDAR
VERSION:2.0
PRODID:-//HDP User Group - ECPv6.10.1.1//NONSGML v1.0//EN
CALSCALE:GREGORIAN
METHOD:PUBLISH
X-ORIGINAL-URL:https://hdpusergroup.org
X-WR-CALDESC:Events for HDP User Group
REFRESH-INTERVAL;VALUE=DURATION:PT1H
X-Robots-Tag:noindex
X-PUBLISHED-TTL:PT1H
BEGIN:VTIMEZONE
TZID:America/Chicago
BEGIN:DAYLIGHT
TZOFFSETFROM:-0600
TZOFFSETTO:-0500
TZNAME:CDT
DTSTART:20230312T080000
END:DAYLIGHT
BEGIN:STANDARD
TZOFFSETFROM:-0500
TZOFFSETTO:-0600
TZNAME:CST
DTSTART:20231105T070000
END:STANDARD
END:VTIMEZONE
BEGIN:VEVENT
DTSTART:20230602T140000Z
DTEND:20230602T150000Z
DTSTAMP:20260423T052945
CREATED:20230512T150548Z
LAST-MODIFIED:20230512T150548Z
UID:24148-1685696400-1685700000@hdpusergroup.org
SUMMARY:Effects of Plating Thickness on CTF at IST Project Call
DESCRIPTION:Effects of Plating Thickness on CTF at IST Project Call 
URL:https://hdpusergroup.org/event/effects-of-plating-thickness-on-ctf-at-ist-project-call-27/
CATEGORIES:Effects of Plating Thickness on Cycles to Failure at IST
ORGANIZER;CN=HDP:mailto:webmaster@hdpug.org
END:VEVENT
BEGIN:VEVENT
DTSTART:20230602T150000Z
DTEND:20230602T160000Z
DTSTAMP:20260423T052945
CREATED:20230520T023655Z
LAST-MODIFIED:20230520T023655Z
UID:24176-1685700000-1685703600@hdpusergroup.org
SUMMARY:Permittivity of Cooling Liquids
DESCRIPTION:Cooling liquids are needed for certain electronic systems. what is not know is what liquids are more effective than others in terms of signal integrity and cost effectiveness. Additional concerns relate to degradation of the cabling and connectors used in these systems. 
URL:https://hdpusergroup.org/event/permittivity-of-cooling-liquids-4/
CATEGORIES:Permittivity of Cooling Liquids
ORGANIZER;CN=HDP:mailto:webmaster@hdpug.org
END:VEVENT
END:VCALENDAR