BEGIN:VCALENDAR
VERSION:2.0
PRODID:-//HDP User Group - ECPv6.10.1.1//NONSGML v1.0//EN
CALSCALE:GREGORIAN
METHOD:PUBLISH
X-ORIGINAL-URL:https://hdpusergroup.org
X-WR-CALDESC:Events for HDP User Group
REFRESH-INTERVAL;VALUE=DURATION:PT1H
X-Robots-Tag:noindex
X-PUBLISHED-TTL:PT1H
BEGIN:VTIMEZONE
TZID:America/Chicago
BEGIN:DAYLIGHT
TZOFFSETFROM:-0600
TZOFFSETTO:-0500
TZNAME:CDT
DTSTART:20230312T080000
END:DAYLIGHT
BEGIN:STANDARD
TZOFFSETFROM:-0500
TZOFFSETTO:-0600
TZNAME:CST
DTSTART:20231105T070000
END:STANDARD
END:VTIMEZONE
BEGIN:VEVENT
DTSTART:20230531T150000Z
DTEND:20230531T160000Z
DTSTAMP:20260420T231432
CREATED:20230510T155504Z
LAST-MODIFIED:20230510T155504Z
UID:24139-1685527200-1685530800@hdpusergroup.org
SUMMARY:ECM-3 Meeting
DESCRIPTION:Meeting 
URL:https://hdpusergroup.org/event/ecm-3-meeting-9/
CATEGORIES:ECM 3
ORGANIZER;CN=HDP:mailto:webmaster@hdpug.org
END:VEVENT
BEGIN:VEVENT
DTSTART:20230531T160000Z
DTEND:20230531T170000Z
DTSTAMP:20260420T231432
CREATED:20230504T160115Z
LAST-MODIFIED:20230504T160115Z
UID:24113-1685530800-1685534400@hdpusergroup.org
SUMMARY:Glass Type Comparison
DESCRIPTION:Review status/results in progress for Phase 3 
URL:https://hdpusergroup.org/event/glass-type-comparison-2/
CATEGORIES:Glass Type Composition
ORGANIZER;CN=HDP:mailto:webmaster@hdpug.org
END:VEVENT
BEGIN:VEVENT
DTSTART:20230531T170000Z
DTEND:20230531T180000Z
DTSTAMP:20260420T231432
CREATED:20230516T160806Z
LAST-MODIFIED:20230516T160806Z
UID:24163-1685534400-1685538000@hdpusergroup.org
SUMMARY:Sequential Lamination
DESCRIPTION:Meeting 
URL:https://hdpusergroup.org/event/sequential-lamination-3/
CATEGORIES:Sequential Lamination
ORGANIZER;CN=HDP:mailto:webmaster@hdpug.org
END:VEVENT
BEGIN:VEVENT
DTSTART:20230531T200000Z
DTEND:20230531T210000Z
DTSTAMP:20260420T231432
CREATED:20230503T202855Z
LAST-MODIFIED:20230503T202855Z
UID:24110-1685545200-1685548800@hdpusergroup.org
SUMMARY:Photonic Soldering II
DESCRIPTION:% Au in solder joints. \nDrop test results\, if any. \nPresentation for Japan.
URL:https://hdpusergroup.org/event/photonic-soldering-ii-20/
CATEGORIES:Photonic Soldering 2
ORGANIZER;CN=HDP:mailto:webmaster@hdpug.org
END:VEVENT
END:VCALENDAR