BEGIN:VCALENDAR
VERSION:2.0
PRODID:-//HDP User Group - ECPv6.10.1.1//NONSGML v1.0//EN
CALSCALE:GREGORIAN
METHOD:PUBLISH
X-ORIGINAL-URL:https://hdpusergroup.org
X-WR-CALDESC:Events for HDP User Group
REFRESH-INTERVAL;VALUE=DURATION:PT1H
X-Robots-Tag:noindex
X-PUBLISHED-TTL:PT1H
BEGIN:VTIMEZONE
TZID:America/Chicago
BEGIN:DAYLIGHT
TZOFFSETFROM:-0600
TZOFFSETTO:-0500
TZNAME:CDT
DTSTART:20230312T080000
END:DAYLIGHT
BEGIN:STANDARD
TZOFFSETFROM:-0500
TZOFFSETTO:-0600
TZNAME:CST
DTSTART:20231105T070000
END:STANDARD
END:VTIMEZONE
BEGIN:VEVENT
DTSTART:20230223T170000Z
DTEND:20230223T180000Z
DTSTAMP:20260421T072453
CREATED:20230210T040043Z
LAST-MODIFIED:20230210T040043Z
UID:23763-1677150000-1677153600@hdpusergroup.org
SUMMARY:Reduced Cost CAF
DESCRIPTION:CAF and ECM project 
URL:https://hdpusergroup.org/event/reduced-cost-caf-9/
CATEGORIES:Reduced Cost CAF
ORGANIZER;CN=HDP:mailto:webmaster@hdpug.org
END:VEVENT
BEGIN:VEVENT
DTSTART:20230223T190000Z
DTEND:20230223T200000Z
DTSTAMP:20260421T072453
CREATED:20230206T152410Z
LAST-MODIFIED:20230206T152410Z
UID:23672-1677157200-1677160800@hdpusergroup.org
SUMMARY:Single Surface Finish meeting
DESCRIPTION:Meeting 
URL:https://hdpusergroup.org/event/single-surface-finish-meeting-21/
CATEGORIES:Single Surface Finish for Soldered & Compression
ORGANIZER;CN=HDP:mailto:webmaster@hdpug.org
END:VEVENT
BEGIN:VEVENT
DTSTART:20230223T210000Z
DTEND:20230223T220000Z
DTSTAMP:20260421T072453
CREATED:20230203T184923Z
LAST-MODIFIED:20230203T184923Z
UID:23733-1677164400-1677168000@hdpusergroup.org
SUMMARY:Cu Surface Treatment vs Loss
DESCRIPTION:Call to discuss test results \nFinal report assignments 
URL:https://hdpusergroup.org/event/cu-surface-treatment-vs-loss-5/
CATEGORIES:Cu Grain Structure
ORGANIZER;CN=HDP:mailto:webmaster@hdpug.org
END:VEVENT
END:VCALENDAR