BEGIN:VCALENDAR
VERSION:2.0
PRODID:-//HDP User Group - ECPv6.10.1.1//NONSGML v1.0//EN
CALSCALE:GREGORIAN
METHOD:PUBLISH
X-ORIGINAL-URL:https://hdpusergroup.org
X-WR-CALDESC:Events for HDP User Group
REFRESH-INTERVAL;VALUE=DURATION:PT1H
X-Robots-Tag:noindex
X-PUBLISHED-TTL:PT1H
BEGIN:VTIMEZONE
TZID:America/Chicago
BEGIN:DAYLIGHT
TZOFFSETFROM:-0600
TZOFFSETTO:-0500
TZNAME:CDT
DTSTART:20230312T080000
END:DAYLIGHT
BEGIN:STANDARD
TZOFFSETFROM:-0500
TZOFFSETTO:-0600
TZNAME:CST
DTSTART:20231105T070000
END:STANDARD
END:VTIMEZONE
BEGIN:VEVENT
DTSTART:20230207T000000Z
DTEND:20230207T010000Z
DTSTAMP:20260421T072318
CREATED:20230110T110522Z
LAST-MODIFIED:20230110T110522Z
UID:23519-1675706400-1675710000@hdpusergroup.org
SUMMARY:LVH Lifetime Predictor for TC Project Call
DESCRIPTION:LVH Lifetime Predictor for TC Project Call 
URL:https://hdpusergroup.org/event/lvh-lifetime-predictor-for-tc-project-call-16/
CATEGORIES:LVH Lifetime Predictor for TC
ORGANIZER;CN=HDP:mailto:webmaster@hdpug.org
END:VEVENT
BEGIN:VEVENT
DTSTART:20230207T010000Z
DTEND:20230207T020000Z
DTSTAMP:20260421T072318
CREATED:20230110T020707Z
LAST-MODIFIED:20230110T020707Z
UID:23596-1675710000-1675713600@hdpusergroup.org
SUMMARY:Non-contact CF Profile Project Call
DESCRIPTION:Non-contact CF Profile Project Call 
URL:https://hdpusergroup.org/event/non-contact-cf-profile-project-call-3/
CATEGORIES:Non-Contact Copper Foil Profile
ORGANIZER;CN=HDP:mailto:webmaster@hdpug.org
END:VEVENT
END:VCALENDAR