BEGIN:VCALENDAR
VERSION:2.0
PRODID:-//HDP User Group - ECPv6.10.1.1//NONSGML v1.0//EN
CALSCALE:GREGORIAN
METHOD:PUBLISH
X-ORIGINAL-URL:https://hdpusergroup.org
X-WR-CALDESC:Events for HDP User Group
REFRESH-INTERVAL;VALUE=DURATION:PT1H
X-Robots-Tag:noindex
X-PUBLISHED-TTL:PT1H
BEGIN:VTIMEZONE
TZID:America/Chicago
BEGIN:DAYLIGHT
TZOFFSETFROM:-0600
TZOFFSETTO:-0500
TZNAME:CDT
DTSTART:20220313T080000
END:DAYLIGHT
BEGIN:STANDARD
TZOFFSETFROM:-0500
TZOFFSETTO:-0600
TZNAME:CST
DTSTART:20221106T070000
END:STANDARD
END:VTIMEZONE
BEGIN:VEVENT
DTSTART:20221116T150000Z
DTEND:20221116T160000Z
DTSTAMP:20260421T120140
CREATED:20221102T145344Z
LAST-MODIFIED:20221102T145344Z
UID:23361-1668589200-1668592800@hdpusergroup.org
SUMMARY:SIR Testing
DESCRIPTION:Meeting 
URL:https://hdpusergroup.org/event/sir-testing-4/
CATEGORIES:Surface Insulation Resistance (SIR) Testing the Next Evolution
ORGANIZER;CN=HDP:mailto:webmaster@hdpug.org
END:VEVENT
BEGIN:VEVENT
DTSTART:20221116T170000Z
DTEND:20221116T180000Z
DTSTAMP:20260421T120140
CREATED:20221031T160636Z
LAST-MODIFIED:20221031T160636Z
UID:23246-1668596400-1668600000@hdpusergroup.org
SUMMARY:Backdrill Transition telecom
DESCRIPTION:Backdrill Transition telecom change 
URL:https://hdpusergroup.org/event/backdrill-transition-telecom-3/
CATEGORIES:Back drill to Primary via Transition
ORGANIZER;CN=HDP:mailto:webmaster@hdpug.org
END:VEVENT
BEGIN:VEVENT
DTSTART:20221117T010000Z
DTEND:20221117T020000Z
DTSTAMP:20260421T120140
CREATED:20221109T130722Z
LAST-MODIFIED:20221109T130722Z
UID:23405-1668625200-1668628800@hdpusergroup.org
SUMMARY:Non Contact Copper Foil Profile Project Call
DESCRIPTION:Non Contact Copper Foil Profile Project Call 
URL:https://hdpusergroup.org/event/non-contact-copper-foil-profile-project-call/
CATEGORIES:Non-Contact Copper Foil Profile
ORGANIZER;CN=HDP:mailto:webmaster@hdpug.org
END:VEVENT
END:VCALENDAR