BEGIN:VCALENDAR
VERSION:2.0
PRODID:-//HDP User Group - ECPv6.10.1.1//NONSGML v1.0//EN
CALSCALE:GREGORIAN
METHOD:PUBLISH
X-ORIGINAL-URL:https://hdpusergroup.org
X-WR-CALDESC:Events for HDP User Group
REFRESH-INTERVAL;VALUE=DURATION:PT1H
X-Robots-Tag:noindex
X-PUBLISHED-TTL:PT1H
BEGIN:VTIMEZONE
TZID:America/Chicago
BEGIN:DAYLIGHT
TZOFFSETFROM:-0600
TZOFFSETTO:-0500
TZNAME:CDT
DTSTART:20220313T080000
END:DAYLIGHT
BEGIN:STANDARD
TZOFFSETFROM:-0500
TZOFFSETTO:-0600
TZNAME:CST
DTSTART:20221106T070000
END:STANDARD
END:VTIMEZONE
BEGIN:VEVENT
DTSTART:20221115T170000Z
DTEND:20221115T180000Z
DTSTAMP:20260421T120138
CREATED:20221031T161037Z
LAST-MODIFIED:20221031T161037Z
UID:23245-1668510000-1668513600@hdpusergroup.org
SUMMARY:Inner Layer Copper Balancing telecom
DESCRIPTION:Inner Layer Copper Balancing telecom change 
URL:https://hdpusergroup.org/event/inner-layer-copper-balancing-telecom/
CATEGORIES:Local Copper Density
ORGANIZER;CN=HDP:mailto:webmaster@hdpug.org
END:VEVENT
BEGIN:VEVENT
DTSTART:20221115T203000Z
DTEND:20221115T213000Z
DTSTAMP:20260421T120138
CREATED:20221101T204009Z
LAST-MODIFIED:20221101T204009Z
UID:23358-1668522600-1668526200@hdpusergroup.org
SUMMARY:Website Redesign Team
DESCRIPTION:Second meeting of website redesign team 
URL:https://hdpusergroup.org/event/website-redesign-team-2/
LOCATION:Virtual
CATEGORIES:Staff Calendar
ORGANIZER;CN=HDP:mailto:webmaster@hdpug.org
END:VEVENT
END:VCALENDAR