BEGIN:VCALENDAR
VERSION:2.0
PRODID:-//HDP User Group - ECPv6.10.1.1//NONSGML v1.0//EN
CALSCALE:GREGORIAN
METHOD:PUBLISH
X-ORIGINAL-URL:https://hdpusergroup.org
X-WR-CALDESC:Events for HDP User Group
REFRESH-INTERVAL;VALUE=DURATION:PT1H
X-Robots-Tag:noindex
X-PUBLISHED-TTL:PT1H
BEGIN:VTIMEZONE
TZID:America/Chicago
BEGIN:DAYLIGHT
TZOFFSETFROM:-0600
TZOFFSETTO:-0500
TZNAME:CDT
DTSTART:20220313T080000
END:DAYLIGHT
BEGIN:STANDARD
TZOFFSETFROM:-0500
TZOFFSETTO:-0600
TZNAME:CST
DTSTART:20221106T070000
END:STANDARD
END:VTIMEZONE
BEGIN:VEVENT
DTSTART:20221101T180000Z
DTEND:20221101T190000Z
DTSTAMP:20260421T120139
CREATED:20220928T210909Z
LAST-MODIFIED:20220928T210909Z
UID:23251-1667307600-1667311200@hdpusergroup.org
SUMMARY:Glass Composition
DESCRIPTION:Review status of phase 3 and oven stressing from UL 
URL:https://hdpusergroup.org/event/glass-composition-3/
CATEGORIES:Glass Type Composition
ORGANIZER;CN=HDP:mailto:webmaster@hdpug.org
END:VEVENT
BEGIN:VEVENT
DTSTART:20221101T193000Z
DTEND:20221101T203000Z
DTSTAMP:20260421T120139
CREATED:20221024T183816Z
LAST-MODIFIED:20221024T183816Z
UID:23329-1667313000-1667316600@hdpusergroup.org
SUMMARY:Website Redesign Team
DESCRIPTION:First meeting of team to review website redesign. 
URL:https://hdpusergroup.org/event/website-redesign-team/
CATEGORIES:Staff Calendar
ORGANIZER;CN=HDP:mailto:webmaster@hdpug.org
END:VEVENT
END:VCALENDAR